BEGIN:VCALENDAR
VERSION:2.0
PRODID:-//Harrigan&#039;s Cameron Park - ECPv6.15.20//NONSGML v1.0//EN
CALSCALE:GREGORIAN
METHOD:PUBLISH
X-ORIGINAL-URL:https://www.harriganscameronpark.com.au
X-WR-CALDESC:Events for Harrigan&#039;s Cameron Park
REFRESH-INTERVAL;VALUE=DURATION:PT1H
X-Robots-Tag:noindex
X-PUBLISHED-TTL:PT1H
BEGIN:VTIMEZONE
TZID:Australia/Sydney
BEGIN:STANDARD
TZOFFSETFROM:+1100
TZOFFSETTO:+1000
TZNAME:AEST
DTSTART:20250405T160000
END:STANDARD
BEGIN:DAYLIGHT
TZOFFSETFROM:+1000
TZOFFSETTO:+1100
TZNAME:AEDT
DTSTART:20251004T160000
END:DAYLIGHT
BEGIN:STANDARD
TZOFFSETFROM:+1100
TZOFFSETTO:+1000
TZNAME:AEST
DTSTART:20260404T160000
END:STANDARD
BEGIN:DAYLIGHT
TZOFFSETFROM:+1000
TZOFFSETTO:+1100
TZNAME:AEDT
DTSTART:20261003T160000
END:DAYLIGHT
BEGIN:STANDARD
TZOFFSETFROM:+1100
TZOFFSETTO:+1000
TZNAME:AEST
DTSTART:20270403T160000
END:STANDARD
BEGIN:DAYLIGHT
TZOFFSETFROM:+1000
TZOFFSETTO:+1100
TZNAME:AEDT
DTSTART:20271002T160000
END:DAYLIGHT
END:VTIMEZONE
BEGIN:VEVENT
DTSTART;TZID=Australia/Sydney:20260705T170000
DTEND;TZID=Australia/Sydney:20260705T203000
DTSTAMP:20260421T111003
CREATED:20250527T030044Z
LAST-MODIFIED:20260420T023232Z
UID:10008974-1783270800-1783283400@www.harriganscameronpark.com.au
SUMMARY:Curry Night
DESCRIPTION:Sunday night is Curry night at Harrigan’s Cameron Park. \nEnjoy a delicious curry with rice and naan for just $20!
URL:https://www.harriganscameronpark.com.au/event/curry-night/2026-07-05/
LOCATION:Harrigan’s Cameron Park\, 70 McKendry Drive\, Cameron Park\, NSW\, 2285\, Australia
CATEGORIES:Weekly Dining Specials
ATTACH;FMTTYPE=image/jpeg:https://www.harriganscameronpark.com.au/wp-content/uploads/2026/01/hcp_2026_sunday_curry_night_web_800x600.jpg
END:VEVENT
BEGIN:VEVENT
DTSTART;TZID=Australia/Sydney:20260706T113000
DTEND;TZID=Australia/Sydney:20260706T143000
DTSTAMP:20260421T111003
CREATED:20260128T084029Z
LAST-MODIFIED:20260420T023347Z
UID:10012279-1783337400-1783348200@www.harriganscameronpark.com.au
SUMMARY:Lunch Specials
DESCRIPTION:Check out our fantastic range\, including burgers\, salads\, steak\, and fish and chips!
URL:https://www.harriganscameronpark.com.au/event/lunch-specials/2026-07-06/
LOCATION:Harrigan’s Cameron Park\, 70 McKendry Drive\, Cameron Park\, NSW\, 2285\, Australia
CATEGORIES:Weekly Dining Specials
ATTACH;FMTTYPE=image/jpeg:https://www.harriganscameronpark.com.au/wp-content/uploads/2026/01/hcp_2026_weekdays_lunch_specials_web_800x600.jpg
END:VEVENT
BEGIN:VEVENT
DTSTART;TZID=Australia/Sydney:20260706T150000
DTEND;TZID=Australia/Sydney:20260706T170000
DTSTAMP:20260421T111003
CREATED:20260123T014703Z
LAST-MODIFIED:20260324T043005Z
UID:10014892-1783350000-1783357200@www.harriganscameronpark.com.au
SUMMARY:Happy Hour
DESCRIPTION:Enjoy Happy Hour every weekday from 3pm-5pm at Harrigan’s Cameron Park. \nSchooners from just $7!
URL:https://www.harriganscameronpark.com.au/event/happy-hour-5/2026-07-06/
LOCATION:Harrigan’s Cameron Park\, 70 McKendry Drive\, Cameron Park\, NSW\, 2285\, Australia
CATEGORIES:Weekly Dining Specials,Weekly Events
ATTACH;FMTTYPE=image/jpeg:https://www.harriganscameronpark.com.au/wp-content/uploads/2026/01/hcp_2026_weekday_happy_hour_web_800x600.jpg
END:VEVENT
BEGIN:VEVENT
DTSTART;TZID=Australia/Sydney:20260706T170000
DTEND;TZID=Australia/Sydney:20260706T203000
DTSTAMP:20260421T111003
CREATED:20230913T020318Z
LAST-MODIFIED:20260420T020821Z
UID:10007119-1783357200-1783369800@www.harriganscameronpark.com.au
SUMMARY:Kids Eat Free
DESCRIPTION:Kids Eat Free every Monday night at Harrigan’s Cameron Park. \nAvailable from 5pm\, purchase any adult main to redeem.
URL:https://www.harriganscameronpark.com.au/event/kids-eat-free/2026-07-06/
LOCATION:Harrigan’s Cameron Park\, 70 McKendry Drive\, Cameron Park\, NSW\, 2285\, Australia
CATEGORIES:Weekly Dining Specials
ATTACH;FMTTYPE=image/jpeg:https://www.harriganscameronpark.com.au/wp-content/uploads/2026/01/hcp_2026_monday_kids_eat_free_web_800x600.jpg
END:VEVENT
BEGIN:VEVENT
DTSTART;TZID=Australia/Sydney:20260706T170000
DTEND;TZID=Australia/Sydney:20260706T203000
DTSTAMP:20260421T111003
CREATED:20250527T025805Z
LAST-MODIFIED:20260420T020941Z
UID:10013493-1783357200-1783369800@www.harriganscameronpark.com.au
SUMMARY:Steak Night
DESCRIPTION:Monday night is steak night at Harrigan’s Cameron Park. Enjoy a 200g rump steak with two sides and your choice of sauce for just $25! \nAlso on Monday nights\, KIDS EAT FREE with the purchase of any adult main.
URL:https://www.harriganscameronpark.com.au/event/steak-night/2026-07-06/
LOCATION:Harrigan’s Cameron Park\, 70 McKendry Drive\, Cameron Park\, NSW\, 2285\, Australia
CATEGORIES:Weekly Dining Specials
ATTACH;FMTTYPE=image/jpeg:https://www.harriganscameronpark.com.au/wp-content/uploads/2026/01/hcp_2026_monday_steak_night_web_800x600.jpg
END:VEVENT
BEGIN:VEVENT
DTSTART;TZID=Australia/Sydney:20260706T170000
DTEND;TZID=Australia/Sydney:20260706T203000
DTSTAMP:20260421T111003
CREATED:20260421T002131Z
LAST-MODIFIED:20260421T005021Z
UID:10016550-1783357200-1783369800@www.harriganscameronpark.com.au
SUMMARY:$60 Family Deal
DESCRIPTION:$60 Family Deal\nTake the stress out of weeknight dinners with our $60 Family Deal! \nAvailable Monday to Friday from 5pm to 8:30pm\, this offer includes two mains\, two kids meals and a jug of soft drink\, making it the perfect option for an easy family night out. \nNeed to feed a few extra? Additional kids meals are available for just $10 each. \nChoose from the below crowd-pleasers: \nMAINS \nChicken schnitzel\nFish and chips\nSignature beef burger\nMargherita pizza\nCheeseburger supreme pizza\nDiavola pizza\nBangers and mash\nRustic caesar salad \nKIDS MEALS\nKids nuggets and chips\nKids fish and chips\nKids pizza \nBook your table today and enjoy a relaxed\, affordable family meal. \nBook Now\n\nT&Cs apply. Not available on public holidays.
URL:https://www.harriganscameronpark.com.au/event/60-family-deal/2026-07-06/
LOCATION:Harrigan’s Cameron Park\, 70 McKendry Drive\, Cameron Park\, NSW\, 2285\, Australia
CATEGORIES:Weekly Dining Specials,Weekly Events
ATTACH;FMTTYPE=image/jpeg:https://www.harriganscameronpark.com.au/wp-content/uploads/2026/04/HCP2026_046_family_meal_deal_website_800x600.jpg
END:VEVENT
BEGIN:VEVENT
DTSTART;TZID=Australia/Sydney:20260707T113000
DTEND;TZID=Australia/Sydney:20260707T143000
DTSTAMP:20260421T111003
CREATED:20260128T084029Z
LAST-MODIFIED:20260420T023347Z
UID:10012280-1783423800-1783434600@www.harriganscameronpark.com.au
SUMMARY:Lunch Specials
DESCRIPTION:Check out our fantastic range\, including burgers\, salads\, steak\, and fish and chips!
URL:https://www.harriganscameronpark.com.au/event/lunch-specials/2026-07-07/
LOCATION:Harrigan’s Cameron Park\, 70 McKendry Drive\, Cameron Park\, NSW\, 2285\, Australia
CATEGORIES:Weekly Dining Specials
ATTACH;FMTTYPE=image/jpeg:https://www.harriganscameronpark.com.au/wp-content/uploads/2026/01/hcp_2026_weekdays_lunch_specials_web_800x600.jpg
END:VEVENT
BEGIN:VEVENT
DTSTART;TZID=Australia/Sydney:20260707T150000
DTEND;TZID=Australia/Sydney:20260707T170000
DTSTAMP:20260421T111003
CREATED:20260123T014703Z
LAST-MODIFIED:20260324T043005Z
UID:10014893-1783436400-1783443600@www.harriganscameronpark.com.au
SUMMARY:Happy Hour
DESCRIPTION:Enjoy Happy Hour every weekday from 3pm-5pm at Harrigan’s Cameron Park. \nSchooners from just $7!
URL:https://www.harriganscameronpark.com.au/event/happy-hour-5/2026-07-07/
LOCATION:Harrigan’s Cameron Park\, 70 McKendry Drive\, Cameron Park\, NSW\, 2285\, Australia
CATEGORIES:Weekly Dining Specials,Weekly Events
ATTACH;FMTTYPE=image/jpeg:https://www.harriganscameronpark.com.au/wp-content/uploads/2026/01/hcp_2026_weekday_happy_hour_web_800x600.jpg
END:VEVENT
BEGIN:VEVENT
DTSTART;TZID=Australia/Sydney:20260707T170000
DTEND;TZID=Australia/Sydney:20260707T203000
DTSTAMP:20260421T111003
CREATED:20250527T025530Z
LAST-MODIFIED:20260420T023205Z
UID:10007933-1783443600-1783456200@www.harriganscameronpark.com.au
SUMMARY:Burger Night
DESCRIPTION:Tuesday night is Burger night at Harrigan’s Cameron Park. \nJoin us from 5pm for $20 burgers. Includes any burger from the menu and specials.
URL:https://www.harriganscameronpark.com.au/event/burger-night/2026-07-07/
LOCATION:Harrigan’s Cameron Park\, 70 McKendry Drive\, Cameron Park\, NSW\, 2285\, Australia
CATEGORIES:Weekly Dining Specials
ATTACH;FMTTYPE=image/jpeg:https://www.harriganscameronpark.com.au/wp-content/uploads/2026/01/hcp_2026_tuesday_burger_night_web_800x600.jpg
END:VEVENT
BEGIN:VEVENT
DTSTART;TZID=Australia/Sydney:20260707T170000
DTEND;TZID=Australia/Sydney:20260707T203000
DTSTAMP:20260421T111003
CREATED:20260421T002131Z
LAST-MODIFIED:20260421T005021Z
UID:10016551-1783443600-1783456200@www.harriganscameronpark.com.au
SUMMARY:$60 Family Deal
DESCRIPTION:$60 Family Deal\nTake the stress out of weeknight dinners with our $60 Family Deal! \nAvailable Monday to Friday from 5pm to 8:30pm\, this offer includes two mains\, two kids meals and a jug of soft drink\, making it the perfect option for an easy family night out. \nNeed to feed a few extra? Additional kids meals are available for just $10 each. \nChoose from the below crowd-pleasers: \nMAINS \nChicken schnitzel\nFish and chips\nSignature beef burger\nMargherita pizza\nCheeseburger supreme pizza\nDiavola pizza\nBangers and mash\nRustic caesar salad \nKIDS MEALS\nKids nuggets and chips\nKids fish and chips\nKids pizza \nBook your table today and enjoy a relaxed\, affordable family meal. \nBook Now\n\nT&Cs apply. Not available on public holidays.
URL:https://www.harriganscameronpark.com.au/event/60-family-deal/2026-07-07/
LOCATION:Harrigan’s Cameron Park\, 70 McKendry Drive\, Cameron Park\, NSW\, 2285\, Australia
CATEGORIES:Weekly Dining Specials,Weekly Events
ATTACH;FMTTYPE=image/jpeg:https://www.harriganscameronpark.com.au/wp-content/uploads/2026/04/HCP2026_046_family_meal_deal_website_800x600.jpg
END:VEVENT
BEGIN:VEVENT
DTSTART;TZID=Australia/Sydney:20260707T183000
DTEND;TZID=Australia/Sydney:20260707T203000
DTSTAMP:20260421T111003
CREATED:20250812T002839Z
LAST-MODIFIED:20260130T000002Z
UID:10013776-1783449000-1783456200@www.harriganscameronpark.com.au
SUMMARY:Pool Knockout Competition
DESCRIPTION:Think you have what it takes to win our pool competition? \nJoin us every Tuesday night from 6:30pm in the Sports Bar for knockout-style game\, with the winner taking home a $60 venue voucher and second place taking home a $40 venue voucher. \nThe competition will run on our house rules\, which will be on display each week. \nFREE TO ENTER
URL:https://www.harriganscameronpark.com.au/event/pool-comp/2026-07-07/
LOCATION:Harrigan’s Cameron Park\, 70 McKendry Drive\, Cameron Park\, NSW\, 2285\, Australia
CATEGORIES:Weekly Events
ATTACH;FMTTYPE=image/jpeg:https://www.harriganscameronpark.com.au/wp-content/uploads/2025/08/hcp_pool_comp_website_800x600.jpg
END:VEVENT
BEGIN:VEVENT
DTSTART;TZID=Australia/Sydney:20260708T113000
DTEND;TZID=Australia/Sydney:20260708T143000
DTSTAMP:20260421T111003
CREATED:20260128T084029Z
LAST-MODIFIED:20260420T023347Z
UID:10012281-1783510200-1783521000@www.harriganscameronpark.com.au
SUMMARY:Lunch Specials
DESCRIPTION:Check out our fantastic range\, including burgers\, salads\, steak\, and fish and chips!
URL:https://www.harriganscameronpark.com.au/event/lunch-specials/2026-07-08/
LOCATION:Harrigan’s Cameron Park\, 70 McKendry Drive\, Cameron Park\, NSW\, 2285\, Australia
CATEGORIES:Weekly Dining Specials
ATTACH;FMTTYPE=image/jpeg:https://www.harriganscameronpark.com.au/wp-content/uploads/2026/01/hcp_2026_weekdays_lunch_specials_web_800x600.jpg
END:VEVENT
BEGIN:VEVENT
DTSTART;TZID=Australia/Sydney:20260708T150000
DTEND;TZID=Australia/Sydney:20260708T170000
DTSTAMP:20260421T111003
CREATED:20260123T014703Z
LAST-MODIFIED:20260324T043005Z
UID:10014894-1783522800-1783530000@www.harriganscameronpark.com.au
SUMMARY:Happy Hour
DESCRIPTION:Enjoy Happy Hour every weekday from 3pm-5pm at Harrigan’s Cameron Park. \nSchooners from just $7!
URL:https://www.harriganscameronpark.com.au/event/happy-hour-5/2026-07-08/
LOCATION:Harrigan’s Cameron Park\, 70 McKendry Drive\, Cameron Park\, NSW\, 2285\, Australia
CATEGORIES:Weekly Dining Specials,Weekly Events
ATTACH;FMTTYPE=image/jpeg:https://www.harriganscameronpark.com.au/wp-content/uploads/2026/01/hcp_2026_weekday_happy_hour_web_800x600.jpg
END:VEVENT
BEGIN:VEVENT
DTSTART;TZID=Australia/Sydney:20260708T170000
DTEND;TZID=Australia/Sydney:20260708T203000
DTSTAMP:20260421T111003
CREATED:20230913T021055Z
LAST-MODIFIED:20260420T022819Z
UID:10016199-1783530000-1783542600@www.harriganscameronpark.com.au
SUMMARY:Schnitty Night
DESCRIPTION:Wednesday night is Schnitty Night at Harrigan’s Cameron Park. \nJoin us from 5pm for an $18 schnitzel with chips\, salad and your choice of sauce.
URL:https://www.harriganscameronpark.com.au/event/wednesday-schnitzel-night/2026-07-08/
LOCATION:Harrigan’s Cameron Park\, 70 McKendry Drive\, Cameron Park\, NSW\, 2285\, Australia
CATEGORIES:Weekly Dining Specials
ATTACH;FMTTYPE=image/jpeg:https://www.harriganscameronpark.com.au/wp-content/uploads/2026/01/hcp_2026_wednesday_schnitty_night_web_800x600.jpg
END:VEVENT
BEGIN:VEVENT
DTSTART;TZID=Australia/Sydney:20260708T170000
DTEND;TZID=Australia/Sydney:20260708T203000
DTSTAMP:20260421T111003
CREATED:20260421T002131Z
LAST-MODIFIED:20260421T005021Z
UID:10016552-1783530000-1783542600@www.harriganscameronpark.com.au
SUMMARY:$60 Family Deal
DESCRIPTION:$60 Family Deal\nTake the stress out of weeknight dinners with our $60 Family Deal! \nAvailable Monday to Friday from 5pm to 8:30pm\, this offer includes two mains\, two kids meals and a jug of soft drink\, making it the perfect option for an easy family night out. \nNeed to feed a few extra? Additional kids meals are available for just $10 each. \nChoose from the below crowd-pleasers: \nMAINS \nChicken schnitzel\nFish and chips\nSignature beef burger\nMargherita pizza\nCheeseburger supreme pizza\nDiavola pizza\nBangers and mash\nRustic caesar salad \nKIDS MEALS\nKids nuggets and chips\nKids fish and chips\nKids pizza \nBook your table today and enjoy a relaxed\, affordable family meal. \nBook Now\n\nT&Cs apply. Not available on public holidays.
URL:https://www.harriganscameronpark.com.au/event/60-family-deal/2026-07-08/
LOCATION:Harrigan’s Cameron Park\, 70 McKendry Drive\, Cameron Park\, NSW\, 2285\, Australia
CATEGORIES:Weekly Dining Specials,Weekly Events
ATTACH;FMTTYPE=image/jpeg:https://www.harriganscameronpark.com.au/wp-content/uploads/2026/04/HCP2026_046_family_meal_deal_website_800x600.jpg
END:VEVENT
BEGIN:VEVENT
DTSTART;TZID=Australia/Sydney:20260708T190000
DTEND;TZID=Australia/Sydney:20260708T203000
DTSTAMP:20260421T111003
CREATED:20240131T001940Z
LAST-MODIFIED:20260130T000749Z
UID:10014140-1783537200-1783542600@www.harriganscameronpark.com.au
SUMMARY:Trivia Night
DESCRIPTION:Win your share of $130 in Harrigan’s vouchers every Wednesday night!\nSwing by Harrigan’s Cameron Park for our weekly trivia\, on EVERY Wednesday from 7pm in the Sports Bar. \nDoes winning make you hungry? Enjoy an $18 schnitzel with chips\, salad and gravy with Schnitty Night from 5pm. \nCome on down and join us! We can’t wait to know your name. \nBook Now
URL:https://www.harriganscameronpark.com.au/event/trivia-night/2026-07-08/
LOCATION:Harrigan’s Cameron Park\, 70 McKendry Drive\, Cameron Park\, NSW\, 2285\, Australia
CATEGORIES:Weekly Events
ATTACH;FMTTYPE=image/jpeg:https://www.harriganscameronpark.com.au/wp-content/uploads/2024/01/hcp_trivia_night_website_800x600.jpg
END:VEVENT
BEGIN:VEVENT
DTSTART;TZID=Australia/Sydney:20260709T113000
DTEND;TZID=Australia/Sydney:20260709T143000
DTSTAMP:20260421T111003
CREATED:20260128T084029Z
LAST-MODIFIED:20260420T023347Z
UID:10012282-1783596600-1783607400@www.harriganscameronpark.com.au
SUMMARY:Lunch Specials
DESCRIPTION:Check out our fantastic range\, including burgers\, salads\, steak\, and fish and chips!
URL:https://www.harriganscameronpark.com.au/event/lunch-specials/2026-07-09/
LOCATION:Harrigan’s Cameron Park\, 70 McKendry Drive\, Cameron Park\, NSW\, 2285\, Australia
CATEGORIES:Weekly Dining Specials
ATTACH;FMTTYPE=image/jpeg:https://www.harriganscameronpark.com.au/wp-content/uploads/2026/01/hcp_2026_weekdays_lunch_specials_web_800x600.jpg
END:VEVENT
BEGIN:VEVENT
DTSTART;TZID=Australia/Sydney:20260709T150000
DTEND;TZID=Australia/Sydney:20260709T170000
DTSTAMP:20260421T111003
CREATED:20260123T014703Z
LAST-MODIFIED:20260324T043005Z
UID:10014895-1783609200-1783616400@www.harriganscameronpark.com.au
SUMMARY:Happy Hour
DESCRIPTION:Enjoy Happy Hour every weekday from 3pm-5pm at Harrigan’s Cameron Park. \nSchooners from just $7!
URL:https://www.harriganscameronpark.com.au/event/happy-hour-5/2026-07-09/
LOCATION:Harrigan’s Cameron Park\, 70 McKendry Drive\, Cameron Park\, NSW\, 2285\, Australia
CATEGORIES:Weekly Dining Specials,Weekly Events
ATTACH;FMTTYPE=image/jpeg:https://www.harriganscameronpark.com.au/wp-content/uploads/2026/01/hcp_2026_weekday_happy_hour_web_800x600.jpg
END:VEVENT
BEGIN:VEVENT
DTSTART;TZID=Australia/Sydney:20260709T170000
DTEND;TZID=Australia/Sydney:20260709T203000
DTSTAMP:20260421T111003
CREATED:20250527T024721Z
LAST-MODIFIED:20260420T021751Z
UID:10003950-1783616400-1783629000@www.harriganscameronpark.com.au
SUMMARY:Pizza Night
DESCRIPTION:Thursday night is Pizza night at Harrigan’s Cameron Park. \nJoin us from 5pm for a $20 pizza – dine in or takeaway! \nIncludes chef’s special or any pizza from the menu.
URL:https://www.harriganscameronpark.com.au/event/thursday-pizza-night-2/2026-07-09/
LOCATION:Harrigan’s Cameron Park\, 70 McKendry Drive\, Cameron Park\, NSW\, 2285\, Australia
CATEGORIES:Weekly Dining Specials
ATTACH;FMTTYPE=image/jpeg:https://www.harriganscameronpark.com.au/wp-content/uploads/2026/01/hcp_2026_thursday_pizza_night_web_800x600.jpg
END:VEVENT
BEGIN:VEVENT
DTSTART;TZID=Australia/Sydney:20260709T170000
DTEND;TZID=Australia/Sydney:20260709T203000
DTSTAMP:20260421T111003
CREATED:20260421T002131Z
LAST-MODIFIED:20260421T005021Z
UID:10016553-1783616400-1783629000@www.harriganscameronpark.com.au
SUMMARY:$60 Family Deal
DESCRIPTION:$60 Family Deal\nTake the stress out of weeknight dinners with our $60 Family Deal! \nAvailable Monday to Friday from 5pm to 8:30pm\, this offer includes two mains\, two kids meals and a jug of soft drink\, making it the perfect option for an easy family night out. \nNeed to feed a few extra? Additional kids meals are available for just $10 each. \nChoose from the below crowd-pleasers: \nMAINS \nChicken schnitzel\nFish and chips\nSignature beef burger\nMargherita pizza\nCheeseburger supreme pizza\nDiavola pizza\nBangers and mash\nRustic caesar salad \nKIDS MEALS\nKids nuggets and chips\nKids fish and chips\nKids pizza \nBook your table today and enjoy a relaxed\, affordable family meal. \nBook Now\n\nT&Cs apply. Not available on public holidays.
URL:https://www.harriganscameronpark.com.au/event/60-family-deal/2026-07-09/
LOCATION:Harrigan’s Cameron Park\, 70 McKendry Drive\, Cameron Park\, NSW\, 2285\, Australia
CATEGORIES:Weekly Dining Specials,Weekly Events
ATTACH;FMTTYPE=image/jpeg:https://www.harriganscameronpark.com.au/wp-content/uploads/2026/04/HCP2026_046_family_meal_deal_website_800x600.jpg
END:VEVENT
BEGIN:VEVENT
DTSTART;TZID=Australia/Sydney:20260709T190000
DTEND;TZID=Australia/Sydney:20260709T203000
DTSTAMP:20260421T111003
CREATED:20250130T222006Z
LAST-MODIFIED:20260130T010127Z
UID:10014457-1783623600-1783629000@www.harriganscameronpark.com.au
SUMMARY:Thursday Poker Night: Hosted by the APL
DESCRIPTION:♠️ Thursday Poker Night at Harrigan’s Cameron Park ♠️ \nThink you’ve got the winning hand? Join us every Thursday at 7pm (excluding public holidays) for Poker Night in the Sports Bar\, hosted by the Australian Poker League (APL)! \n💵 Buy-In: $25\n🔄 Buy-Back: $20\n🏆 Prize Pool: Minimum $500 for the winner! \nPlus\, if you’re feeling hungry\, book a table before the game and enjoy $20 Pizza Night alongside the action! Choose the chef’s special or any pizza from our menu—dine in or take it away. \nGather your mates and make it a Thursday tradition at Harrigan’s Cameron Park. See you at the tables! 🃏 \nBook Dinner Upcoming Games
URL:https://www.harriganscameronpark.com.au/event/thursday-poker-night-2/2026-07-09/
LOCATION:Harrigan’s Cameron Park\, 70 McKendry Drive\, Cameron Park\, NSW\, 2285\, Australia
CATEGORIES:Weekly Events
ATTACH;FMTTYPE=image/jpeg:https://www.harriganscameronpark.com.au/wp-content/uploads/2025/01/poker-night_website_800x600px.jpg
END:VEVENT
BEGIN:VEVENT
DTSTART;TZID=Australia/Sydney:20260709T193000
DTEND;TZID=Australia/Sydney:20260709T200000
DTSTAMP:20260421T111003
CREATED:20240226T234549Z
LAST-MODIFIED:20260130T010759Z
UID:10001456-1783625400-1783627200@www.harriganscameronpark.com.au
SUMMARY:Social Club Draw4 Cash
DESCRIPTION:Be Numero Uno & WIN CASH!\nCalling all Harrigan’s Social Club Members! Join us at Harrigan’s Cameron Park every Thursday Night at 7:30pm for your chance to win some COLD HARD CASH! \nJackpot starts at $1\,000 & increases by $100 each week until a Harrigan’s Social Club Member* wins. \nAre you not part of the club? It’s FREE to join! Sign up to the Harrigan’s Social Club HERE. \n*Member must be in the venue at the time of the draw to participate. Read the full T&Cs \nHave a bite or grab a beer while you wait – secure your table now! \nBook Now
URL:https://www.harriganscameronpark.com.au/event/social-club-draw4-cash/2026-07-09/
LOCATION:Harrigan’s Cameron Park\, 70 McKendry Drive\, Cameron Park\, NSW\, 2285\, Australia
CATEGORIES:Weekly Events
ATTACH;FMTTYPE=image/jpeg:https://www.harriganscameronpark.com.au/wp-content/uploads/2024/02/hcp_draw4cash_website_800x600.jpg
END:VEVENT
BEGIN:VEVENT
DTSTART;TZID=Australia/Sydney:20260710T113000
DTEND;TZID=Australia/Sydney:20260710T143000
DTSTAMP:20260421T111003
CREATED:20260128T084029Z
LAST-MODIFIED:20260420T023347Z
UID:10012283-1783683000-1783693800@www.harriganscameronpark.com.au
SUMMARY:Lunch Specials
DESCRIPTION:Check out our fantastic range\, including burgers\, salads\, steak\, and fish and chips!
URL:https://www.harriganscameronpark.com.au/event/lunch-specials/2026-07-10/
LOCATION:Harrigan’s Cameron Park\, 70 McKendry Drive\, Cameron Park\, NSW\, 2285\, Australia
CATEGORIES:Weekly Dining Specials
ATTACH;FMTTYPE=image/jpeg:https://www.harriganscameronpark.com.au/wp-content/uploads/2026/01/hcp_2026_weekdays_lunch_specials_web_800x600.jpg
END:VEVENT
BEGIN:VEVENT
DTSTART;TZID=Australia/Sydney:20260710T150000
DTEND;TZID=Australia/Sydney:20260710T170000
DTSTAMP:20260421T111003
CREATED:20260123T014703Z
LAST-MODIFIED:20260324T043005Z
UID:10014896-1783695600-1783702800@www.harriganscameronpark.com.au
SUMMARY:Happy Hour
DESCRIPTION:Enjoy Happy Hour every weekday from 3pm-5pm at Harrigan’s Cameron Park. \nSchooners from just $7!
URL:https://www.harriganscameronpark.com.au/event/happy-hour-5/2026-07-10/
LOCATION:Harrigan’s Cameron Park\, 70 McKendry Drive\, Cameron Park\, NSW\, 2285\, Australia
CATEGORIES:Weekly Dining Specials,Weekly Events
ATTACH;FMTTYPE=image/jpeg:https://www.harriganscameronpark.com.au/wp-content/uploads/2026/01/hcp_2026_weekday_happy_hour_web_800x600.jpg
END:VEVENT
BEGIN:VEVENT
DTSTART;TZID=Australia/Sydney:20260710T170000
DTEND;TZID=Australia/Sydney:20260710T203000
DTSTAMP:20260421T111003
CREATED:20260421T002131Z
LAST-MODIFIED:20260421T005021Z
UID:10016554-1783702800-1783715400@www.harriganscameronpark.com.au
SUMMARY:$60 Family Deal
DESCRIPTION:$60 Family Deal\nTake the stress out of weeknight dinners with our $60 Family Deal! \nAvailable Monday to Friday from 5pm to 8:30pm\, this offer includes two mains\, two kids meals and a jug of soft drink\, making it the perfect option for an easy family night out. \nNeed to feed a few extra? Additional kids meals are available for just $10 each. \nChoose from the below crowd-pleasers: \nMAINS \nChicken schnitzel\nFish and chips\nSignature beef burger\nMargherita pizza\nCheeseburger supreme pizza\nDiavola pizza\nBangers and mash\nRustic caesar salad \nKIDS MEALS\nKids nuggets and chips\nKids fish and chips\nKids pizza \nBook your table today and enjoy a relaxed\, affordable family meal. \nBook Now\n\nT&Cs apply. Not available on public holidays.
URL:https://www.harriganscameronpark.com.au/event/60-family-deal/2026-07-10/
LOCATION:Harrigan’s Cameron Park\, 70 McKendry Drive\, Cameron Park\, NSW\, 2285\, Australia
CATEGORIES:Weekly Dining Specials,Weekly Events
ATTACH;FMTTYPE=image/jpeg:https://www.harriganscameronpark.com.au/wp-content/uploads/2026/04/HCP2026_046_family_meal_deal_website_800x600.jpg
END:VEVENT
BEGIN:VEVENT
DTSTART;TZID=Australia/Sydney:20260710T200000
DTEND;TZID=Australia/Sydney:20260711T013000
DTSTAMP:20260421T111003
CREATED:20250627T020910Z
LAST-MODIFIED:20260212T025734Z
UID:10010831-1783713600-1783733400@www.harriganscameronpark.com.au
SUMMARY:Sip & Spin
DESCRIPTION:Fridays just got a whole lot better! \nKickstart your weekend every Friday night at Harrigan’s! Sip on delicious cocktails and house spirit specials while listening to the live DJ spin hits to get you on the dancefloor. \n\n2 for $25 Cocktails\, 8pm-10pm\n$7 House Spirits\, 8pm-2am\nLive DJ\, 8:30pm-1:30am
URL:https://www.harriganscameronpark.com.au/event/sip-and-spin/2026-07-10/
LOCATION:NSW
CATEGORIES:Weekly Dining Specials,Weekly Events
ATTACH;FMTTYPE=image/jpeg:https://www.harriganscameronpark.com.au/wp-content/uploads/2026/01/hcp_2026_friday_sip_spin_web_800x600.jpg
END:VEVENT
BEGIN:VEVENT
DTSTART;TZID=Australia/Sydney:20260712T170000
DTEND;TZID=Australia/Sydney:20260712T203000
DTSTAMP:20260421T111003
CREATED:20250527T030044Z
LAST-MODIFIED:20260420T023232Z
UID:10008975-1783875600-1783888200@www.harriganscameronpark.com.au
SUMMARY:Curry Night
DESCRIPTION:Sunday night is Curry night at Harrigan’s Cameron Park. \nEnjoy a delicious curry with rice and naan for just $20!
URL:https://www.harriganscameronpark.com.au/event/curry-night/2026-07-12/
LOCATION:Harrigan’s Cameron Park\, 70 McKendry Drive\, Cameron Park\, NSW\, 2285\, Australia
CATEGORIES:Weekly Dining Specials
ATTACH;FMTTYPE=image/jpeg:https://www.harriganscameronpark.com.au/wp-content/uploads/2026/01/hcp_2026_sunday_curry_night_web_800x600.jpg
END:VEVENT
BEGIN:VEVENT
DTSTART;TZID=Australia/Sydney:20260713T113000
DTEND;TZID=Australia/Sydney:20260713T143000
DTSTAMP:20260421T111003
CREATED:20260128T084029Z
LAST-MODIFIED:20260420T023347Z
UID:10012284-1783942200-1783953000@www.harriganscameronpark.com.au
SUMMARY:Lunch Specials
DESCRIPTION:Check out our fantastic range\, including burgers\, salads\, steak\, and fish and chips!
URL:https://www.harriganscameronpark.com.au/event/lunch-specials/2026-07-13/
LOCATION:Harrigan’s Cameron Park\, 70 McKendry Drive\, Cameron Park\, NSW\, 2285\, Australia
CATEGORIES:Weekly Dining Specials
ATTACH;FMTTYPE=image/jpeg:https://www.harriganscameronpark.com.au/wp-content/uploads/2026/01/hcp_2026_weekdays_lunch_specials_web_800x600.jpg
END:VEVENT
BEGIN:VEVENT
DTSTART;TZID=Australia/Sydney:20260713T150000
DTEND;TZID=Australia/Sydney:20260713T170000
DTSTAMP:20260421T111003
CREATED:20260123T014703Z
LAST-MODIFIED:20260324T043005Z
UID:10014897-1783954800-1783962000@www.harriganscameronpark.com.au
SUMMARY:Happy Hour
DESCRIPTION:Enjoy Happy Hour every weekday from 3pm-5pm at Harrigan’s Cameron Park. \nSchooners from just $7!
URL:https://www.harriganscameronpark.com.au/event/happy-hour-5/2026-07-13/
LOCATION:Harrigan’s Cameron Park\, 70 McKendry Drive\, Cameron Park\, NSW\, 2285\, Australia
CATEGORIES:Weekly Dining Specials,Weekly Events
ATTACH;FMTTYPE=image/jpeg:https://www.harriganscameronpark.com.au/wp-content/uploads/2026/01/hcp_2026_weekday_happy_hour_web_800x600.jpg
END:VEVENT
BEGIN:VEVENT
DTSTART;TZID=Australia/Sydney:20260713T170000
DTEND;TZID=Australia/Sydney:20260713T203000
DTSTAMP:20260421T111003
CREATED:20230913T020318Z
LAST-MODIFIED:20260420T020821Z
UID:10007120-1783962000-1783974600@www.harriganscameronpark.com.au
SUMMARY:Kids Eat Free
DESCRIPTION:Kids Eat Free every Monday night at Harrigan’s Cameron Park. \nAvailable from 5pm\, purchase any adult main to redeem.
URL:https://www.harriganscameronpark.com.au/event/kids-eat-free/2026-07-13/
LOCATION:Harrigan’s Cameron Park\, 70 McKendry Drive\, Cameron Park\, NSW\, 2285\, Australia
CATEGORIES:Weekly Dining Specials
ATTACH;FMTTYPE=image/jpeg:https://www.harriganscameronpark.com.au/wp-content/uploads/2026/01/hcp_2026_monday_kids_eat_free_web_800x600.jpg
END:VEVENT
END:VCALENDAR