BEGIN:VCALENDAR
VERSION:2.0
PRODID:-//Harrigan&#039;s Cameron Park - ECPv6.15.20//NONSGML v1.0//EN
CALSCALE:GREGORIAN
METHOD:PUBLISH
X-WR-CALNAME:Harrigan&#039;s Cameron Park
X-ORIGINAL-URL:https://www.harriganscameronpark.com.au
X-WR-CALDESC:Events for Harrigan&#039;s Cameron Park
REFRESH-INTERVAL;VALUE=DURATION:PT1H
X-Robots-Tag:noindex
X-PUBLISHED-TTL:PT1H
BEGIN:VTIMEZONE
TZID:Australia/Sydney
BEGIN:STANDARD
TZOFFSETFROM:+1100
TZOFFSETTO:+1000
TZNAME:AEST
DTSTART:20250405T160000
END:STANDARD
BEGIN:DAYLIGHT
TZOFFSETFROM:+1000
TZOFFSETTO:+1100
TZNAME:AEDT
DTSTART:20251004T160000
END:DAYLIGHT
BEGIN:STANDARD
TZOFFSETFROM:+1100
TZOFFSETTO:+1000
TZNAME:AEST
DTSTART:20260404T160000
END:STANDARD
BEGIN:DAYLIGHT
TZOFFSETFROM:+1000
TZOFFSETTO:+1100
TZNAME:AEDT
DTSTART:20261003T160000
END:DAYLIGHT
BEGIN:STANDARD
TZOFFSETFROM:+1100
TZOFFSETTO:+1000
TZNAME:AEST
DTSTART:20270403T160000
END:STANDARD
BEGIN:DAYLIGHT
TZOFFSETFROM:+1000
TZOFFSETTO:+1100
TZNAME:AEDT
DTSTART:20271002T160000
END:DAYLIGHT
END:VTIMEZONE
BEGIN:VEVENT
DTSTART;TZID=Australia/Sydney:20260203T150000
DTEND;TZID=Australia/Sydney:20260203T170000
DTSTAMP:20260421T094914
CREATED:20260123T013105Z
LAST-MODIFIED:20260128T230735Z
UID:10011692-1770130800-1770138000@www.harriganscameronpark.com.au
SUMMARY:Happy Hour
DESCRIPTION:Enjoy Happy Hour every weekday from 3pm-5pm at Harrigan’s Cameron Park. \nSchooners from just $7!
URL:https://www.harriganscameronpark.com.au/event/happy-hour-2/2026-02-03/
LOCATION:Harrigan’s Cameron Park\, 70 McKendry Drive\, Cameron Park\, NSW\, 2285\, Australia
CATEGORIES:Weekly Dining Specials,Weekly Events
ATTACH;FMTTYPE=image/jpeg:https://www.harriganscameronpark.com.au/wp-content/uploads/2023/09/HCP2025_041_menu_specials_web_6.jpg
END:VEVENT
BEGIN:VEVENT
DTSTART;TZID=Australia/Sydney:20260203T113000
DTEND;TZID=Australia/Sydney:20260203T143000
DTSTAMP:20260421T094914
CREATED:20260128T084029Z
LAST-MODIFIED:20260420T023347Z
UID:10012170-1770118200-1770129000@www.harriganscameronpark.com.au
SUMMARY:Lunch Specials
DESCRIPTION:Check out our fantastic range\, including burgers\, salads\, steak\, and fish and chips!
URL:https://www.harriganscameronpark.com.au/event/lunch-specials/2026-02-03/
LOCATION:Harrigan’s Cameron Park\, 70 McKendry Drive\, Cameron Park\, NSW\, 2285\, Australia
CATEGORIES:Weekly Dining Specials
ATTACH;FMTTYPE=image/jpeg:https://www.harriganscameronpark.com.au/wp-content/uploads/2026/01/hcp_2026_weekdays_lunch_specials_web_800x600.jpg
END:VEVENT
BEGIN:VEVENT
DTSTART;TZID=Australia/Sydney:20260202T170000
DTEND;TZID=Australia/Sydney:20260202T203000
DTSTAMP:20260421T094914
CREATED:20250527T025805Z
LAST-MODIFIED:20260420T020941Z
UID:10013471-1770051600-1770064200@www.harriganscameronpark.com.au
SUMMARY:Steak Night
DESCRIPTION:Monday night is steak night at Harrigan’s Cameron Park. Enjoy a 200g rump steak with two sides and your choice of sauce for just $25! \nAlso on Monday nights\, KIDS EAT FREE with the purchase of any adult main.
URL:https://www.harriganscameronpark.com.au/event/steak-night/2026-02-02/
LOCATION:Harrigan’s Cameron Park\, 70 McKendry Drive\, Cameron Park\, NSW\, 2285\, Australia
CATEGORIES:Weekly Dining Specials
ATTACH;FMTTYPE=image/jpeg:https://www.harriganscameronpark.com.au/wp-content/uploads/2026/01/hcp_2026_monday_steak_night_web_800x600.jpg
END:VEVENT
BEGIN:VEVENT
DTSTART;TZID=Australia/Sydney:20260202T170000
DTEND;TZID=Australia/Sydney:20260202T203000
DTSTAMP:20260421T094914
CREATED:20230913T020318Z
LAST-MODIFIED:20260420T020821Z
UID:10007097-1770051600-1770064200@www.harriganscameronpark.com.au
SUMMARY:Kids Eat Free
DESCRIPTION:Kids Eat Free every Monday night at Harrigan’s Cameron Park. \nAvailable from 5pm\, purchase any adult main to redeem.
URL:https://www.harriganscameronpark.com.au/event/kids-eat-free/2026-02-02/
LOCATION:Harrigan’s Cameron Park\, 70 McKendry Drive\, Cameron Park\, NSW\, 2285\, Australia
CATEGORIES:Weekly Dining Specials
ATTACH;FMTTYPE=image/jpeg:https://www.harriganscameronpark.com.au/wp-content/uploads/2026/01/hcp_2026_monday_kids_eat_free_web_800x600.jpg
END:VEVENT
BEGIN:VEVENT
DTSTART;TZID=Australia/Sydney:20260202T150000
DTEND;TZID=Australia/Sydney:20260202T170000
DTSTAMP:20260421T094914
CREATED:20260123T013105Z
LAST-MODIFIED:20260128T230735Z
UID:10011691-1770044400-1770051600@www.harriganscameronpark.com.au
SUMMARY:Happy Hour
DESCRIPTION:Enjoy Happy Hour every weekday from 3pm-5pm at Harrigan’s Cameron Park. \nSchooners from just $7!
URL:https://www.harriganscameronpark.com.au/event/happy-hour-2/2026-02-02/
LOCATION:Harrigan’s Cameron Park\, 70 McKendry Drive\, Cameron Park\, NSW\, 2285\, Australia
CATEGORIES:Weekly Dining Specials,Weekly Events
ATTACH;FMTTYPE=image/jpeg:https://www.harriganscameronpark.com.au/wp-content/uploads/2023/09/HCP2025_041_menu_specials_web_6.jpg
END:VEVENT
BEGIN:VEVENT
DTSTART;TZID=Australia/Sydney:20260202T113000
DTEND;TZID=Australia/Sydney:20260202T143000
DTSTAMP:20260421T094914
CREATED:20260128T084029Z
LAST-MODIFIED:20260420T023347Z
UID:10012169-1770031800-1770042600@www.harriganscameronpark.com.au
SUMMARY:Lunch Specials
DESCRIPTION:Check out our fantastic range\, including burgers\, salads\, steak\, and fish and chips!
URL:https://www.harriganscameronpark.com.au/event/lunch-specials/2026-02-02/
LOCATION:Harrigan’s Cameron Park\, 70 McKendry Drive\, Cameron Park\, NSW\, 2285\, Australia
CATEGORIES:Weekly Dining Specials
ATTACH;FMTTYPE=image/jpeg:https://www.harriganscameronpark.com.au/wp-content/uploads/2026/01/hcp_2026_weekdays_lunch_specials_web_800x600.jpg
END:VEVENT
BEGIN:VEVENT
DTSTART;TZID=Australia/Sydney:20260201T170000
DTEND;TZID=Australia/Sydney:20260201T203000
DTSTAMP:20260421T094914
CREATED:20250527T030044Z
LAST-MODIFIED:20260420T023232Z
UID:10008952-1769965200-1769977800@www.harriganscameronpark.com.au
SUMMARY:Curry Night
DESCRIPTION:Sunday night is Curry night at Harrigan’s Cameron Park. \nEnjoy a delicious curry with rice and naan for just $20!
URL:https://www.harriganscameronpark.com.au/event/curry-night/2026-02-01/
LOCATION:Harrigan’s Cameron Park\, 70 McKendry Drive\, Cameron Park\, NSW\, 2285\, Australia
CATEGORIES:Weekly Dining Specials
ATTACH;FMTTYPE=image/jpeg:https://www.harriganscameronpark.com.au/wp-content/uploads/2026/01/hcp_2026_sunday_curry_night_web_800x600.jpg
END:VEVENT
BEGIN:VEVENT
DTSTART;TZID=Australia/Sydney:20260201T140000
DTEND;TZID=Australia/Sydney:20260201T170000
DTSTAMP:20260421T094914
CREATED:20260201T223431Z
LAST-MODIFIED:20260201T223431Z
UID:10014710-1769954400-1769965200@www.harriganscameronpark.com.au
SUMMARY:Michael James
DESCRIPTION:Live music every weekend at Harrigan’s Cameron Park
URL:https://www.harriganscameronpark.com.au/event/michael-james-2/
LOCATION:NSW
CATEGORIES:Live Music
ATTACH;FMTTYPE=image/png:https://www.harriganscameronpark.com.au/wp-content/uploads/2025/10/Michael-James.png
END:VEVENT
BEGIN:VEVENT
DTSTART;TZID=Australia/Sydney:20260201T130000
DTEND;TZID=Australia/Sydney:20260201T190000
DTSTAMP:20260421T094914
CREATED:20260115T072457Z
LAST-MODIFIED:20260115T073302Z
UID:10011676-1769950800-1769972400@www.harriganscameronpark.com.au
SUMMARY:UFC325: Volkanovski vs Lopes 2
DESCRIPTION:UFC325: Volkanovski vs Lopes 2\nCome down to Harrigan’s Cameron Park and watch this UFC featherweight championship rematch between reigning two-time champion Alexander Volkanovski and former title challenger Diego Lopes. \nThe pair previously met at UFC 314 in April 2025\, where Volkanovski captured the vacant championship with a unanimous decision victory. \nVolkanovski will have to beat Diego Lopes again if he wants to move onto new business in his second UFC featherweight championship reign. \nWe’re showing every moment live and loud on the big screens! Round up your mates\, grab a feed\, and experience the action with the best atmosphere in Cameron Park. \n FREE entry\n Big screens\n Great food\n Cold drinks \nWe look forward to seeing you!
URL:https://www.harriganscameronpark.com.au/event/volkanovski-vs-lopes-2/
LOCATION:Harrigan’s Cameron Park\, 70 McKendry Drive\, Cameron Park\, NSW\, 2285\, Australia
CATEGORIES:Special Events,Sport Events
ATTACH;FMTTYPE=image/jpeg:https://www.harriganscameronpark.com.au/wp-content/uploads/2026/01/HCP2025_162_ufc_325_website_800x600.jpg
END:VEVENT
BEGIN:VEVENT
DTSTART;TZID=Australia/Sydney:20260131T203000
DTEND;TZID=Australia/Sydney:20260131T233000
DTSTAMP:20260421T094914
CREATED:20251231T064850Z
LAST-MODIFIED:20260115T032456Z
UID:10011669-1769891400-1769902200@www.harriganscameronpark.com.au
SUMMARY:ARGUS
DESCRIPTION:ARGUS is a dynamic and highly versatile covers band based in Newcastle\, NSW. \nComprising of four talented musicians\, each band member possesses a deep-rooted love for music\, allowing them to infuse their own unique energy and style into every song they play. \nARGUS adapts effortlessly to various settings\, offering the perfect soundscape for any audience and vibe. Their extensive repertoire spans the decades and includes contemporary chart-toppers\, soulful ballads\, energetic rock anthems\, infectious pop tunes\, and much more. \nCome and check them out at Harrigan’s Hunter Valley!
URL:https://www.harriganscameronpark.com.au/event/argus-8/
LOCATION:NSW
CATEGORIES:Live Music
ATTACH;FMTTYPE=image/jpeg:https://www.harriganscameronpark.com.au/wp-content/uploads/2023/11/Argus-1.jpg
END:VEVENT
BEGIN:VEVENT
DTSTART;TZID=Australia/Sydney:20260130T203000
DTEND;TZID=Australia/Sydney:20260131T013000
DTSTAMP:20260421T094914
CREATED:20251231T064850Z
LAST-MODIFIED:20251231T071404Z
UID:10011668-1769805000-1769823000@www.harriganscameronpark.com.au
SUMMARY:DJ SMASHUP
DESCRIPTION:Live music every weekend at Harrigan’s Cameron Park
URL:https://www.harriganscameronpark.com.au/event/dj-smashup-12/
LOCATION:NSW
CATEGORIES:Live Music
ATTACH;FMTTYPE=image/jpeg:https://www.harriganscameronpark.com.au/wp-content/uploads/2024/12/202501_dj-smashup_web-800x630px.jpg
END:VEVENT
BEGIN:VEVENT
DTSTART;TZID=Australia/Sydney:20260130T200000
DTEND;TZID=Australia/Sydney:20260131T013000
DTSTAMP:20260421T094914
CREATED:20250627T020910Z
LAST-MODIFIED:20260212T025734Z
UID:10010808-1769803200-1769823000@www.harriganscameronpark.com.au
SUMMARY:Sip & Spin
DESCRIPTION:Fridays just got a whole lot better! \nKickstart your weekend every Friday night at Harrigan’s! Sip on delicious cocktails and house spirit specials while listening to the live DJ spin hits to get you on the dancefloor. \n\n2 for $25 Cocktails\, 8pm-10pm\n$7 House Spirits\, 8pm-2am\nLive DJ\, 8:30pm-1:30am
URL:https://www.harriganscameronpark.com.au/event/sip-and-spin/2026-01-30/
LOCATION:NSW
CATEGORIES:Weekly Dining Specials,Weekly Events
ATTACH;FMTTYPE=image/jpeg:https://www.harriganscameronpark.com.au/wp-content/uploads/2026/01/hcp_2026_friday_sip_spin_web_800x600.jpg
END:VEVENT
BEGIN:VEVENT
DTSTART;TZID=Australia/Sydney:20260130T150000
DTEND;TZID=Australia/Sydney:20260130T170000
DTSTAMP:20260421T094914
CREATED:20250527T030411Z
LAST-MODIFIED:20260128T224907Z
UID:10011684-1769785200-1769792400@www.harriganscameronpark.com.au
SUMMARY:Happy Hour
DESCRIPTION:Enjoy Happy Hour every weekday from 3pm-5pm at Harrigan’s Cameron Park. \nSchooners from just $7!
URL:https://www.harriganscameronpark.com.au/event/happy-hour/2026-01-30/
LOCATION:Harrigan’s Cameron Park\, 70 McKendry Drive\, Cameron Park\, NSW\, 2285\, Australia
CATEGORIES:Weekly Dining Specials,Weekly Events
ATTACH;FMTTYPE=image/jpeg:https://www.harriganscameronpark.com.au/wp-content/uploads/2023/09/HCP2025_041_menu_specials_web_6.jpg
END:VEVENT
BEGIN:VEVENT
DTSTART;TZID=Australia/Sydney:20260130T113000
DTEND;TZID=Australia/Sydney:20260130T143000
DTSTAMP:20260421T094914
CREATED:20260128T084029Z
LAST-MODIFIED:20260420T023347Z
UID:10012168-1769772600-1769783400@www.harriganscameronpark.com.au
SUMMARY:Lunch Specials
DESCRIPTION:Check out our fantastic range\, including burgers\, salads\, steak\, and fish and chips!
URL:https://www.harriganscameronpark.com.au/event/lunch-specials/2026-01-30/
LOCATION:Harrigan’s Cameron Park\, 70 McKendry Drive\, Cameron Park\, NSW\, 2285\, Australia
CATEGORIES:Weekly Dining Specials
ATTACH;FMTTYPE=image/jpeg:https://www.harriganscameronpark.com.au/wp-content/uploads/2026/01/hcp_2026_weekdays_lunch_specials_web_800x600.jpg
END:VEVENT
BEGIN:VEVENT
DTSTART;TZID=Australia/Sydney:20260129T193000
DTEND;TZID=Australia/Sydney:20260129T200000
DTSTAMP:20260421T094914
CREATED:20240226T234549Z
LAST-MODIFIED:20260130T010759Z
UID:10001433-1769715000-1769716800@www.harriganscameronpark.com.au
SUMMARY:Social Club Draw4 Cash
DESCRIPTION:Be Numero Uno & WIN CASH!\nCalling all Harrigan’s Social Club Members! Join us at Harrigan’s Cameron Park every Thursday Night at 7:30pm for your chance to win some COLD HARD CASH! \nJackpot starts at $1\,000 & increases by $100 each week until a Harrigan’s Social Club Member* wins. \nAre you not part of the club? It’s FREE to join! Sign up to the Harrigan’s Social Club HERE. \n*Member must be in the venue at the time of the draw to participate. Read the full T&Cs \nHave a bite or grab a beer while you wait – secure your table now! \nBook Now
URL:https://www.harriganscameronpark.com.au/event/social-club-draw4-cash/2026-01-29/
LOCATION:Harrigan’s Cameron Park\, 70 McKendry Drive\, Cameron Park\, NSW\, 2285\, Australia
CATEGORIES:Weekly Events
ATTACH;FMTTYPE=image/jpeg:https://www.harriganscameronpark.com.au/wp-content/uploads/2024/02/hcp_draw4cash_website_800x600.jpg
END:VEVENT
BEGIN:VEVENT
DTSTART;TZID=Australia/Sydney:20260129T190000
DTEND;TZID=Australia/Sydney:20260129T203000
DTSTAMP:20260421T094914
CREATED:20250130T222006Z
LAST-MODIFIED:20260130T010127Z
UID:10014434-1769713200-1769718600@www.harriganscameronpark.com.au
SUMMARY:Thursday Poker Night: Hosted by the APL
DESCRIPTION:♠️ Thursday Poker Night at Harrigan’s Cameron Park ♠️ \nThink you’ve got the winning hand? Join us every Thursday at 7pm (excluding public holidays) for Poker Night in the Sports Bar\, hosted by the Australian Poker League (APL)! \n💵 Buy-In: $25\n🔄 Buy-Back: $20\n🏆 Prize Pool: Minimum $500 for the winner! \nPlus\, if you’re feeling hungry\, book a table before the game and enjoy $20 Pizza Night alongside the action! Choose the chef’s special or any pizza from our menu—dine in or take it away. \nGather your mates and make it a Thursday tradition at Harrigan’s Cameron Park. See you at the tables! 🃏 \nBook Dinner Upcoming Games
URL:https://www.harriganscameronpark.com.au/event/thursday-poker-night-2/2026-01-29/
LOCATION:Harrigan’s Cameron Park\, 70 McKendry Drive\, Cameron Park\, NSW\, 2285\, Australia
CATEGORIES:Weekly Events
ATTACH;FMTTYPE=image/jpeg:https://www.harriganscameronpark.com.au/wp-content/uploads/2025/01/poker-night_website_800x600px.jpg
END:VEVENT
BEGIN:VEVENT
DTSTART;TZID=Australia/Sydney:20260129T170000
DTEND;TZID=Australia/Sydney:20260129T203000
DTSTAMP:20260421T094914
CREATED:20250527T024721Z
LAST-MODIFIED:20260420T021751Z
UID:10003927-1769706000-1769718600@www.harriganscameronpark.com.au
SUMMARY:Pizza Night
DESCRIPTION:Thursday night is Pizza night at Harrigan’s Cameron Park. \nJoin us from 5pm for a $20 pizza – dine in or takeaway! \nIncludes chef’s special or any pizza from the menu.
URL:https://www.harriganscameronpark.com.au/event/thursday-pizza-night-2/2026-01-29/
LOCATION:Harrigan’s Cameron Park\, 70 McKendry Drive\, Cameron Park\, NSW\, 2285\, Australia
CATEGORIES:Weekly Dining Specials
ATTACH;FMTTYPE=image/jpeg:https://www.harriganscameronpark.com.au/wp-content/uploads/2026/01/hcp_2026_thursday_pizza_night_web_800x600.jpg
END:VEVENT
BEGIN:VEVENT
DTSTART;TZID=Australia/Sydney:20260129T150000
DTEND;TZID=Australia/Sydney:20260129T170000
DTSTAMP:20260421T094914
CREATED:20250527T030411Z
LAST-MODIFIED:20260128T224907Z
UID:10011683-1769698800-1769706000@www.harriganscameronpark.com.au
SUMMARY:Happy Hour
DESCRIPTION:Enjoy Happy Hour every weekday from 3pm-5pm at Harrigan’s Cameron Park. \nSchooners from just $7!
URL:https://www.harriganscameronpark.com.au/event/happy-hour/2026-01-29/
LOCATION:Harrigan’s Cameron Park\, 70 McKendry Drive\, Cameron Park\, NSW\, 2285\, Australia
CATEGORIES:Weekly Dining Specials,Weekly Events
ATTACH;FMTTYPE=image/jpeg:https://www.harriganscameronpark.com.au/wp-content/uploads/2023/09/HCP2025_041_menu_specials_web_6.jpg
END:VEVENT
BEGIN:VEVENT
DTSTART;TZID=Australia/Sydney:20260129T113000
DTEND;TZID=Australia/Sydney:20260129T143000
DTSTAMP:20260421T094914
CREATED:20260128T084029Z
LAST-MODIFIED:20260420T023347Z
UID:10012167-1769686200-1769697000@www.harriganscameronpark.com.au
SUMMARY:Lunch Specials
DESCRIPTION:Check out our fantastic range\, including burgers\, salads\, steak\, and fish and chips!
URL:https://www.harriganscameronpark.com.au/event/lunch-specials/2026-01-29/
LOCATION:Harrigan’s Cameron Park\, 70 McKendry Drive\, Cameron Park\, NSW\, 2285\, Australia
CATEGORIES:Weekly Dining Specials
ATTACH;FMTTYPE=image/jpeg:https://www.harriganscameronpark.com.au/wp-content/uploads/2026/01/hcp_2026_weekdays_lunch_specials_web_800x600.jpg
END:VEVENT
BEGIN:VEVENT
DTSTART;TZID=Australia/Sydney:20260128T190000
DTEND;TZID=Australia/Sydney:20260128T203000
DTSTAMP:20260421T094914
CREATED:20240131T001940Z
LAST-MODIFIED:20260130T000749Z
UID:10014117-1769626800-1769632200@www.harriganscameronpark.com.au
SUMMARY:Trivia Night
DESCRIPTION:Win your share of $130 in Harrigan’s vouchers every Wednesday night!\nSwing by Harrigan’s Cameron Park for our weekly trivia\, on EVERY Wednesday from 7pm in the Sports Bar. \nDoes winning make you hungry? Enjoy an $18 schnitzel with chips\, salad and gravy with Schnitty Night from 5pm. \nCome on down and join us! We can’t wait to know your name. \nBook Now
URL:https://www.harriganscameronpark.com.au/event/trivia-night/2026-01-28/
LOCATION:Harrigan’s Cameron Park\, 70 McKendry Drive\, Cameron Park\, NSW\, 2285\, Australia
CATEGORIES:Weekly Events
ATTACH;FMTTYPE=image/jpeg:https://www.harriganscameronpark.com.au/wp-content/uploads/2024/01/hcp_trivia_night_website_800x600.jpg
END:VEVENT
BEGIN:VEVENT
DTSTART;TZID=Australia/Sydney:20260128T170000
DTEND;TZID=Australia/Sydney:20260128T203000
DTSTAMP:20260421T094914
CREATED:20230913T021055Z
LAST-MODIFIED:20260420T022819Z
UID:10011758-1769619600-1769632200@www.harriganscameronpark.com.au
SUMMARY:Schnitty Night
DESCRIPTION:Wednesday night is Schnitty Night at Harrigan’s Cameron Park. \nJoin us from 5pm for an $18 schnitzel with chips\, salad and your choice of sauce.
URL:https://www.harriganscameronpark.com.au/event/wednesday-schnitzel-night/2026-01-28/
LOCATION:Harrigan’s Cameron Park\, 70 McKendry Drive\, Cameron Park\, NSW\, 2285\, Australia
CATEGORIES:Weekly Dining Specials
ATTACH;FMTTYPE=image/jpeg:https://www.harriganscameronpark.com.au/wp-content/uploads/2026/01/hcp_2026_wednesday_schnitty_night_web_800x600.jpg
END:VEVENT
BEGIN:VEVENT
DTSTART;TZID=Australia/Sydney:20260128T150000
DTEND;TZID=Australia/Sydney:20260128T170000
DTSTAMP:20260421T094914
CREATED:20250527T030411Z
LAST-MODIFIED:20260128T224907Z
UID:10011682-1769612400-1769619600@www.harriganscameronpark.com.au
SUMMARY:Happy Hour
DESCRIPTION:Enjoy Happy Hour every weekday from 3pm-5pm at Harrigan’s Cameron Park. \nSchooners from just $7!
URL:https://www.harriganscameronpark.com.au/event/happy-hour/2026-01-28/
LOCATION:Harrigan’s Cameron Park\, 70 McKendry Drive\, Cameron Park\, NSW\, 2285\, Australia
CATEGORIES:Weekly Dining Specials,Weekly Events
ATTACH;FMTTYPE=image/jpeg:https://www.harriganscameronpark.com.au/wp-content/uploads/2023/09/HCP2025_041_menu_specials_web_6.jpg
END:VEVENT
BEGIN:VEVENT
DTSTART;TZID=Australia/Sydney:20260128T120000
DTEND;TZID=Australia/Sydney:20260128T140000
DTSTAMP:20260421T094914
CREATED:20260105T045222Z
LAST-MODIFIED:20260105T045222Z
UID:10011675-1769601600-1769608800@www.harriganscameronpark.com.au
SUMMARY:Kids Zone: Kids Disco
DESCRIPTION:Run out of school holiday ideas? Let us do the entertaining! \nJoin us for two weeks of fun and free kids’ activities while you relax over lunch. We’ve got plenty on to keep the little ones smiling. All activities run from 12pm–2pm. \nWhat’s on: \n\nMonday 19 January – Paper plane making\nTuesday 20 January – Chocolate animal bingo\nWednesday 21 January – Kids disco\nTuesday 27 January – Candy number bingo\nWednesday 28 January – Kids disco\n\nBook a table for lunch\, let the kids have some fun\, and enjoy a stress-free school holiday outing at Harrigan’s Cameron Park.
URL:https://www.harriganscameronpark.com.au/event/kids-zone-kids-disco-2/
LOCATION:Harrigan’s Cameron Park\, 70 McKendry Drive\, Cameron Park\, NSW\, 2285\, Australia
CATEGORIES:Special Events
ATTACH;FMTTYPE=image/jpeg:https://www.harriganscameronpark.com.au/wp-content/uploads/2026/01/HCP2025_169_january_kids_activities_website_800x600.jpg
END:VEVENT
BEGIN:VEVENT
DTSTART;TZID=Australia/Sydney:20260128T113000
DTEND;TZID=Australia/Sydney:20260128T143000
DTSTAMP:20260421T094914
CREATED:20260128T084029Z
LAST-MODIFIED:20260420T023347Z
UID:10012166-1769599800-1769610600@www.harriganscameronpark.com.au
SUMMARY:Lunch Specials
DESCRIPTION:Check out our fantastic range\, including burgers\, salads\, steak\, and fish and chips!
URL:https://www.harriganscameronpark.com.au/event/lunch-specials/2026-01-28/
LOCATION:Harrigan’s Cameron Park\, 70 McKendry Drive\, Cameron Park\, NSW\, 2285\, Australia
CATEGORIES:Weekly Dining Specials
ATTACH;FMTTYPE=image/jpeg:https://www.harriganscameronpark.com.au/wp-content/uploads/2026/01/hcp_2026_weekdays_lunch_specials_web_800x600.jpg
END:VEVENT
BEGIN:VEVENT
DTSTART;TZID=Australia/Sydney:20260127T183000
DTEND;TZID=Australia/Sydney:20260127T203000
DTSTAMP:20260421T094914
CREATED:20250812T002839Z
LAST-MODIFIED:20260130T000002Z
UID:10013753-1769538600-1769545800@www.harriganscameronpark.com.au
SUMMARY:Pool Knockout Competition
DESCRIPTION:Think you have what it takes to win our pool competition? \nJoin us every Tuesday night from 6:30pm in the Sports Bar for knockout-style game\, with the winner taking home a $60 venue voucher and second place taking home a $40 venue voucher. \nThe competition will run on our house rules\, which will be on display each week. \nFREE TO ENTER
URL:https://www.harriganscameronpark.com.au/event/pool-comp/2026-01-27/
LOCATION:Harrigan’s Cameron Park\, 70 McKendry Drive\, Cameron Park\, NSW\, 2285\, Australia
CATEGORIES:Weekly Events
ATTACH;FMTTYPE=image/jpeg:https://www.harriganscameronpark.com.au/wp-content/uploads/2025/08/hcp_pool_comp_website_800x600.jpg
END:VEVENT
BEGIN:VEVENT
DTSTART;TZID=Australia/Sydney:20260127T170000
DTEND;TZID=Australia/Sydney:20260127T203000
DTSTAMP:20260421T094914
CREATED:20250527T025530Z
LAST-MODIFIED:20260420T023205Z
UID:10007910-1769533200-1769545800@www.harriganscameronpark.com.au
SUMMARY:Burger Night
DESCRIPTION:Tuesday night is Burger night at Harrigan’s Cameron Park. \nJoin us from 5pm for $20 burgers. Includes any burger from the menu and specials.
URL:https://www.harriganscameronpark.com.au/event/burger-night/2026-01-27/
LOCATION:Harrigan’s Cameron Park\, 70 McKendry Drive\, Cameron Park\, NSW\, 2285\, Australia
CATEGORIES:Weekly Dining Specials
ATTACH;FMTTYPE=image/jpeg:https://www.harriganscameronpark.com.au/wp-content/uploads/2026/01/hcp_2026_tuesday_burger_night_web_800x600.jpg
END:VEVENT
BEGIN:VEVENT
DTSTART;TZID=Australia/Sydney:20260127T150000
DTEND;TZID=Australia/Sydney:20260127T170000
DTSTAMP:20260421T094914
CREATED:20250527T030411Z
LAST-MODIFIED:20260128T224907Z
UID:10011681-1769526000-1769533200@www.harriganscameronpark.com.au
SUMMARY:Happy Hour
DESCRIPTION:Enjoy Happy Hour every weekday from 3pm-5pm at Harrigan’s Cameron Park. \nSchooners from just $7!
URL:https://www.harriganscameronpark.com.au/event/happy-hour/2026-01-27/
LOCATION:Harrigan’s Cameron Park\, 70 McKendry Drive\, Cameron Park\, NSW\, 2285\, Australia
CATEGORIES:Weekly Dining Specials,Weekly Events
ATTACH;FMTTYPE=image/jpeg:https://www.harriganscameronpark.com.au/wp-content/uploads/2023/09/HCP2025_041_menu_specials_web_6.jpg
END:VEVENT
BEGIN:VEVENT
DTSTART;TZID=Australia/Sydney:20260127T120000
DTEND;TZID=Australia/Sydney:20260127T140000
DTSTAMP:20260421T094914
CREATED:20260105T044747Z
LAST-MODIFIED:20260105T045322Z
UID:10011674-1769515200-1769522400@www.harriganscameronpark.com.au
SUMMARY:Kids Zone: Candy Number Bingo
DESCRIPTION:Run out of school holiday ideas? Let us do the entertaining! \nJoin us for two weeks of fun and free kids’ activities while you relax over lunch. We’ve got plenty on to keep the little ones smiling. All activities run from 12pm–2pm. \nWhat’s on: \n\nMonday 19 January – Paper plane making\nTuesday 20 January – Chocolate animal bingo\nWednesday 21 January – Kids disco\nTuesday 27 January – Candy number bingo\nWednesday 28 January – Kids disco\n\nBook a table for lunch\, let the kids have some fun\, and enjoy a stress-free school holiday outing at Harrigan’s Cameron Park.
URL:https://www.harriganscameronpark.com.au/event/kids-zone-candy-number-bingo/
LOCATION:Harrigan’s Cameron Park\, 70 McKendry Drive\, Cameron Park\, NSW\, 2285\, Australia
CATEGORIES:Special Events
ATTACH;FMTTYPE=image/jpeg:https://www.harriganscameronpark.com.au/wp-content/uploads/2026/01/HCP2025_169_january_kids_activities_website_800x600.jpg
END:VEVENT
BEGIN:VEVENT
DTSTART;TZID=Australia/Sydney:20260126T170000
DTEND;TZID=Australia/Sydney:20260126T203000
DTSTAMP:20260421T094914
CREATED:20250527T025805Z
LAST-MODIFIED:20260420T020941Z
UID:10011904-1769446800-1769459400@www.harriganscameronpark.com.au
SUMMARY:Steak Night
DESCRIPTION:Monday night is steak night at Harrigan’s Cameron Park. Enjoy a 200g rump steak with two sides and your choice of sauce for just $25! \nAlso on Monday nights\, KIDS EAT FREE with the purchase of any adult main.
URL:https://www.harriganscameronpark.com.au/event/steak-night/2026-01-26/
LOCATION:Harrigan’s Cameron Park\, 70 McKendry Drive\, Cameron Park\, NSW\, 2285\, Australia
CATEGORIES:Weekly Dining Specials
ATTACH;FMTTYPE=image/jpeg:https://www.harriganscameronpark.com.au/wp-content/uploads/2026/01/hcp_2026_monday_steak_night_web_800x600.jpg
END:VEVENT
BEGIN:VEVENT
DTSTART;TZID=Australia/Sydney:20260126T170000
DTEND;TZID=Australia/Sydney:20260126T203000
DTSTAMP:20260421T094914
CREATED:20230913T020318Z
LAST-MODIFIED:20260420T020821Z
UID:10007096-1769446800-1769459400@www.harriganscameronpark.com.au
SUMMARY:Kids Eat Free
DESCRIPTION:Kids Eat Free every Monday night at Harrigan’s Cameron Park. \nAvailable from 5pm\, purchase any adult main to redeem.
URL:https://www.harriganscameronpark.com.au/event/kids-eat-free/2026-01-26/
LOCATION:Harrigan’s Cameron Park\, 70 McKendry Drive\, Cameron Park\, NSW\, 2285\, Australia
CATEGORIES:Weekly Dining Specials
ATTACH;FMTTYPE=image/jpeg:https://www.harriganscameronpark.com.au/wp-content/uploads/2026/01/hcp_2026_monday_kids_eat_free_web_800x600.jpg
END:VEVENT
END:VCALENDAR