BEGIN:VCALENDAR
VERSION:2.0
PRODID:-//Harrigan&#039;s Cameron Park - ECPv6.15.20//NONSGML v1.0//EN
CALSCALE:GREGORIAN
METHOD:PUBLISH
X-WR-CALNAME:Harrigan&#039;s Cameron Park
X-ORIGINAL-URL:https://www.harriganscameronpark.com.au
X-WR-CALDESC:Events for Harrigan&#039;s Cameron Park
REFRESH-INTERVAL;VALUE=DURATION:PT1H
X-Robots-Tag:noindex
X-PUBLISHED-TTL:PT1H
BEGIN:VTIMEZONE
TZID:Australia/Sydney
BEGIN:STANDARD
TZOFFSETFROM:+1100
TZOFFSETTO:+1000
TZNAME:AEST
DTSTART:20240406T160000
END:STANDARD
BEGIN:DAYLIGHT
TZOFFSETFROM:+1000
TZOFFSETTO:+1100
TZNAME:AEDT
DTSTART:20241005T160000
END:DAYLIGHT
BEGIN:STANDARD
TZOFFSETFROM:+1100
TZOFFSETTO:+1000
TZNAME:AEST
DTSTART:20250405T160000
END:STANDARD
BEGIN:DAYLIGHT
TZOFFSETFROM:+1000
TZOFFSETTO:+1100
TZNAME:AEDT
DTSTART:20251004T160000
END:DAYLIGHT
BEGIN:STANDARD
TZOFFSETFROM:+1100
TZOFFSETTO:+1000
TZNAME:AEST
DTSTART:20260404T160000
END:STANDARD
BEGIN:DAYLIGHT
TZOFFSETFROM:+1000
TZOFFSETTO:+1100
TZNAME:AEDT
DTSTART:20261003T160000
END:DAYLIGHT
END:VTIMEZONE
BEGIN:VEVENT
DTSTART;TZID=Australia/Sydney:20250724T193000
DTEND;TZID=Australia/Sydney:20250724T200000
DTSTAMP:20260426T014525
CREATED:20240226T234549Z
LAST-MODIFIED:20260130T010759Z
UID:10001406-1753385400-1753387200@www.harriganscameronpark.com.au
SUMMARY:Social Club Draw4 Cash
DESCRIPTION:Be Numero Uno & WIN CASH!\nCalling all Harrigan’s Social Club Members! Join us at Harrigan’s Cameron Park every Thursday Night at 7:30pm for your chance to win some COLD HARD CASH! \nJackpot starts at $1\,000 & increases by $100 each week until a Harrigan’s Social Club Member* wins. \nAre you not part of the club? It’s FREE to join! Sign up to the Harrigan’s Social Club HERE. \n*Member must be in the venue at the time of the draw to participate. Read the full T&Cs \nHave a bite or grab a beer while you wait – secure your table now! \nBook Now
URL:https://www.harriganscameronpark.com.au/event/social-club-draw4-cash/2025-07-24/
LOCATION:Harrigan’s Cameron Park\, 70 McKendry Drive\, Cameron Park\, NSW\, 2285\, Australia
CATEGORIES:Weekly Events
ATTACH;FMTTYPE=image/jpeg:https://www.harriganscameronpark.com.au/wp-content/uploads/2024/02/hcp_draw4cash_website_800x600.jpg
END:VEVENT
BEGIN:VEVENT
DTSTART;TZID=Australia/Sydney:20250724T190000
DTEND;TZID=Australia/Sydney:20250724T203000
DTSTAMP:20260426T014525
CREATED:20250130T222006Z
LAST-MODIFIED:20260130T010127Z
UID:10014407-1753383600-1753389000@www.harriganscameronpark.com.au
SUMMARY:Thursday Poker Night: Hosted by the APL
DESCRIPTION:♠️ Thursday Poker Night at Harrigan’s Cameron Park ♠️ \nThink you’ve got the winning hand? Join us every Thursday at 7pm (excluding public holidays) for Poker Night in the Sports Bar\, hosted by the Australian Poker League (APL)! \n💵 Buy-In: $25\n🔄 Buy-Back: $20\n🏆 Prize Pool: Minimum $500 for the winner! \nPlus\, if you’re feeling hungry\, book a table before the game and enjoy $20 Pizza Night alongside the action! Choose the chef’s special or any pizza from our menu—dine in or take it away. \nGather your mates and make it a Thursday tradition at Harrigan’s Cameron Park. See you at the tables! 🃏 \nBook Dinner Upcoming Games
URL:https://www.harriganscameronpark.com.au/event/thursday-poker-night-2/2025-07-24/
LOCATION:Harrigan’s Cameron Park\, 70 McKendry Drive\, Cameron Park\, NSW\, 2285\, Australia
CATEGORIES:Weekly Events
ATTACH;FMTTYPE=image/jpeg:https://www.harriganscameronpark.com.au/wp-content/uploads/2025/01/poker-night_website_800x600px.jpg
END:VEVENT
BEGIN:VEVENT
DTSTART;TZID=Australia/Sydney:20250724T170000
DTEND;TZID=Australia/Sydney:20250724T203000
DTSTAMP:20260426T014525
CREATED:20250527T024721Z
LAST-MODIFIED:20260420T021751Z
UID:10003900-1753376400-1753389000@www.harriganscameronpark.com.au
SUMMARY:Pizza Night
DESCRIPTION:Thursday night is Pizza night at Harrigan’s Cameron Park. \nJoin us from 5pm for a $20 pizza – dine in or takeaway! \nIncludes chef’s special or any pizza from the menu.
URL:https://www.harriganscameronpark.com.au/event/thursday-pizza-night-2/2025-07-24/
LOCATION:Harrigan’s Cameron Park\, 70 McKendry Drive\, Cameron Park\, NSW\, 2285\, Australia
CATEGORIES:Weekly Dining Specials
ATTACH;FMTTYPE=image/jpeg:https://www.harriganscameronpark.com.au/wp-content/uploads/2026/01/hcp_2026_thursday_pizza_night_web_800x600.jpg
END:VEVENT
BEGIN:VEVENT
DTSTART;TZID=Australia/Sydney:20250723T190000
DTEND;TZID=Australia/Sydney:20250723T203000
DTSTAMP:20260426T014525
CREATED:20240131T001940Z
LAST-MODIFIED:20260130T000749Z
UID:10014090-1753297200-1753302600@www.harriganscameronpark.com.au
SUMMARY:Trivia Night
DESCRIPTION:Win your share of $130 in Harrigan’s vouchers every Wednesday night!\nSwing by Harrigan’s Cameron Park for our weekly trivia\, on EVERY Wednesday from 7pm in the Sports Bar. \nDoes winning make you hungry? Enjoy an $18 schnitzel with chips\, salad and gravy with Schnitty Night from 5pm. \nCome on down and join us! We can’t wait to know your name. \nBook Now
URL:https://www.harriganscameronpark.com.au/event/trivia-night/2025-07-23/
LOCATION:Harrigan’s Cameron Park\, 70 McKendry Drive\, Cameron Park\, NSW\, 2285\, Australia
CATEGORIES:Weekly Events
ATTACH;FMTTYPE=image/jpeg:https://www.harriganscameronpark.com.au/wp-content/uploads/2024/01/hcp_trivia_night_website_800x600.jpg
END:VEVENT
BEGIN:VEVENT
DTSTART;TZID=Australia/Sydney:20250723T170000
DTEND;TZID=Australia/Sydney:20250723T203000
DTSTAMP:20260426T014525
CREATED:20230913T021055Z
LAST-MODIFIED:20260420T022819Z
UID:10011731-1753290000-1753302600@www.harriganscameronpark.com.au
SUMMARY:Schnitty Night
DESCRIPTION:Wednesday night is Schnitty Night at Harrigan’s Cameron Park. \nJoin us from 5pm for an $18 schnitzel with chips\, salad and your choice of sauce.
URL:https://www.harriganscameronpark.com.au/event/wednesday-schnitzel-night/2025-07-23/
LOCATION:Harrigan’s Cameron Park\, 70 McKendry Drive\, Cameron Park\, NSW\, 2285\, Australia
CATEGORIES:Weekly Dining Specials
ATTACH;FMTTYPE=image/jpeg:https://www.harriganscameronpark.com.au/wp-content/uploads/2026/01/hcp_2026_wednesday_schnitty_night_web_800x600.jpg
END:VEVENT
BEGIN:VEVENT
DTSTART;TZID=Australia/Sydney:20250722T170000
DTEND;TZID=Australia/Sydney:20250722T203000
DTSTAMP:20260426T014525
CREATED:20250527T025530Z
LAST-MODIFIED:20260420T023205Z
UID:10007883-1753203600-1753216200@www.harriganscameronpark.com.au
SUMMARY:Burger Night
DESCRIPTION:Tuesday night is Burger night at Harrigan’s Cameron Park. \nJoin us from 5pm for $20 burgers. Includes any burger from the menu and specials.
URL:https://www.harriganscameronpark.com.au/event/burger-night/2025-07-22/
LOCATION:Harrigan’s Cameron Park\, 70 McKendry Drive\, Cameron Park\, NSW\, 2285\, Australia
CATEGORIES:Weekly Dining Specials
ATTACH;FMTTYPE=image/jpeg:https://www.harriganscameronpark.com.au/wp-content/uploads/2026/01/hcp_2026_tuesday_burger_night_web_800x600.jpg
END:VEVENT
BEGIN:VEVENT
DTSTART;TZID=Australia/Sydney:20250721T170000
DTEND;TZID=Australia/Sydney:20250721T203000
DTSTAMP:20260426T014525
CREATED:20230913T020318Z
LAST-MODIFIED:20260420T020821Z
UID:10007069-1753117200-1753129800@www.harriganscameronpark.com.au
SUMMARY:Kids Eat Free
DESCRIPTION:Kids Eat Free every Monday night at Harrigan’s Cameron Park. \nAvailable from 5pm\, purchase any adult main to redeem.
URL:https://www.harriganscameronpark.com.au/event/kids-eat-free/2025-07-21/
LOCATION:Harrigan’s Cameron Park\, 70 McKendry Drive\, Cameron Park\, NSW\, 2285\, Australia
CATEGORIES:Weekly Dining Specials
ATTACH;FMTTYPE=image/jpeg:https://www.harriganscameronpark.com.au/wp-content/uploads/2026/01/hcp_2026_monday_kids_eat_free_web_800x600.jpg
END:VEVENT
BEGIN:VEVENT
DTSTART;TZID=Australia/Sydney:20250720T170000
DTEND;TZID=Australia/Sydney:20250720T203000
DTSTAMP:20260426T014525
CREATED:20250527T030044Z
LAST-MODIFIED:20260420T023232Z
UID:10008924-1753030800-1753043400@www.harriganscameronpark.com.au
SUMMARY:Curry Night
DESCRIPTION:Sunday night is Curry night at Harrigan’s Cameron Park. \nEnjoy a delicious curry with rice and naan for just $20!
URL:https://www.harriganscameronpark.com.au/event/curry-night/2025-07-20/
LOCATION:Harrigan’s Cameron Park\, 70 McKendry Drive\, Cameron Park\, NSW\, 2285\, Australia
CATEGORIES:Weekly Dining Specials
ATTACH;FMTTYPE=image/jpeg:https://www.harriganscameronpark.com.au/wp-content/uploads/2026/01/hcp_2026_sunday_curry_night_web_800x600.jpg
END:VEVENT
BEGIN:VEVENT
DTSTART;TZID=Australia/Sydney:20250720T140000
DTEND;TZID=Australia/Sydney:20250720T170000
DTSTAMP:20260426T014525
CREATED:20250625T000337Z
LAST-MODIFIED:20250625T000337Z
UID:10010759-1753020000-1753030800@www.harriganscameronpark.com.au
SUMMARY:Austin Scott
DESCRIPTION:Live music every weekend at Harrigan’s Cameron Park
URL:https://www.harriganscameronpark.com.au/event/austin-scott-2/
LOCATION:NSW
CATEGORIES:Live Music
ATTACH;FMTTYPE=image/jpeg:https://www.harriganscameronpark.com.au/wp-content/uploads/2025/02/HCP_live_music_web_austinscott.jpg
END:VEVENT
BEGIN:VEVENT
DTSTART;TZID=Australia/Sydney:20250720T120000
DTEND;TZID=Australia/Sydney:20250720T140000
DTSTAMP:20260426T014525
CREATED:20250714T215401Z
LAST-MODIFIED:20250714T215401Z
UID:10011043-1753012800-1753020000@www.harriganscameronpark.com.au
SUMMARY:UFC 318 Holloway v Poirier 3
DESCRIPTION:Catch all the action live and loud in the Sports Bar \nThe headline bout is a blockbuster trilogy fight between two UFC legends—Max Holloway and Dustin Poirier—with the coveted BMF title on the line. Holloway\, the former featherweight king\, captured the BMF belt with a jaw-dropping knockout at UFC 300. Now\, he faces his old rival\, Poirier\, for a third time. Poirier\, a Louisiana native\, is making his final walk to the Octagon in front of his hometown fans\, adding even more emotion to this high-stakes clash. Their previous two battles were instant classics\, with Poirier holding two wins over Holloway. \nThis Double Header wouldn’t be complete without Tszyu v Fundora 2 taking to the ring from 10am.
URL:https://www.harriganscameronpark.com.au/event/holloway-v-poirier/
LOCATION:Harrigan’s Cameron Park\, 70 McKendry Drive\, Cameron Park\, NSW\, 2285\, Australia
CATEGORIES:Special Events,Sport Events
ATTACH;FMTTYPE=image/jpeg:https://www.harriganscameronpark.com.au/wp-content/uploads/2025/07/HCP2025_082_holloway_v_poirer_web_800x630.jpg
END:VEVENT
BEGIN:VEVENT
DTSTART;TZID=Australia/Sydney:20250720T100000
DTEND;TZID=Australia/Sydney:20250720T120000
DTSTAMP:20260426T014525
CREATED:20250714T215014Z
LAST-MODIFIED:20250714T215506Z
UID:10011042-1753005600-1753012800@www.harriganscameronpark.com.au
SUMMARY:Tszyu v Fundora 2
DESCRIPTION:Catch all the action live and loud in the Sports Bar \nGet ready for one of the most anticipated rematches in modern boxing as Tim Tszyu takes on Sebastian Fundora for the second time\, live from the iconic MGM Grand Garden Arena in Las Vegas on July 20. This is not just another fight—it’s a story of redemption\, revenge\, and world titles on the line\, making it an unmissable event for every fight fan. \nThe first clash between Tszyu and Fundora was a bloody\, dramatic war decided by a razor-thin split decision\, with Fundora walking away with the WBC super welterweight crown. Tszyu\, who fought valiantly despite a severe cut that left him almost blinded for 10 rounds\, is now back with a vengeance and a full training camp behind him. He’s hungry to reclaim his world champion status and prove that\, at his best\, he’s the superior fighter. \nThis Double Header wouldn’t be complete without Holloway v Poirier 3 taking to the ring from 12pm.
URL:https://www.harriganscameronpark.com.au/event/tszyu-v-fundora/
LOCATION:Harrigan’s Cameron Park\, 70 McKendry Drive\, Cameron Park\, NSW\, 2285\, Australia
CATEGORIES:Special Events,Sport Events
ATTACH;FMTTYPE=image/jpeg:https://www.harriganscameronpark.com.au/wp-content/uploads/2025/07/HCP2025_081_fundora_v_tszyu_web_800x630.jpg
END:VEVENT
BEGIN:VEVENT
DTSTART;TZID=Australia/Sydney:20250719T203000
DTEND;TZID=Australia/Sydney:20250719T233000
DTSTAMP:20260426T014525
CREATED:20250625T000337Z
LAST-MODIFIED:20250625T000337Z
UID:10010758-1752957000-1752967800@www.harriganscameronpark.com.au
SUMMARY:Argus
DESCRIPTION:Live music every weekend at Harrigan’s Cameron Park
URL:https://www.harriganscameronpark.com.au/event/argus-6/
LOCATION:NSW
CATEGORIES:Live Music
ATTACH;FMTTYPE=image/jpeg:https://www.harriganscameronpark.com.au/wp-content/uploads/2025/01/HCP_live_music_web_argus.jpg
END:VEVENT
BEGIN:VEVENT
DTSTART;TZID=Australia/Sydney:20250718T203000
DTEND;TZID=Australia/Sydney:20250719T013000
DTSTAMP:20260426T014525
CREATED:20250625T000336Z
LAST-MODIFIED:20250625T000336Z
UID:10010757-1752870600-1752888600@www.harriganscameronpark.com.au
SUMMARY:DJ Searly
DESCRIPTION:Live music every weekend at Harrigan’s Cameron Park
URL:https://www.harriganscameronpark.com.au/event/dj-searly-4/
LOCATION:NSW
CATEGORIES:Live Music
ATTACH;FMTTYPE=image/jpeg:https://www.harriganscameronpark.com.au/wp-content/uploads/2025/01/HCP_live_music_web_djsearly.jpg
END:VEVENT
BEGIN:VEVENT
DTSTART;TZID=Australia/Sydney:20250718T200000
DTEND;TZID=Australia/Sydney:20250719T013000
DTSTAMP:20260426T014525
CREATED:20250627T020910Z
LAST-MODIFIED:20260212T025734Z
UID:10010780-1752868800-1752888600@www.harriganscameronpark.com.au
SUMMARY:Sip & Spin
DESCRIPTION:Fridays just got a whole lot better! \nKickstart your weekend every Friday night at Harrigan’s! Sip on delicious cocktails and house spirit specials while listening to the live DJ spin hits to get you on the dancefloor. \n\n2 for $25 Cocktails\, 8pm-10pm\n$7 House Spirits\, 8pm-2am\nLive DJ\, 8:30pm-1:30am
URL:https://www.harriganscameronpark.com.au/event/sip-and-spin/2025-07-18/
LOCATION:NSW
CATEGORIES:Weekly Dining Specials,Weekly Events
ATTACH;FMTTYPE=image/jpeg:https://www.harriganscameronpark.com.au/wp-content/uploads/2026/01/hcp_2026_friday_sip_spin_web_800x600.jpg
END:VEVENT
BEGIN:VEVENT
DTSTART;TZID=Australia/Sydney:20250717T193000
DTEND;TZID=Australia/Sydney:20250717T200000
DTSTAMP:20260426T014525
CREATED:20240226T234549Z
LAST-MODIFIED:20260130T010759Z
UID:10001405-1752780600-1752782400@www.harriganscameronpark.com.au
SUMMARY:Social Club Draw4 Cash
DESCRIPTION:Be Numero Uno & WIN CASH!\nCalling all Harrigan’s Social Club Members! Join us at Harrigan’s Cameron Park every Thursday Night at 7:30pm for your chance to win some COLD HARD CASH! \nJackpot starts at $1\,000 & increases by $100 each week until a Harrigan’s Social Club Member* wins. \nAre you not part of the club? It’s FREE to join! Sign up to the Harrigan’s Social Club HERE. \n*Member must be in the venue at the time of the draw to participate. Read the full T&Cs \nHave a bite or grab a beer while you wait – secure your table now! \nBook Now
URL:https://www.harriganscameronpark.com.au/event/social-club-draw4-cash/2025-07-17/
LOCATION:Harrigan’s Cameron Park\, 70 McKendry Drive\, Cameron Park\, NSW\, 2285\, Australia
CATEGORIES:Weekly Events
ATTACH;FMTTYPE=image/jpeg:https://www.harriganscameronpark.com.au/wp-content/uploads/2024/02/hcp_draw4cash_website_800x600.jpg
END:VEVENT
BEGIN:VEVENT
DTSTART;TZID=Australia/Sydney:20250717T190000
DTEND;TZID=Australia/Sydney:20250717T203000
DTSTAMP:20260426T014525
CREATED:20250130T222006Z
LAST-MODIFIED:20260130T010127Z
UID:10014406-1752778800-1752784200@www.harriganscameronpark.com.au
SUMMARY:Thursday Poker Night: Hosted by the APL
DESCRIPTION:♠️ Thursday Poker Night at Harrigan’s Cameron Park ♠️ \nThink you’ve got the winning hand? Join us every Thursday at 7pm (excluding public holidays) for Poker Night in the Sports Bar\, hosted by the Australian Poker League (APL)! \n💵 Buy-In: $25\n🔄 Buy-Back: $20\n🏆 Prize Pool: Minimum $500 for the winner! \nPlus\, if you’re feeling hungry\, book a table before the game and enjoy $20 Pizza Night alongside the action! Choose the chef’s special or any pizza from our menu—dine in or take it away. \nGather your mates and make it a Thursday tradition at Harrigan’s Cameron Park. See you at the tables! 🃏 \nBook Dinner Upcoming Games
URL:https://www.harriganscameronpark.com.au/event/thursday-poker-night-2/2025-07-17/
LOCATION:Harrigan’s Cameron Park\, 70 McKendry Drive\, Cameron Park\, NSW\, 2285\, Australia
CATEGORIES:Weekly Events
ATTACH;FMTTYPE=image/jpeg:https://www.harriganscameronpark.com.au/wp-content/uploads/2025/01/poker-night_website_800x600px.jpg
END:VEVENT
BEGIN:VEVENT
DTSTART;TZID=Australia/Sydney:20250717T170000
DTEND;TZID=Australia/Sydney:20250717T203000
DTSTAMP:20260426T014525
CREATED:20250527T024721Z
LAST-MODIFIED:20260420T021751Z
UID:10003899-1752771600-1752784200@www.harriganscameronpark.com.au
SUMMARY:Pizza Night
DESCRIPTION:Thursday night is Pizza night at Harrigan’s Cameron Park. \nJoin us from 5pm for a $20 pizza – dine in or takeaway! \nIncludes chef’s special or any pizza from the menu.
URL:https://www.harriganscameronpark.com.au/event/thursday-pizza-night-2/2025-07-17/
LOCATION:Harrigan’s Cameron Park\, 70 McKendry Drive\, Cameron Park\, NSW\, 2285\, Australia
CATEGORIES:Weekly Dining Specials
ATTACH;FMTTYPE=image/jpeg:https://www.harriganscameronpark.com.au/wp-content/uploads/2026/01/hcp_2026_thursday_pizza_night_web_800x600.jpg
END:VEVENT
BEGIN:VEVENT
DTSTART;TZID=Australia/Sydney:20250716T190000
DTEND;TZID=Australia/Sydney:20250716T203000
DTSTAMP:20260426T014525
CREATED:20240131T001940Z
LAST-MODIFIED:20260130T000749Z
UID:10014089-1752692400-1752697800@www.harriganscameronpark.com.au
SUMMARY:Trivia Night
DESCRIPTION:Win your share of $130 in Harrigan’s vouchers every Wednesday night!\nSwing by Harrigan’s Cameron Park for our weekly trivia\, on EVERY Wednesday from 7pm in the Sports Bar. \nDoes winning make you hungry? Enjoy an $18 schnitzel with chips\, salad and gravy with Schnitty Night from 5pm. \nCome on down and join us! We can’t wait to know your name. \nBook Now
URL:https://www.harriganscameronpark.com.au/event/trivia-night/2025-07-16/
LOCATION:Harrigan’s Cameron Park\, 70 McKendry Drive\, Cameron Park\, NSW\, 2285\, Australia
CATEGORIES:Weekly Events
ATTACH;FMTTYPE=image/jpeg:https://www.harriganscameronpark.com.au/wp-content/uploads/2024/01/hcp_trivia_night_website_800x600.jpg
END:VEVENT
BEGIN:VEVENT
DTSTART;TZID=Australia/Sydney:20250716T170000
DTEND;TZID=Australia/Sydney:20250716T203000
DTSTAMP:20260426T014525
CREATED:20230913T021055Z
LAST-MODIFIED:20260420T022819Z
UID:10011730-1752685200-1752697800@www.harriganscameronpark.com.au
SUMMARY:Schnitty Night
DESCRIPTION:Wednesday night is Schnitty Night at Harrigan’s Cameron Park. \nJoin us from 5pm for an $18 schnitzel with chips\, salad and your choice of sauce.
URL:https://www.harriganscameronpark.com.au/event/wednesday-schnitzel-night/2025-07-16/
LOCATION:Harrigan’s Cameron Park\, 70 McKendry Drive\, Cameron Park\, NSW\, 2285\, Australia
CATEGORIES:Weekly Dining Specials
ATTACH;FMTTYPE=image/jpeg:https://www.harriganscameronpark.com.au/wp-content/uploads/2026/01/hcp_2026_wednesday_schnitty_night_web_800x600.jpg
END:VEVENT
BEGIN:VEVENT
DTSTART;TZID=Australia/Sydney:20250716T120000
DTEND;TZID=Australia/Sydney:20250716T140000
DTSTAMP:20260426T014525
CREATED:20250625T020936Z
LAST-MODIFIED:20250625T021247Z
UID:10010768-1752667200-1752674400@www.harriganscameronpark.com.au
SUMMARY:School Holidays
DESCRIPTION:The school holidays are upon us\, and what better way to celebrate than at your local!\nWith a lineup of exciting\, free activities to keep the kids entertained\, plus $16 lunch specials\, you won’t need to plan a thing! \n\nMonday 7th July\, 12pm-2pm: Foam Aeroplanes\nTuesday 8th July\, 12pm-2pm: Face Painting\nWednesday 9th July\, 12pm-2pm: Disco\nMonday 14th July\, 12pm-2pm: Foam Aeroplanes\nTuesday 15th July\, 12pm-2pm: Plaster Painting\nWednesday 16th July\, 12pm-2pm: Disco\n\nLet us take the stress out of the school break. \nBook Now
URL:https://www.harriganscameronpark.com.au/event/school-holidays/2025-07-16/
LOCATION:Harrigan’s Cameron Park\, 70 McKendry Drive\, Cameron Park\, NSW\, 2285\, Australia
CATEGORIES:Special Events
ATTACH;FMTTYPE=image/jpeg:https://www.harriganscameronpark.com.au/wp-content/uploads/2025/06/HCP2025_075_school_holiday_activities_web_800x630.jpg
END:VEVENT
BEGIN:VEVENT
DTSTART;TZID=Australia/Sydney:20250715T190000
DTEND;TZID=Australia/Sydney:20250715T203000
DTSTAMP:20260426T014525
CREATED:20241028T004039Z
LAST-MODIFIED:20250715T051836Z
UID:10004768-1752606000-1752611400@www.harriganscameronpark.com.au
SUMMARY:Musical Bingo
DESCRIPTION:🎶 Tuesday Musical Bingo at Harrigan’s Cameron Park 🎶 \nBring the family for a fun-filled night of Musical Bingo every Tuesday from 7pm to 8:30pm (excluding public holidays) in our Sports Bar! Test your music knowledge and enjoy a chance to win a share of $130 in Harrigan’s Cameron Park vouchers! \n✨ When: Tuesdays\, 7pm-8:30pm\n🍝 Dinner Special: $20 Pasta Special created by our chefs from 5pm \nNo bookings required — just bring your listening ears and love of music! \nBook Dinner What’s On
URL:https://www.harriganscameronpark.com.au/event/musical-bingo-2/
LOCATION:Harrigan’s Cameron Park\, 70 McKendry Drive\, Cameron Park\, NSW\, 2285\, Australia
CATEGORIES:Special Events
ATTACH;FMTTYPE=image/jpeg:https://www.harriganscameronpark.com.au/wp-content/uploads/2024/10/CP2024_158_musical-bingo_web_800x630px.jpg
END:VEVENT
BEGIN:VEVENT
DTSTART;TZID=Australia/Sydney:20250715T170000
DTEND;TZID=Australia/Sydney:20250715T203000
DTSTAMP:20260426T014525
CREATED:20250527T025530Z
LAST-MODIFIED:20260420T023205Z
UID:10007882-1752598800-1752611400@www.harriganscameronpark.com.au
SUMMARY:Burger Night
DESCRIPTION:Tuesday night is Burger night at Harrigan’s Cameron Park. \nJoin us from 5pm for $20 burgers. Includes any burger from the menu and specials.
URL:https://www.harriganscameronpark.com.au/event/burger-night/2025-07-15/
LOCATION:Harrigan’s Cameron Park\, 70 McKendry Drive\, Cameron Park\, NSW\, 2285\, Australia
CATEGORIES:Weekly Dining Specials
ATTACH;FMTTYPE=image/jpeg:https://www.harriganscameronpark.com.au/wp-content/uploads/2026/01/hcp_2026_tuesday_burger_night_web_800x600.jpg
END:VEVENT
BEGIN:VEVENT
DTSTART;TZID=Australia/Sydney:20250715T120000
DTEND;TZID=Australia/Sydney:20250715T140000
DTSTAMP:20260426T014525
CREATED:20250625T020936Z
LAST-MODIFIED:20250625T021247Z
UID:10010767-1752580800-1752588000@www.harriganscameronpark.com.au
SUMMARY:School Holidays
DESCRIPTION:The school holidays are upon us\, and what better way to celebrate than at your local!\nWith a lineup of exciting\, free activities to keep the kids entertained\, plus $16 lunch specials\, you won’t need to plan a thing! \n\nMonday 7th July\, 12pm-2pm: Foam Aeroplanes\nTuesday 8th July\, 12pm-2pm: Face Painting\nWednesday 9th July\, 12pm-2pm: Disco\nMonday 14th July\, 12pm-2pm: Foam Aeroplanes\nTuesday 15th July\, 12pm-2pm: Plaster Painting\nWednesday 16th July\, 12pm-2pm: Disco\n\nLet us take the stress out of the school break. \nBook Now
URL:https://www.harriganscameronpark.com.au/event/school-holidays/2025-07-15/
LOCATION:Harrigan’s Cameron Park\, 70 McKendry Drive\, Cameron Park\, NSW\, 2285\, Australia
CATEGORIES:Special Events
ATTACH;FMTTYPE=image/jpeg:https://www.harriganscameronpark.com.au/wp-content/uploads/2025/06/HCP2025_075_school_holiday_activities_web_800x630.jpg
END:VEVENT
BEGIN:VEVENT
DTSTART;TZID=Australia/Sydney:20250714T170000
DTEND;TZID=Australia/Sydney:20250714T203000
DTSTAMP:20260426T014525
CREATED:20230913T020318Z
LAST-MODIFIED:20260420T020821Z
UID:10007068-1752512400-1752525000@www.harriganscameronpark.com.au
SUMMARY:Kids Eat Free
DESCRIPTION:Kids Eat Free every Monday night at Harrigan’s Cameron Park. \nAvailable from 5pm\, purchase any adult main to redeem.
URL:https://www.harriganscameronpark.com.au/event/kids-eat-free/2025-07-14/
LOCATION:Harrigan’s Cameron Park\, 70 McKendry Drive\, Cameron Park\, NSW\, 2285\, Australia
CATEGORIES:Weekly Dining Specials
ATTACH;FMTTYPE=image/jpeg:https://www.harriganscameronpark.com.au/wp-content/uploads/2026/01/hcp_2026_monday_kids_eat_free_web_800x600.jpg
END:VEVENT
BEGIN:VEVENT
DTSTART;TZID=Australia/Sydney:20250714T120000
DTEND;TZID=Australia/Sydney:20250714T140000
DTSTAMP:20260426T014525
CREATED:20250625T020936Z
LAST-MODIFIED:20250625T021247Z
UID:10010766-1752494400-1752501600@www.harriganscameronpark.com.au
SUMMARY:School Holidays
DESCRIPTION:The school holidays are upon us\, and what better way to celebrate than at your local!\nWith a lineup of exciting\, free activities to keep the kids entertained\, plus $16 lunch specials\, you won’t need to plan a thing! \n\nMonday 7th July\, 12pm-2pm: Foam Aeroplanes\nTuesday 8th July\, 12pm-2pm: Face Painting\nWednesday 9th July\, 12pm-2pm: Disco\nMonday 14th July\, 12pm-2pm: Foam Aeroplanes\nTuesday 15th July\, 12pm-2pm: Plaster Painting\nWednesday 16th July\, 12pm-2pm: Disco\n\nLet us take the stress out of the school break. \nBook Now
URL:https://www.harriganscameronpark.com.au/event/school-holidays/2025-07-14/
LOCATION:Harrigan’s Cameron Park\, 70 McKendry Drive\, Cameron Park\, NSW\, 2285\, Australia
CATEGORIES:Special Events
ATTACH;FMTTYPE=image/jpeg:https://www.harriganscameronpark.com.au/wp-content/uploads/2025/06/HCP2025_075_school_holiday_activities_web_800x630.jpg
END:VEVENT
BEGIN:VEVENT
DTSTART;TZID=Australia/Sydney:20250713T170000
DTEND;TZID=Australia/Sydney:20250713T203000
DTSTAMP:20260426T014525
CREATED:20250527T030044Z
LAST-MODIFIED:20260420T023232Z
UID:10008923-1752426000-1752438600@www.harriganscameronpark.com.au
SUMMARY:Curry Night
DESCRIPTION:Sunday night is Curry night at Harrigan’s Cameron Park. \nEnjoy a delicious curry with rice and naan for just $20!
URL:https://www.harriganscameronpark.com.au/event/curry-night/2025-07-13/
LOCATION:Harrigan’s Cameron Park\, 70 McKendry Drive\, Cameron Park\, NSW\, 2285\, Australia
CATEGORIES:Weekly Dining Specials
ATTACH;FMTTYPE=image/jpeg:https://www.harriganscameronpark.com.au/wp-content/uploads/2026/01/hcp_2026_sunday_curry_night_web_800x600.jpg
END:VEVENT
BEGIN:VEVENT
DTSTART;TZID=Australia/Sydney:20250713T140000
DTEND;TZID=Australia/Sydney:20250713T170000
DTSTAMP:20260426T014525
CREATED:20250625T000336Z
LAST-MODIFIED:20250625T000336Z
UID:10010756-1752415200-1752426000@www.harriganscameronpark.com.au
SUMMARY:Thomas James
DESCRIPTION:Live music every weekend at Harrigan’s Cameron Park
URL:https://www.harriganscameronpark.com.au/event/thomas-james/
LOCATION:NSW
CATEGORIES:Live Music
ATTACH;FMTTYPE=image/jpeg:https://www.harriganscameronpark.com.au/wp-content/uploads/2025/06/HCP_live_music_web_thomasjames.jpg
END:VEVENT
BEGIN:VEVENT
DTSTART;TZID=Australia/Sydney:20250712T203000
DTEND;TZID=Australia/Sydney:20250712T233000
DTSTAMP:20260426T014525
CREATED:20250625T000334Z
LAST-MODIFIED:20250625T000334Z
UID:10010755-1752352200-1752363000@www.harriganscameronpark.com.au
SUMMARY:Felix Quinn
DESCRIPTION:Live music every weekend at Harrigan’s Cameron Park
URL:https://www.harriganscameronpark.com.au/event/felix-quinn-8/
LOCATION:NSW
CATEGORIES:Live Music
ATTACH;FMTTYPE=image/jpeg:https://www.harriganscameronpark.com.au/wp-content/uploads/2025/01/HCP_live_music_web_felixquinn.jpg
END:VEVENT
BEGIN:VEVENT
DTSTART;TZID=Australia/Sydney:20250711T203000
DTEND;TZID=Australia/Sydney:20250712T013000
DTSTAMP:20260426T014525
CREATED:20250625T000333Z
LAST-MODIFIED:20250625T000333Z
UID:10010754-1752265800-1752283800@www.harriganscameronpark.com.au
SUMMARY:DJ Crossfaded
DESCRIPTION:Live music every weekend at Harrigan’s Cameron Park
URL:https://www.harriganscameronpark.com.au/event/dj-crossfaded-3/
LOCATION:NSW
CATEGORIES:Live Music
ATTACH;FMTTYPE=image/jpeg:https://www.harriganscameronpark.com.au/wp-content/uploads/2025/01/HCP_live_music_web_djcrossfaded.jpg
END:VEVENT
BEGIN:VEVENT
DTSTART;TZID=Australia/Sydney:20250711T200000
DTEND;TZID=Australia/Sydney:20250712T013000
DTSTAMP:20260426T014525
CREATED:20250627T020910Z
LAST-MODIFIED:20260212T025734Z
UID:10010779-1752264000-1752283800@www.harriganscameronpark.com.au
SUMMARY:Sip & Spin
DESCRIPTION:Fridays just got a whole lot better! \nKickstart your weekend every Friday night at Harrigan’s! Sip on delicious cocktails and house spirit specials while listening to the live DJ spin hits to get you on the dancefloor. \n\n2 for $25 Cocktails\, 8pm-10pm\n$7 House Spirits\, 8pm-2am\nLive DJ\, 8:30pm-1:30am
URL:https://www.harriganscameronpark.com.au/event/sip-and-spin/2025-07-11/
LOCATION:NSW
CATEGORIES:Weekly Dining Specials,Weekly Events
ATTACH;FMTTYPE=image/jpeg:https://www.harriganscameronpark.com.au/wp-content/uploads/2026/01/hcp_2026_friday_sip_spin_web_800x600.jpg
END:VEVENT
END:VCALENDAR