BEGIN:VCALENDAR
VERSION:2.0
PRODID:-//Harrigan&#039;s Cameron Park - ECPv6.15.20//NONSGML v1.0//EN
CALSCALE:GREGORIAN
METHOD:PUBLISH
X-WR-CALNAME:Harrigan&#039;s Cameron Park
X-ORIGINAL-URL:https://www.harriganscameronpark.com.au
X-WR-CALDESC:Events for Harrigan&#039;s Cameron Park
REFRESH-INTERVAL;VALUE=DURATION:PT1H
X-Robots-Tag:noindex
X-PUBLISHED-TTL:PT1H
BEGIN:VTIMEZONE
TZID:Australia/Sydney
BEGIN:STANDARD
TZOFFSETFROM:+1100
TZOFFSETTO:+1000
TZNAME:AEST
DTSTART:20250405T160000
END:STANDARD
BEGIN:DAYLIGHT
TZOFFSETFROM:+1000
TZOFFSETTO:+1100
TZNAME:AEDT
DTSTART:20251004T160000
END:DAYLIGHT
BEGIN:STANDARD
TZOFFSETFROM:+1100
TZOFFSETTO:+1000
TZNAME:AEST
DTSTART:20260404T160000
END:STANDARD
BEGIN:DAYLIGHT
TZOFFSETFROM:+1000
TZOFFSETTO:+1100
TZNAME:AEDT
DTSTART:20261003T160000
END:DAYLIGHT
BEGIN:STANDARD
TZOFFSETFROM:+1100
TZOFFSETTO:+1000
TZNAME:AEST
DTSTART:20270403T160000
END:STANDARD
BEGIN:DAYLIGHT
TZOFFSETFROM:+1000
TZOFFSETTO:+1100
TZNAME:AEDT
DTSTART:20271002T160000
END:DAYLIGHT
END:VTIMEZONE
BEGIN:VEVENT
DTSTART;TZID=Australia/Sydney:20260122T193000
DTEND;TZID=Australia/Sydney:20260122T200000
DTSTAMP:20260421T070742
CREATED:20240226T234549Z
LAST-MODIFIED:20260130T010759Z
UID:10001432-1769110200-1769112000@www.harriganscameronpark.com.au
SUMMARY:Social Club Draw4 Cash
DESCRIPTION:Be Numero Uno & WIN CASH!\nCalling all Harrigan’s Social Club Members! Join us at Harrigan’s Cameron Park every Thursday Night at 7:30pm for your chance to win some COLD HARD CASH! \nJackpot starts at $1\,000 & increases by $100 each week until a Harrigan’s Social Club Member* wins. \nAre you not part of the club? It’s FREE to join! Sign up to the Harrigan’s Social Club HERE. \n*Member must be in the venue at the time of the draw to participate. Read the full T&Cs \nHave a bite or grab a beer while you wait – secure your table now! \nBook Now
URL:https://www.harriganscameronpark.com.au/event/social-club-draw4-cash/2026-01-22/
LOCATION:Harrigan’s Cameron Park\, 70 McKendry Drive\, Cameron Park\, NSW\, 2285\, Australia
CATEGORIES:Weekly Events
ATTACH;FMTTYPE=image/jpeg:https://www.harriganscameronpark.com.au/wp-content/uploads/2024/02/hcp_draw4cash_website_800x600.jpg
END:VEVENT
BEGIN:VEVENT
DTSTART;TZID=Australia/Sydney:20260122T190000
DTEND;TZID=Australia/Sydney:20260122T203000
DTSTAMP:20260421T070742
CREATED:20250130T222006Z
LAST-MODIFIED:20260130T010127Z
UID:10014433-1769108400-1769113800@www.harriganscameronpark.com.au
SUMMARY:Thursday Poker Night: Hosted by the APL
DESCRIPTION:♠️ Thursday Poker Night at Harrigan’s Cameron Park ♠️ \nThink you’ve got the winning hand? Join us every Thursday at 7pm (excluding public holidays) for Poker Night in the Sports Bar\, hosted by the Australian Poker League (APL)! \n💵 Buy-In: $25\n🔄 Buy-Back: $20\n🏆 Prize Pool: Minimum $500 for the winner! \nPlus\, if you’re feeling hungry\, book a table before the game and enjoy $20 Pizza Night alongside the action! Choose the chef’s special or any pizza from our menu—dine in or take it away. \nGather your mates and make it a Thursday tradition at Harrigan’s Cameron Park. See you at the tables! 🃏 \nBook Dinner Upcoming Games
URL:https://www.harriganscameronpark.com.au/event/thursday-poker-night-2/2026-01-22/
LOCATION:Harrigan’s Cameron Park\, 70 McKendry Drive\, Cameron Park\, NSW\, 2285\, Australia
CATEGORIES:Weekly Events
ATTACH;FMTTYPE=image/jpeg:https://www.harriganscameronpark.com.au/wp-content/uploads/2025/01/poker-night_website_800x600px.jpg
END:VEVENT
BEGIN:VEVENT
DTSTART;TZID=Australia/Sydney:20260122T170000
DTEND;TZID=Australia/Sydney:20260122T203000
DTSTAMP:20260421T070742
CREATED:20250527T024721Z
LAST-MODIFIED:20260420T021751Z
UID:10003926-1769101200-1769113800@www.harriganscameronpark.com.au
SUMMARY:Pizza Night
DESCRIPTION:Thursday night is Pizza night at Harrigan’s Cameron Park. \nJoin us from 5pm for a $20 pizza – dine in or takeaway! \nIncludes chef’s special or any pizza from the menu.
URL:https://www.harriganscameronpark.com.au/event/thursday-pizza-night-2/2026-01-22/
LOCATION:Harrigan’s Cameron Park\, 70 McKendry Drive\, Cameron Park\, NSW\, 2285\, Australia
CATEGORIES:Weekly Dining Specials
ATTACH;FMTTYPE=image/jpeg:https://www.harriganscameronpark.com.au/wp-content/uploads/2026/01/hcp_2026_thursday_pizza_night_web_800x600.jpg
END:VEVENT
BEGIN:VEVENT
DTSTART;TZID=Australia/Sydney:20260121T190000
DTEND;TZID=Australia/Sydney:20260121T203000
DTSTAMP:20260421T070742
CREATED:20240131T001940Z
LAST-MODIFIED:20260130T000749Z
UID:10014116-1769022000-1769027400@www.harriganscameronpark.com.au
SUMMARY:Trivia Night
DESCRIPTION:Win your share of $130 in Harrigan’s vouchers every Wednesday night!\nSwing by Harrigan’s Cameron Park for our weekly trivia\, on EVERY Wednesday from 7pm in the Sports Bar. \nDoes winning make you hungry? Enjoy an $18 schnitzel with chips\, salad and gravy with Schnitty Night from 5pm. \nCome on down and join us! We can’t wait to know your name. \nBook Now
URL:https://www.harriganscameronpark.com.au/event/trivia-night/2026-01-21/
LOCATION:Harrigan’s Cameron Park\, 70 McKendry Drive\, Cameron Park\, NSW\, 2285\, Australia
CATEGORIES:Weekly Events
ATTACH;FMTTYPE=image/jpeg:https://www.harriganscameronpark.com.au/wp-content/uploads/2024/01/hcp_trivia_night_website_800x600.jpg
END:VEVENT
BEGIN:VEVENT
DTSTART;TZID=Australia/Sydney:20260121T170000
DTEND;TZID=Australia/Sydney:20260121T203000
DTSTAMP:20260421T070742
CREATED:20230913T021055Z
LAST-MODIFIED:20260420T022819Z
UID:10011757-1769014800-1769027400@www.harriganscameronpark.com.au
SUMMARY:Schnitty Night
DESCRIPTION:Wednesday night is Schnitty Night at Harrigan’s Cameron Park. \nJoin us from 5pm for an $18 schnitzel with chips\, salad and your choice of sauce.
URL:https://www.harriganscameronpark.com.au/event/wednesday-schnitzel-night/2026-01-21/
LOCATION:Harrigan’s Cameron Park\, 70 McKendry Drive\, Cameron Park\, NSW\, 2285\, Australia
CATEGORIES:Weekly Dining Specials
ATTACH;FMTTYPE=image/jpeg:https://www.harriganscameronpark.com.au/wp-content/uploads/2026/01/hcp_2026_wednesday_schnitty_night_web_800x600.jpg
END:VEVENT
BEGIN:VEVENT
DTSTART;TZID=Australia/Sydney:20260121T120000
DTEND;TZID=Australia/Sydney:20260121T140000
DTSTAMP:20260421T070742
CREATED:20260105T044711Z
LAST-MODIFIED:20260105T045432Z
UID:10011673-1768996800-1769004000@www.harriganscameronpark.com.au
SUMMARY:Kids Zone: Kids Disco
DESCRIPTION:Run out of school holiday ideas? Let us do the entertaining! \nJoin us for two weeks of fun and free kids’ activities while you relax over lunch. We’ve got plenty on to keep the little ones smiling. All activities run from 12pm–2pm. \nWhat’s on: \n\nMonday 19 January – Paper plane making\nTuesday 20 January – Chocolate animal bingo\nWednesday 21 January – Kids disco\nTuesday 27 January – Candy number bingo\nWednesday 28 January – Kids disco\n\nBook a table for lunch\, let the kids have some fun\, and enjoy a stress-free school holiday outing at Harrigan’s Cameron Park.
URL:https://www.harriganscameronpark.com.au/event/kids-zone-kids-disco/
LOCATION:Harrigan’s Cameron Park\, 70 McKendry Drive\, Cameron Park\, NSW\, 2285\, Australia
CATEGORIES:Special Events
ATTACH;FMTTYPE=image/jpeg:https://www.harriganscameronpark.com.au/wp-content/uploads/2026/01/HCP2025_169_january_kids_activities_website_800x600.jpg
END:VEVENT
BEGIN:VEVENT
DTSTART;TZID=Australia/Sydney:20260120T183000
DTEND;TZID=Australia/Sydney:20260120T203000
DTSTAMP:20260421T070742
CREATED:20250812T002839Z
LAST-MODIFIED:20260130T000002Z
UID:10013752-1768933800-1768941000@www.harriganscameronpark.com.au
SUMMARY:Pool Knockout Competition
DESCRIPTION:Think you have what it takes to win our pool competition? \nJoin us every Tuesday night from 6:30pm in the Sports Bar for knockout-style game\, with the winner taking home a $60 venue voucher and second place taking home a $40 venue voucher. \nThe competition will run on our house rules\, which will be on display each week. \nFREE TO ENTER
URL:https://www.harriganscameronpark.com.au/event/pool-comp/2026-01-20/
LOCATION:Harrigan’s Cameron Park\, 70 McKendry Drive\, Cameron Park\, NSW\, 2285\, Australia
CATEGORIES:Weekly Events
ATTACH;FMTTYPE=image/jpeg:https://www.harriganscameronpark.com.au/wp-content/uploads/2025/08/hcp_pool_comp_website_800x600.jpg
END:VEVENT
BEGIN:VEVENT
DTSTART;TZID=Australia/Sydney:20260120T170000
DTEND;TZID=Australia/Sydney:20260120T203000
DTSTAMP:20260421T070742
CREATED:20250527T025530Z
LAST-MODIFIED:20260420T023205Z
UID:10007909-1768928400-1768941000@www.harriganscameronpark.com.au
SUMMARY:Burger Night
DESCRIPTION:Tuesday night is Burger night at Harrigan’s Cameron Park. \nJoin us from 5pm for $20 burgers. Includes any burger from the menu and specials.
URL:https://www.harriganscameronpark.com.au/event/burger-night/2026-01-20/
LOCATION:Harrigan’s Cameron Park\, 70 McKendry Drive\, Cameron Park\, NSW\, 2285\, Australia
CATEGORIES:Weekly Dining Specials
ATTACH;FMTTYPE=image/jpeg:https://www.harriganscameronpark.com.au/wp-content/uploads/2026/01/hcp_2026_tuesday_burger_night_web_800x600.jpg
END:VEVENT
BEGIN:VEVENT
DTSTART;TZID=Australia/Sydney:20260120T120000
DTEND;TZID=Australia/Sydney:20260120T140000
DTSTAMP:20260421T070742
CREATED:20260105T044442Z
LAST-MODIFIED:20260105T045525Z
UID:10011672-1768910400-1768917600@www.harriganscameronpark.com.au
SUMMARY:Kids Zone: Chocolate Animal Bingo
DESCRIPTION:Run out of school holiday ideas? Let us do the entertaining! \nJoin us for two weeks of fun and free kids’ activities while you relax over lunch. We’ve got plenty on to keep the little ones smiling. All activities run from 12pm–2pm. \nWhat’s on: \n\nMonday 19 January – Paper plane making\nTuesday 20 January – Chocolate animal bingo\nWednesday 21 January – Kids disco\nTuesday 27 January – Candy number bingo\nWednesday 28 January – Kids disco\n\nBook a table for lunch\, let the kids have some fun\, and enjoy a stress-free school holiday outing at Harrigan’s Cameron Park.
URL:https://www.harriganscameronpark.com.au/event/kids-zone-chocolate-animal-bingo/
LOCATION:Harrigan’s Cameron Park\, 70 McKendry Drive\, Cameron Park\, NSW\, 2285\, Australia
CATEGORIES:Special Events
ATTACH;FMTTYPE=image/jpeg:https://www.harriganscameronpark.com.au/wp-content/uploads/2026/01/HCP2025_169_january_kids_activities_website_800x600.jpg
END:VEVENT
BEGIN:VEVENT
DTSTART;TZID=Australia/Sydney:20260119T170000
DTEND;TZID=Australia/Sydney:20260119T203000
DTSTAMP:20260421T070742
CREATED:20230913T020318Z
LAST-MODIFIED:20260420T020821Z
UID:10007095-1768842000-1768854600@www.harriganscameronpark.com.au
SUMMARY:Kids Eat Free
DESCRIPTION:Kids Eat Free every Monday night at Harrigan’s Cameron Park. \nAvailable from 5pm\, purchase any adult main to redeem.
URL:https://www.harriganscameronpark.com.au/event/kids-eat-free/2026-01-19/
LOCATION:Harrigan’s Cameron Park\, 70 McKendry Drive\, Cameron Park\, NSW\, 2285\, Australia
CATEGORIES:Weekly Dining Specials
ATTACH;FMTTYPE=image/jpeg:https://www.harriganscameronpark.com.au/wp-content/uploads/2026/01/hcp_2026_monday_kids_eat_free_web_800x600.jpg
END:VEVENT
BEGIN:VEVENT
DTSTART;TZID=Australia/Sydney:20260119T120000
DTEND;TZID=Australia/Sydney:20260119T140000
DTSTAMP:20260421T070742
CREATED:20260105T044049Z
LAST-MODIFIED:20260105T045610Z
UID:10011671-1768824000-1768831200@www.harriganscameronpark.com.au
SUMMARY:Kids Zone: Paper Plane Making
DESCRIPTION:Run out of school holiday ideas? Let us do the entertaining! \nJoin us for two weeks of fun and free kids’ activities while you relax over lunch. We’ve got plenty on to keep the little ones smiling. All activities run from 12pm–2pm. \nWhat’s on: \n\nMonday 19 January – Paper plane making\nTuesday 20 January – Chocolate animal bingo\nWednesday 21 January – Kids disco\nTuesday 27 January – Candy number bingo\nWednesday 28 January – Kids disco\n\nBook a table for lunch\, let the kids have some fun\, and enjoy a stress-free school holiday outing at Harrigan’s Cameron Park.
URL:https://www.harriganscameronpark.com.au/event/kids-zone-paper-plane-making/
LOCATION:Harrigan’s Cameron Park\, 70 McKendry Drive\, Cameron Park\, NSW\, 2285\, Australia
CATEGORIES:Special Events
ATTACH;FMTTYPE=image/jpeg:https://www.harriganscameronpark.com.au/wp-content/uploads/2026/01/HCP2025_169_january_kids_activities_website_800x600.jpg
END:VEVENT
BEGIN:VEVENT
DTSTART;TZID=Australia/Sydney:20260118T170000
DTEND;TZID=Australia/Sydney:20260118T203000
DTSTAMP:20260421T070742
CREATED:20250527T030044Z
LAST-MODIFIED:20260420T023232Z
UID:10008950-1768755600-1768768200@www.harriganscameronpark.com.au
SUMMARY:Curry Night
DESCRIPTION:Sunday night is Curry night at Harrigan’s Cameron Park. \nEnjoy a delicious curry with rice and naan for just $20!
URL:https://www.harriganscameronpark.com.au/event/curry-night/2026-01-18/
LOCATION:Harrigan’s Cameron Park\, 70 McKendry Drive\, Cameron Park\, NSW\, 2285\, Australia
CATEGORIES:Weekly Dining Specials
ATTACH;FMTTYPE=image/jpeg:https://www.harriganscameronpark.com.au/wp-content/uploads/2026/01/hcp_2026_sunday_curry_night_web_800x600.jpg
END:VEVENT
BEGIN:VEVENT
DTSTART;TZID=Australia/Sydney:20260118T140000
DTEND;TZID=Australia/Sydney:20260118T170000
DTSTAMP:20260421T070742
CREATED:20251231T064834Z
LAST-MODIFIED:20251231T070115Z
UID:10011664-1768744800-1768755600@www.harriganscameronpark.com.au
SUMMARY:DAVE MACMICHAEL
DESCRIPTION:Live music every weekend at Harrigan’s Cameron Park
URL:https://www.harriganscameronpark.com.au/event/dave-macmichael/
CATEGORIES:Live Music
ATTACH;FMTTYPE=image/jpeg:https://www.harriganscameronpark.com.au/wp-content/uploads/2025/12/Dave-Macmichael.jpeg
END:VEVENT
BEGIN:VEVENT
DTSTART;TZID=Australia/Sydney:20260117T203000
DTEND;TZID=Australia/Sydney:20260117T233000
DTSTAMP:20260421T070742
CREATED:20251231T064834Z
LAST-MODIFIED:20260115T035153Z
UID:10011663-1768681800-1768692600@www.harriganscameronpark.com.au
SUMMARY:JUMP
DESCRIPTION:JUMP is a highly-energetic\, four-piece band playing all your favourite hits of today and through the ages! \nWith the stylistic influences of 80s rock\, RnB\, and modern dance music\, JUMP have a reputation for getting the dance floor packed and bouncing all night. Look forward to their charisma\, stage presence\, great song choices\, and a punchy performance full of funk and excitement at Harrigan’s Cameron Park.
URL:https://www.harriganscameronpark.com.au/event/jump-9/
CATEGORIES:Live Music
ATTACH;FMTTYPE=image/jpeg:https://www.harriganscameronpark.com.au/wp-content/uploads/2024/05/202405_jump_800x630px.jpg
END:VEVENT
BEGIN:VEVENT
DTSTART;TZID=Australia/Sydney:20260116T203000
DTEND;TZID=Australia/Sydney:20260117T013000
DTSTAMP:20260421T070742
CREATED:20251231T064834Z
LAST-MODIFIED:20260115T070747Z
UID:10011662-1768595400-1768613400@www.harriganscameronpark.com.au
SUMMARY:8-TRACK
DESCRIPTION:Live music every weekend at Harrigan’s Cameron Park
URL:https://www.harriganscameronpark.com.au/event/8-track/
CATEGORIES:Live Music
ATTACH;FMTTYPE=image/png:https://www.harriganscameronpark.com.au/wp-content/uploads/2025/12/8-Track.png
END:VEVENT
BEGIN:VEVENT
DTSTART;TZID=Australia/Sydney:20260116T200000
DTEND;TZID=Australia/Sydney:20260117T013000
DTSTAMP:20260421T070742
CREATED:20250627T020910Z
LAST-MODIFIED:20260212T025734Z
UID:10010806-1768593600-1768613400@www.harriganscameronpark.com.au
SUMMARY:Sip & Spin
DESCRIPTION:Fridays just got a whole lot better! \nKickstart your weekend every Friday night at Harrigan’s! Sip on delicious cocktails and house spirit specials while listening to the live DJ spin hits to get you on the dancefloor. \n\n2 for $25 Cocktails\, 8pm-10pm\n$7 House Spirits\, 8pm-2am\nLive DJ\, 8:30pm-1:30am
URL:https://www.harriganscameronpark.com.au/event/sip-and-spin/2026-01-16/
CATEGORIES:Weekly Dining Specials,Weekly Events
ATTACH;FMTTYPE=image/jpeg:https://www.harriganscameronpark.com.au/wp-content/uploads/2026/01/hcp_2026_friday_sip_spin_web_800x600.jpg
END:VEVENT
BEGIN:VEVENT
DTSTART;TZID=Australia/Sydney:20260116T190000
DTEND;TZID=Australia/Sydney:20260116T233000
DTSTAMP:20260421T070742
CREATED:20251204T235113Z
LAST-MODIFIED:20251208T235306Z
UID:10011652-1768590000-1768606200@www.harriganscameronpark.com.au
SUMMARY:Nikita Tszyu v Michael Zerafa
DESCRIPTION:Nikita Tszyu v Michael Zerafa – Bad Blood\nOn Friday\, 16 January from 7pm AEDT\, Nikita Tszyu takes on Michael Zerafa\, his fiercest opponent to date. \nCurrently unbeaten\, the legendary Tszyu family name will face a seasoned contender determined to cement his own legacy. \nWe’re showing every moment live and loud on the big screens! Round up your mates\, grab a feed\, and experience the action with the best atmosphere in Cameron Park. \n🥊 FREE entry\n🥊 Big screens\n🥊 Great food\n🥊 Cold drinks \nWith pride\, rivalry\, and reputations on the line\, this showdown has all the makings of an Australian boxing classic!
URL:https://www.harriganscameronpark.com.au/event/nikita-tszyu-v-michael-zerafa/
LOCATION:Harrigan’s Cameron Park\, 70 McKendry Drive\, Cameron Park\, NSW\, 2285\, Australia
CATEGORIES:Special Events,Sport Events
ATTACH;FMTTYPE=image/jpeg:https://www.harriganscameronpark.com.au/wp-content/uploads/2025/12/HCP2025_155_Tszyu_vs_Zerafa_website_800x600.jpg
END:VEVENT
BEGIN:VEVENT
DTSTART;TZID=Australia/Sydney:20260115T193000
DTEND;TZID=Australia/Sydney:20260115T200000
DTSTAMP:20260421T070742
CREATED:20240226T234549Z
LAST-MODIFIED:20260130T010759Z
UID:10001431-1768505400-1768507200@www.harriganscameronpark.com.au
SUMMARY:Social Club Draw4 Cash
DESCRIPTION:Be Numero Uno & WIN CASH!\nCalling all Harrigan’s Social Club Members! Join us at Harrigan’s Cameron Park every Thursday Night at 7:30pm for your chance to win some COLD HARD CASH! \nJackpot starts at $1\,000 & increases by $100 each week until a Harrigan’s Social Club Member* wins. \nAre you not part of the club? It’s FREE to join! Sign up to the Harrigan’s Social Club HERE. \n*Member must be in the venue at the time of the draw to participate. Read the full T&Cs \nHave a bite or grab a beer while you wait – secure your table now! \nBook Now
URL:https://www.harriganscameronpark.com.au/event/social-club-draw4-cash/2026-01-15/
LOCATION:Harrigan’s Cameron Park\, 70 McKendry Drive\, Cameron Park\, NSW\, 2285\, Australia
CATEGORIES:Weekly Events
ATTACH;FMTTYPE=image/jpeg:https://www.harriganscameronpark.com.au/wp-content/uploads/2024/02/hcp_draw4cash_website_800x600.jpg
END:VEVENT
BEGIN:VEVENT
DTSTART;TZID=Australia/Sydney:20260115T190000
DTEND;TZID=Australia/Sydney:20260115T203000
DTSTAMP:20260421T070742
CREATED:20250130T222006Z
LAST-MODIFIED:20260130T010127Z
UID:10014432-1768503600-1768509000@www.harriganscameronpark.com.au
SUMMARY:Thursday Poker Night: Hosted by the APL
DESCRIPTION:♠️ Thursday Poker Night at Harrigan’s Cameron Park ♠️ \nThink you’ve got the winning hand? Join us every Thursday at 7pm (excluding public holidays) for Poker Night in the Sports Bar\, hosted by the Australian Poker League (APL)! \n💵 Buy-In: $25\n🔄 Buy-Back: $20\n🏆 Prize Pool: Minimum $500 for the winner! \nPlus\, if you’re feeling hungry\, book a table before the game and enjoy $20 Pizza Night alongside the action! Choose the chef’s special or any pizza from our menu—dine in or take it away. \nGather your mates and make it a Thursday tradition at Harrigan’s Cameron Park. See you at the tables! 🃏 \nBook Dinner Upcoming Games
URL:https://www.harriganscameronpark.com.au/event/thursday-poker-night-2/2026-01-15/
LOCATION:Harrigan’s Cameron Park\, 70 McKendry Drive\, Cameron Park\, NSW\, 2285\, Australia
CATEGORIES:Weekly Events
ATTACH;FMTTYPE=image/jpeg:https://www.harriganscameronpark.com.au/wp-content/uploads/2025/01/poker-night_website_800x600px.jpg
END:VEVENT
BEGIN:VEVENT
DTSTART;TZID=Australia/Sydney:20260115T170000
DTEND;TZID=Australia/Sydney:20260115T203000
DTSTAMP:20260421T070742
CREATED:20250527T024721Z
LAST-MODIFIED:20260420T021751Z
UID:10003925-1768496400-1768509000@www.harriganscameronpark.com.au
SUMMARY:Pizza Night
DESCRIPTION:Thursday night is Pizza night at Harrigan’s Cameron Park. \nJoin us from 5pm for a $20 pizza – dine in or takeaway! \nIncludes chef’s special or any pizza from the menu.
URL:https://www.harriganscameronpark.com.au/event/thursday-pizza-night-2/2026-01-15/
LOCATION:Harrigan’s Cameron Park\, 70 McKendry Drive\, Cameron Park\, NSW\, 2285\, Australia
CATEGORIES:Weekly Dining Specials
ATTACH;FMTTYPE=image/jpeg:https://www.harriganscameronpark.com.au/wp-content/uploads/2026/01/hcp_2026_thursday_pizza_night_web_800x600.jpg
END:VEVENT
BEGIN:VEVENT
DTSTART;TZID=Australia/Sydney:20260114T190000
DTEND;TZID=Australia/Sydney:20260114T203000
DTSTAMP:20260421T070742
CREATED:20240131T001940Z
LAST-MODIFIED:20260130T000749Z
UID:10014115-1768417200-1768422600@www.harriganscameronpark.com.au
SUMMARY:Trivia Night
DESCRIPTION:Win your share of $130 in Harrigan’s vouchers every Wednesday night!\nSwing by Harrigan’s Cameron Park for our weekly trivia\, on EVERY Wednesday from 7pm in the Sports Bar. \nDoes winning make you hungry? Enjoy an $18 schnitzel with chips\, salad and gravy with Schnitty Night from 5pm. \nCome on down and join us! We can’t wait to know your name. \nBook Now
URL:https://www.harriganscameronpark.com.au/event/trivia-night/2026-01-14/
LOCATION:Harrigan’s Cameron Park\, 70 McKendry Drive\, Cameron Park\, NSW\, 2285\, Australia
CATEGORIES:Weekly Events
ATTACH;FMTTYPE=image/jpeg:https://www.harriganscameronpark.com.au/wp-content/uploads/2024/01/hcp_trivia_night_website_800x600.jpg
END:VEVENT
BEGIN:VEVENT
DTSTART;TZID=Australia/Sydney:20260114T170000
DTEND;TZID=Australia/Sydney:20260114T203000
DTSTAMP:20260421T070742
CREATED:20230913T021055Z
LAST-MODIFIED:20260420T022819Z
UID:10011756-1768410000-1768422600@www.harriganscameronpark.com.au
SUMMARY:Schnitty Night
DESCRIPTION:Wednesday night is Schnitty Night at Harrigan’s Cameron Park. \nJoin us from 5pm for an $18 schnitzel with chips\, salad and your choice of sauce.
URL:https://www.harriganscameronpark.com.au/event/wednesday-schnitzel-night/2026-01-14/
LOCATION:Harrigan’s Cameron Park\, 70 McKendry Drive\, Cameron Park\, NSW\, 2285\, Australia
CATEGORIES:Weekly Dining Specials
ATTACH;FMTTYPE=image/jpeg:https://www.harriganscameronpark.com.au/wp-content/uploads/2026/01/hcp_2026_wednesday_schnitty_night_web_800x600.jpg
END:VEVENT
BEGIN:VEVENT
DTSTART;TZID=Australia/Sydney:20260113T183000
DTEND;TZID=Australia/Sydney:20260113T203000
DTSTAMP:20260421T070742
CREATED:20250812T002839Z
LAST-MODIFIED:20260130T000002Z
UID:10013751-1768329000-1768336200@www.harriganscameronpark.com.au
SUMMARY:Pool Knockout Competition
DESCRIPTION:Think you have what it takes to win our pool competition? \nJoin us every Tuesday night from 6:30pm in the Sports Bar for knockout-style game\, with the winner taking home a $60 venue voucher and second place taking home a $40 venue voucher. \nThe competition will run on our house rules\, which will be on display each week. \nFREE TO ENTER
URL:https://www.harriganscameronpark.com.au/event/pool-comp/2026-01-13/
LOCATION:Harrigan’s Cameron Park\, 70 McKendry Drive\, Cameron Park\, NSW\, 2285\, Australia
CATEGORIES:Weekly Events
ATTACH;FMTTYPE=image/jpeg:https://www.harriganscameronpark.com.au/wp-content/uploads/2025/08/hcp_pool_comp_website_800x600.jpg
END:VEVENT
BEGIN:VEVENT
DTSTART;TZID=Australia/Sydney:20260113T170000
DTEND;TZID=Australia/Sydney:20260113T203000
DTSTAMP:20260421T070742
CREATED:20250527T025530Z
LAST-MODIFIED:20260420T023205Z
UID:10007908-1768323600-1768336200@www.harriganscameronpark.com.au
SUMMARY:Burger Night
DESCRIPTION:Tuesday night is Burger night at Harrigan’s Cameron Park. \nJoin us from 5pm for $20 burgers. Includes any burger from the menu and specials.
URL:https://www.harriganscameronpark.com.au/event/burger-night/2026-01-13/
LOCATION:Harrigan’s Cameron Park\, 70 McKendry Drive\, Cameron Park\, NSW\, 2285\, Australia
CATEGORIES:Weekly Dining Specials
ATTACH;FMTTYPE=image/jpeg:https://www.harriganscameronpark.com.au/wp-content/uploads/2026/01/hcp_2026_tuesday_burger_night_web_800x600.jpg
END:VEVENT
BEGIN:VEVENT
DTSTART;TZID=Australia/Sydney:20260112T170000
DTEND;TZID=Australia/Sydney:20260112T203000
DTSTAMP:20260421T070742
CREATED:20230913T020318Z
LAST-MODIFIED:20260420T020821Z
UID:10007094-1768237200-1768249800@www.harriganscameronpark.com.au
SUMMARY:Kids Eat Free
DESCRIPTION:Kids Eat Free every Monday night at Harrigan’s Cameron Park. \nAvailable from 5pm\, purchase any adult main to redeem.
URL:https://www.harriganscameronpark.com.au/event/kids-eat-free/2026-01-12/
LOCATION:Harrigan’s Cameron Park\, 70 McKendry Drive\, Cameron Park\, NSW\, 2285\, Australia
CATEGORIES:Weekly Dining Specials
ATTACH;FMTTYPE=image/jpeg:https://www.harriganscameronpark.com.au/wp-content/uploads/2026/01/hcp_2026_monday_kids_eat_free_web_800x600.jpg
END:VEVENT
BEGIN:VEVENT
DTSTART;TZID=Australia/Sydney:20260111T170000
DTEND;TZID=Australia/Sydney:20260111T203000
DTSTAMP:20260421T070742
CREATED:20250527T030044Z
LAST-MODIFIED:20260420T023232Z
UID:10008949-1768150800-1768163400@www.harriganscameronpark.com.au
SUMMARY:Curry Night
DESCRIPTION:Sunday night is Curry night at Harrigan’s Cameron Park. \nEnjoy a delicious curry with rice and naan for just $20!
URL:https://www.harriganscameronpark.com.au/event/curry-night/2026-01-11/
LOCATION:Harrigan’s Cameron Park\, 70 McKendry Drive\, Cameron Park\, NSW\, 2285\, Australia
CATEGORIES:Weekly Dining Specials
ATTACH;FMTTYPE=image/jpeg:https://www.harriganscameronpark.com.au/wp-content/uploads/2026/01/hcp_2026_sunday_curry_night_web_800x600.jpg
END:VEVENT
BEGIN:VEVENT
DTSTART;TZID=Australia/Sydney:20260111T140000
DTEND;TZID=Australia/Sydney:20260111T170000
DTSTAMP:20260421T070742
CREATED:20251231T064833Z
LAST-MODIFIED:20251231T065145Z
UID:10011661-1768140000-1768150800@www.harriganscameronpark.com.au
SUMMARY:JOSH DRINKWATER
DESCRIPTION:Live music every weekend at Harrigan’s Cameron Park
URL:https://www.harriganscameronpark.com.au/event/josh-drinkwater-8/
CATEGORIES:Live Music
ATTACH;FMTTYPE=image/jpeg:https://www.harriganscameronpark.com.au/wp-content/uploads/2023/10/Josh-Drinkwater.jpg
END:VEVENT
BEGIN:VEVENT
DTSTART;TZID=Australia/Sydney:20260110T203000
DTEND;TZID=Australia/Sydney:20260110T233000
DTSTAMP:20260421T070742
CREATED:20251231T064832Z
LAST-MODIFIED:20251231T065330Z
UID:10011660-1768077000-1768087800@www.harriganscameronpark.com.au
SUMMARY:AULDBERRY
DESCRIPTION:Live music every weekend at Harrigan’s Cameron Park
URL:https://www.harriganscameronpark.com.au/event/auldberry-7/
CATEGORIES:Live Music
ATTACH;FMTTYPE=image/jpeg:https://www.harriganscameronpark.com.au/wp-content/uploads/2023/12/Auldberry_artist-image_800x630px.jpg
END:VEVENT
BEGIN:VEVENT
DTSTART;TZID=Australia/Sydney:20260109T203000
DTEND;TZID=Australia/Sydney:20260110T013000
DTSTAMP:20260421T070742
CREATED:20251231T064831Z
LAST-MODIFIED:20251231T065400Z
UID:10011659-1767990600-1768008600@www.harriganscameronpark.com.au
SUMMARY:DJ CALICIOUS
DESCRIPTION:Live music every weekend at Harrigan’s Cameron Park
URL:https://www.harriganscameronpark.com.au/event/dj-calicious-13/
CATEGORIES:Live Music
ATTACH;FMTTYPE=image/jpeg:https://www.harriganscameronpark.com.au/wp-content/uploads/2025/01/HCP_live_music_web_djcalicious.jpg
END:VEVENT
BEGIN:VEVENT
DTSTART;TZID=Australia/Sydney:20260109T200000
DTEND;TZID=Australia/Sydney:20260110T013000
DTSTAMP:20260421T070742
CREATED:20250627T020910Z
LAST-MODIFIED:20260212T025734Z
UID:10010805-1767988800-1768008600@www.harriganscameronpark.com.au
SUMMARY:Sip & Spin
DESCRIPTION:Fridays just got a whole lot better! \nKickstart your weekend every Friday night at Harrigan’s! Sip on delicious cocktails and house spirit specials while listening to the live DJ spin hits to get you on the dancefloor. \n\n2 for $25 Cocktails\, 8pm-10pm\n$7 House Spirits\, 8pm-2am\nLive DJ\, 8:30pm-1:30am
URL:https://www.harriganscameronpark.com.au/event/sip-and-spin/2026-01-09/
CATEGORIES:Weekly Dining Specials,Weekly Events
ATTACH;FMTTYPE=image/jpeg:https://www.harriganscameronpark.com.au/wp-content/uploads/2026/01/hcp_2026_friday_sip_spin_web_800x600.jpg
END:VEVENT
END:VCALENDAR