BEGIN:VCALENDAR
VERSION:2.0
PRODID:-//Harrigan&#039;s Cameron Park - ECPv6.15.20//NONSGML v1.0//EN
CALSCALE:GREGORIAN
METHOD:PUBLISH
X-WR-CALNAME:Harrigan&#039;s Cameron Park
X-ORIGINAL-URL:https://www.harriganscameronpark.com.au
X-WR-CALDESC:Events for Harrigan&#039;s Cameron Park
REFRESH-INTERVAL;VALUE=DURATION:PT1H
X-Robots-Tag:noindex
X-PUBLISHED-TTL:PT1H
BEGIN:VTIMEZONE
TZID:Australia/Sydney
BEGIN:STANDARD
TZOFFSETFROM:+1100
TZOFFSETTO:+1000
TZNAME:AEST
DTSTART:20240406T160000
END:STANDARD
BEGIN:DAYLIGHT
TZOFFSETFROM:+1000
TZOFFSETTO:+1100
TZNAME:AEDT
DTSTART:20241005T160000
END:DAYLIGHT
BEGIN:STANDARD
TZOFFSETFROM:+1100
TZOFFSETTO:+1000
TZNAME:AEST
DTSTART:20250405T160000
END:STANDARD
BEGIN:DAYLIGHT
TZOFFSETFROM:+1000
TZOFFSETTO:+1100
TZNAME:AEDT
DTSTART:20251004T160000
END:DAYLIGHT
BEGIN:STANDARD
TZOFFSETFROM:+1100
TZOFFSETTO:+1000
TZNAME:AEST
DTSTART:20260404T160000
END:STANDARD
BEGIN:DAYLIGHT
TZOFFSETFROM:+1000
TZOFFSETTO:+1100
TZNAME:AEDT
DTSTART:20261003T160000
END:DAYLIGHT
END:VTIMEZONE
BEGIN:VEVENT
DTSTART;TZID=Australia/Sydney:20250814T170000
DTEND;TZID=Australia/Sydney:20250814T203000
DTSTAMP:20260425T204745
CREATED:20250527T024721Z
LAST-MODIFIED:20260420T021751Z
UID:10003903-1755190800-1755203400@www.harriganscameronpark.com.au
SUMMARY:Pizza Night
DESCRIPTION:Thursday night is Pizza night at Harrigan’s Cameron Park. \nJoin us from 5pm for a $20 pizza – dine in or takeaway! \nIncludes chef’s special or any pizza from the menu.
URL:https://www.harriganscameronpark.com.au/event/thursday-pizza-night-2/2025-08-14/
LOCATION:Harrigan’s Cameron Park\, 70 McKendry Drive\, Cameron Park\, NSW\, 2285\, Australia
CATEGORIES:Weekly Dining Specials
ATTACH;FMTTYPE=image/jpeg:https://www.harriganscameronpark.com.au/wp-content/uploads/2026/01/hcp_2026_thursday_pizza_night_web_800x600.jpg
END:VEVENT
BEGIN:VEVENT
DTSTART;TZID=Australia/Sydney:20250813T190000
DTEND;TZID=Australia/Sydney:20250813T203000
DTSTAMP:20260425T204745
CREATED:20240131T001940Z
LAST-MODIFIED:20260130T000749Z
UID:10014093-1755111600-1755117000@www.harriganscameronpark.com.au
SUMMARY:Trivia Night
DESCRIPTION:Win your share of $130 in Harrigan’s vouchers every Wednesday night!\nSwing by Harrigan’s Cameron Park for our weekly trivia\, on EVERY Wednesday from 7pm in the Sports Bar. \nDoes winning make you hungry? Enjoy an $18 schnitzel with chips\, salad and gravy with Schnitty Night from 5pm. \nCome on down and join us! We can’t wait to know your name. \nBook Now
URL:https://www.harriganscameronpark.com.au/event/trivia-night/2025-08-13/
LOCATION:Harrigan’s Cameron Park\, 70 McKendry Drive\, Cameron Park\, NSW\, 2285\, Australia
CATEGORIES:Weekly Events
ATTACH;FMTTYPE=image/jpeg:https://www.harriganscameronpark.com.au/wp-content/uploads/2024/01/hcp_trivia_night_website_800x600.jpg
END:VEVENT
BEGIN:VEVENT
DTSTART;TZID=Australia/Sydney:20250813T170000
DTEND;TZID=Australia/Sydney:20250813T203000
DTSTAMP:20260425T204745
CREATED:20230913T021055Z
LAST-MODIFIED:20260420T022819Z
UID:10011734-1755104400-1755117000@www.harriganscameronpark.com.au
SUMMARY:Schnitty Night
DESCRIPTION:Wednesday night is Schnitty Night at Harrigan’s Cameron Park. \nJoin us from 5pm for an $18 schnitzel with chips\, salad and your choice of sauce.
URL:https://www.harriganscameronpark.com.au/event/wednesday-schnitzel-night/2025-08-13/
LOCATION:Harrigan’s Cameron Park\, 70 McKendry Drive\, Cameron Park\, NSW\, 2285\, Australia
CATEGORIES:Weekly Dining Specials
ATTACH;FMTTYPE=image/jpeg:https://www.harriganscameronpark.com.au/wp-content/uploads/2026/01/hcp_2026_wednesday_schnitty_night_web_800x600.jpg
END:VEVENT
BEGIN:VEVENT
DTSTART;TZID=Australia/Sydney:20250812T170000
DTEND;TZID=Australia/Sydney:20250812T203000
DTSTAMP:20260425T204745
CREATED:20250527T025530Z
LAST-MODIFIED:20260420T023205Z
UID:10007886-1755018000-1755030600@www.harriganscameronpark.com.au
SUMMARY:Burger Night
DESCRIPTION:Tuesday night is Burger night at Harrigan’s Cameron Park. \nJoin us from 5pm for $20 burgers. Includes any burger from the menu and specials.
URL:https://www.harriganscameronpark.com.au/event/burger-night/2025-08-12/
LOCATION:Harrigan’s Cameron Park\, 70 McKendry Drive\, Cameron Park\, NSW\, 2285\, Australia
CATEGORIES:Weekly Dining Specials
ATTACH;FMTTYPE=image/jpeg:https://www.harriganscameronpark.com.au/wp-content/uploads/2026/01/hcp_2026_tuesday_burger_night_web_800x600.jpg
END:VEVENT
BEGIN:VEVENT
DTSTART;TZID=Australia/Sydney:20250811T170000
DTEND;TZID=Australia/Sydney:20250811T203000
DTSTAMP:20260425T204745
CREATED:20230913T020318Z
LAST-MODIFIED:20260420T020821Z
UID:10007072-1754931600-1754944200@www.harriganscameronpark.com.au
SUMMARY:Kids Eat Free
DESCRIPTION:Kids Eat Free every Monday night at Harrigan’s Cameron Park. \nAvailable from 5pm\, purchase any adult main to redeem.
URL:https://www.harriganscameronpark.com.au/event/kids-eat-free/2025-08-11/
LOCATION:Harrigan’s Cameron Park\, 70 McKendry Drive\, Cameron Park\, NSW\, 2285\, Australia
CATEGORIES:Weekly Dining Specials
ATTACH;FMTTYPE=image/jpeg:https://www.harriganscameronpark.com.au/wp-content/uploads/2026/01/hcp_2026_monday_kids_eat_free_web_800x600.jpg
END:VEVENT
BEGIN:VEVENT
DTSTART;TZID=Australia/Sydney:20250810T170000
DTEND;TZID=Australia/Sydney:20250810T203000
DTSTAMP:20260425T204745
CREATED:20250527T030044Z
LAST-MODIFIED:20260420T023232Z
UID:10008927-1754845200-1754857800@www.harriganscameronpark.com.au
SUMMARY:Curry Night
DESCRIPTION:Sunday night is Curry night at Harrigan’s Cameron Park. \nEnjoy a delicious curry with rice and naan for just $20!
URL:https://www.harriganscameronpark.com.au/event/curry-night/2025-08-10/
LOCATION:Harrigan’s Cameron Park\, 70 McKendry Drive\, Cameron Park\, NSW\, 2285\, Australia
CATEGORIES:Weekly Dining Specials
ATTACH;FMTTYPE=image/jpeg:https://www.harriganscameronpark.com.au/wp-content/uploads/2026/01/hcp_2026_sunday_curry_night_web_800x600.jpg
END:VEVENT
BEGIN:VEVENT
DTSTART;TZID=Australia/Sydney:20250810T140000
DTEND;TZID=Australia/Sydney:20250810T170000
DTSTAMP:20260425T204745
CREATED:20250723T212915Z
LAST-MODIFIED:20250723T212915Z
UID:10011049-1754834400-1754845200@www.harriganscameronpark.com.au
SUMMARY:Duncan Woods
DESCRIPTION:Live music every weekend at Harrigan’s Cameron Park
URL:https://www.harriganscameronpark.com.au/event/duncan-woods-3/
LOCATION:NSW
CATEGORIES:Live Music
ATTACH;FMTTYPE=image/jpeg:https://www.harriganscameronpark.com.au/wp-content/uploads/2025/07/HCP_live_music_web_duncanwoods.jpg
END:VEVENT
BEGIN:VEVENT
DTSTART;TZID=Australia/Sydney:20250810T064500
DTEND;TZID=Australia/Sydney:20250810T120000
DTSTAMP:20260425T204745
CREATED:20250710T011502Z
LAST-MODIFIED:20250714T214419Z
UID:10011038-1754808300-1754827200@www.harriganscameronpark.com.au
SUMMARY:Social Club Golf Day
DESCRIPTION:Sunday 10 August | Hunter Valley Golf Club\, Rydges Resort\n6:45am meet | 7:00am tee off \n$50 per person – includes cart hire \n4-Man Ambrose (Handicap) \nTee up for a fun and friendly round at the beautiful Hunter Valley Golf Club! Whether you’re a seasoned golfer or just in it for the laughs\, this 4-man Ambrose format is all about good times and teamwork. \nAfter the final putt\, head back to Harrigan’s Cameron Park for a relaxed presentation with food and drinks provided by the Social Club.\nGet your team together or register solo\, and we’ll place you in one! \nEmail registrations to info@harriganscameronpark.com.au \nSpaces are limited\, so don’t miss out!
URL:https://www.harriganscameronpark.com.au/event/golf-day/
LOCATION:Harrigan’s Cameron Park\, 70 McKendry Drive\, Cameron Park\, NSW\, 2285\, Australia
CATEGORIES:Special Events
ATTACH;FMTTYPE=image/jpeg:https://www.harriganscameronpark.com.au/wp-content/uploads/2025/07/HCP2025_079_golf_day_web_800x630-1.jpg
END:VEVENT
BEGIN:VEVENT
DTSTART;TZID=Australia/Sydney:20250809T203000
DTEND;TZID=Australia/Sydney:20250809T233000
DTSTAMP:20260425T204745
CREATED:20250723T212914Z
LAST-MODIFIED:20250723T212914Z
UID:10011048-1754771400-1754782200@www.harriganscameronpark.com.au
SUMMARY:Komiti Levai Band
DESCRIPTION:Live music every weekend at Harrigan’s Cameron Park
URL:https://www.harriganscameronpark.com.au/event/komiti-levai-band-2/
LOCATION:NSW
CATEGORIES:Live Music
ATTACH;FMTTYPE=image/jpeg:https://www.harriganscameronpark.com.au/wp-content/uploads/2025/04/HCP_live_music_web_komitilevaiband.jpg
END:VEVENT
BEGIN:VEVENT
DTSTART;TZID=Australia/Sydney:20250808T203000
DTEND;TZID=Australia/Sydney:20250809T013000
DTSTAMP:20260425T204745
CREATED:20250723T212913Z
LAST-MODIFIED:20250723T212913Z
UID:10011047-1754685000-1754703000@www.harriganscameronpark.com.au
SUMMARY:DJ Ghostbuster
DESCRIPTION:Live music every weekend at Harrigan’s Cameron Park
URL:https://www.harriganscameronpark.com.au/event/dj-ghostbuster-4/
LOCATION:NSW
CATEGORIES:Live Music
ATTACH;FMTTYPE=image/jpeg:https://www.harriganscameronpark.com.au/wp-content/uploads/2025/01/HCP_live_music_web_djghostbuster.jpg
END:VEVENT
BEGIN:VEVENT
DTSTART;TZID=Australia/Sydney:20250808T200000
DTEND;TZID=Australia/Sydney:20250809T013000
DTSTAMP:20260425T204745
CREATED:20250627T020910Z
LAST-MODIFIED:20260212T025734Z
UID:10010783-1754683200-1754703000@www.harriganscameronpark.com.au
SUMMARY:Sip & Spin
DESCRIPTION:Fridays just got a whole lot better! \nKickstart your weekend every Friday night at Harrigan’s! Sip on delicious cocktails and house spirit specials while listening to the live DJ spin hits to get you on the dancefloor. \n\n2 for $25 Cocktails\, 8pm-10pm\n$7 House Spirits\, 8pm-2am\nLive DJ\, 8:30pm-1:30am
URL:https://www.harriganscameronpark.com.au/event/sip-and-spin/2025-08-08/
LOCATION:NSW
CATEGORIES:Weekly Dining Specials,Weekly Events
ATTACH;FMTTYPE=image/jpeg:https://www.harriganscameronpark.com.au/wp-content/uploads/2026/01/hcp_2026_friday_sip_spin_web_800x600.jpg
END:VEVENT
BEGIN:VEVENT
DTSTART;TZID=Australia/Sydney:20250807T193000
DTEND;TZID=Australia/Sydney:20250807T200000
DTSTAMP:20260425T204745
CREATED:20240226T234549Z
LAST-MODIFIED:20260130T010759Z
UID:10001408-1754595000-1754596800@www.harriganscameronpark.com.au
SUMMARY:Social Club Draw4 Cash
DESCRIPTION:Be Numero Uno & WIN CASH!\nCalling all Harrigan’s Social Club Members! Join us at Harrigan’s Cameron Park every Thursday Night at 7:30pm for your chance to win some COLD HARD CASH! \nJackpot starts at $1\,000 & increases by $100 each week until a Harrigan’s Social Club Member* wins. \nAre you not part of the club? It’s FREE to join! Sign up to the Harrigan’s Social Club HERE. \n*Member must be in the venue at the time of the draw to participate. Read the full T&Cs \nHave a bite or grab a beer while you wait – secure your table now! \nBook Now
URL:https://www.harriganscameronpark.com.au/event/social-club-draw4-cash/2025-08-07/
LOCATION:Harrigan’s Cameron Park\, 70 McKendry Drive\, Cameron Park\, NSW\, 2285\, Australia
CATEGORIES:Weekly Events
ATTACH;FMTTYPE=image/jpeg:https://www.harriganscameronpark.com.au/wp-content/uploads/2024/02/hcp_draw4cash_website_800x600.jpg
END:VEVENT
BEGIN:VEVENT
DTSTART;TZID=Australia/Sydney:20250807T190000
DTEND;TZID=Australia/Sydney:20250807T203000
DTSTAMP:20260425T204745
CREATED:20250130T222006Z
LAST-MODIFIED:20260130T010127Z
UID:10014409-1754593200-1754598600@www.harriganscameronpark.com.au
SUMMARY:Thursday Poker Night: Hosted by the APL
DESCRIPTION:♠️ Thursday Poker Night at Harrigan’s Cameron Park ♠️ \nThink you’ve got the winning hand? Join us every Thursday at 7pm (excluding public holidays) for Poker Night in the Sports Bar\, hosted by the Australian Poker League (APL)! \n💵 Buy-In: $25\n🔄 Buy-Back: $20\n🏆 Prize Pool: Minimum $500 for the winner! \nPlus\, if you’re feeling hungry\, book a table before the game and enjoy $20 Pizza Night alongside the action! Choose the chef’s special or any pizza from our menu—dine in or take it away. \nGather your mates and make it a Thursday tradition at Harrigan’s Cameron Park. See you at the tables! 🃏 \nBook Dinner Upcoming Games
URL:https://www.harriganscameronpark.com.au/event/thursday-poker-night-2/2025-08-07/
LOCATION:Harrigan’s Cameron Park\, 70 McKendry Drive\, Cameron Park\, NSW\, 2285\, Australia
CATEGORIES:Weekly Events
ATTACH;FMTTYPE=image/jpeg:https://www.harriganscameronpark.com.au/wp-content/uploads/2025/01/poker-night_website_800x600px.jpg
END:VEVENT
BEGIN:VEVENT
DTSTART;TZID=Australia/Sydney:20250807T170000
DTEND;TZID=Australia/Sydney:20250807T203000
DTSTAMP:20260425T204745
CREATED:20250527T024721Z
LAST-MODIFIED:20260420T021751Z
UID:10003902-1754586000-1754598600@www.harriganscameronpark.com.au
SUMMARY:Pizza Night
DESCRIPTION:Thursday night is Pizza night at Harrigan’s Cameron Park. \nJoin us from 5pm for a $20 pizza – dine in or takeaway! \nIncludes chef’s special or any pizza from the menu.
URL:https://www.harriganscameronpark.com.au/event/thursday-pizza-night-2/2025-08-07/
LOCATION:Harrigan’s Cameron Park\, 70 McKendry Drive\, Cameron Park\, NSW\, 2285\, Australia
CATEGORIES:Weekly Dining Specials
ATTACH;FMTTYPE=image/jpeg:https://www.harriganscameronpark.com.au/wp-content/uploads/2026/01/hcp_2026_thursday_pizza_night_web_800x600.jpg
END:VEVENT
BEGIN:VEVENT
DTSTART;TZID=Australia/Sydney:20250806T190000
DTEND;TZID=Australia/Sydney:20250806T203000
DTSTAMP:20260425T204745
CREATED:20240131T001940Z
LAST-MODIFIED:20260130T000749Z
UID:10014092-1754506800-1754512200@www.harriganscameronpark.com.au
SUMMARY:Trivia Night
DESCRIPTION:Win your share of $130 in Harrigan’s vouchers every Wednesday night!\nSwing by Harrigan’s Cameron Park for our weekly trivia\, on EVERY Wednesday from 7pm in the Sports Bar. \nDoes winning make you hungry? Enjoy an $18 schnitzel with chips\, salad and gravy with Schnitty Night from 5pm. \nCome on down and join us! We can’t wait to know your name. \nBook Now
URL:https://www.harriganscameronpark.com.au/event/trivia-night/2025-08-06/
LOCATION:Harrigan’s Cameron Park\, 70 McKendry Drive\, Cameron Park\, NSW\, 2285\, Australia
CATEGORIES:Weekly Events
ATTACH;FMTTYPE=image/jpeg:https://www.harriganscameronpark.com.au/wp-content/uploads/2024/01/hcp_trivia_night_website_800x600.jpg
END:VEVENT
BEGIN:VEVENT
DTSTART;TZID=Australia/Sydney:20250806T170000
DTEND;TZID=Australia/Sydney:20250806T203000
DTSTAMP:20260425T204745
CREATED:20230913T021055Z
LAST-MODIFIED:20260420T022819Z
UID:10011733-1754499600-1754512200@www.harriganscameronpark.com.au
SUMMARY:Schnitty Night
DESCRIPTION:Wednesday night is Schnitty Night at Harrigan’s Cameron Park. \nJoin us from 5pm for an $18 schnitzel with chips\, salad and your choice of sauce.
URL:https://www.harriganscameronpark.com.au/event/wednesday-schnitzel-night/2025-08-06/
LOCATION:Harrigan’s Cameron Park\, 70 McKendry Drive\, Cameron Park\, NSW\, 2285\, Australia
CATEGORIES:Weekly Dining Specials
ATTACH;FMTTYPE=image/jpeg:https://www.harriganscameronpark.com.au/wp-content/uploads/2026/01/hcp_2026_wednesday_schnitty_night_web_800x600.jpg
END:VEVENT
BEGIN:VEVENT
DTSTART;TZID=Australia/Sydney:20250805T170000
DTEND;TZID=Australia/Sydney:20250805T203000
DTSTAMP:20260425T204745
CREATED:20250527T025530Z
LAST-MODIFIED:20260420T023205Z
UID:10007885-1754413200-1754425800@www.harriganscameronpark.com.au
SUMMARY:Burger Night
DESCRIPTION:Tuesday night is Burger night at Harrigan’s Cameron Park. \nJoin us from 5pm for $20 burgers. Includes any burger from the menu and specials.
URL:https://www.harriganscameronpark.com.au/event/burger-night/2025-08-05/
LOCATION:Harrigan’s Cameron Park\, 70 McKendry Drive\, Cameron Park\, NSW\, 2285\, Australia
CATEGORIES:Weekly Dining Specials
ATTACH;FMTTYPE=image/jpeg:https://www.harriganscameronpark.com.au/wp-content/uploads/2026/01/hcp_2026_tuesday_burger_night_web_800x600.jpg
END:VEVENT
BEGIN:VEVENT
DTSTART;TZID=Australia/Sydney:20250804T170000
DTEND;TZID=Australia/Sydney:20250804T203000
DTSTAMP:20260425T204745
CREATED:20230913T020318Z
LAST-MODIFIED:20260420T020821Z
UID:10007071-1754326800-1754339400@www.harriganscameronpark.com.au
SUMMARY:Kids Eat Free
DESCRIPTION:Kids Eat Free every Monday night at Harrigan’s Cameron Park. \nAvailable from 5pm\, purchase any adult main to redeem.
URL:https://www.harriganscameronpark.com.au/event/kids-eat-free/2025-08-04/
LOCATION:Harrigan’s Cameron Park\, 70 McKendry Drive\, Cameron Park\, NSW\, 2285\, Australia
CATEGORIES:Weekly Dining Specials
ATTACH;FMTTYPE=image/jpeg:https://www.harriganscameronpark.com.au/wp-content/uploads/2026/01/hcp_2026_monday_kids_eat_free_web_800x600.jpg
END:VEVENT
BEGIN:VEVENT
DTSTART;TZID=Australia/Sydney:20250803T170000
DTEND;TZID=Australia/Sydney:20250803T203000
DTSTAMP:20260425T204745
CREATED:20250527T030044Z
LAST-MODIFIED:20260420T023232Z
UID:10008926-1754240400-1754253000@www.harriganscameronpark.com.au
SUMMARY:Curry Night
DESCRIPTION:Sunday night is Curry night at Harrigan’s Cameron Park. \nEnjoy a delicious curry with rice and naan for just $20!
URL:https://www.harriganscameronpark.com.au/event/curry-night/2025-08-03/
LOCATION:Harrigan’s Cameron Park\, 70 McKendry Drive\, Cameron Park\, NSW\, 2285\, Australia
CATEGORIES:Weekly Dining Specials
ATTACH;FMTTYPE=image/jpeg:https://www.harriganscameronpark.com.au/wp-content/uploads/2026/01/hcp_2026_sunday_curry_night_web_800x600.jpg
END:VEVENT
BEGIN:VEVENT
DTSTART;TZID=Australia/Sydney:20250803T140000
DTEND;TZID=Australia/Sydney:20250803T170000
DTSTAMP:20260425T204745
CREATED:20250723T212912Z
LAST-MODIFIED:20250723T212912Z
UID:10011046-1754229600-1754240400@www.harriganscameronpark.com.au
SUMMARY:Velvet Moon
DESCRIPTION:Live music every weekend at Harrigan’s Cameron Park
URL:https://www.harriganscameronpark.com.au/event/velvet-moon-3/
LOCATION:NSW
CATEGORIES:Live Music
ATTACH;FMTTYPE=image/jpeg:https://www.harriganscameronpark.com.au/wp-content/uploads/2025/07/HCP_live_music_web_velvetmoon2.jpg
END:VEVENT
BEGIN:VEVENT
DTSTART;TZID=Australia/Sydney:20250802T203000
DTEND;TZID=Australia/Sydney:20250802T233000
DTSTAMP:20260425T204745
CREATED:20250723T212911Z
LAST-MODIFIED:20250723T212911Z
UID:10011045-1754166600-1754177400@www.harriganscameronpark.com.au
SUMMARY:Auldberry
DESCRIPTION:Live music every weekend at Harrigan’s Cameron Park
URL:https://www.harriganscameronpark.com.au/event/auldberry-6/
LOCATION:NSW
CATEGORIES:Live Music
ATTACH;FMTTYPE=image/jpeg:https://www.harriganscameronpark.com.au/wp-content/uploads/2025/01/HCP_live_music_web_auldberry.jpg
END:VEVENT
BEGIN:VEVENT
DTSTART;TZID=Australia/Sydney:20250801T203000
DTEND;TZID=Australia/Sydney:20250802T013000
DTSTAMP:20260425T204745
CREATED:20250723T212909Z
LAST-MODIFIED:20250723T212909Z
UID:10011044-1754080200-1754098200@www.harriganscameronpark.com.au
SUMMARY:DJ Crossfaded
DESCRIPTION:Live music every weekend at Harrigan’s Cameron Park
URL:https://www.harriganscameronpark.com.au/event/dj-crossfaded-4/
LOCATION:NSW
CATEGORIES:Live Music
ATTACH;FMTTYPE=image/jpeg:https://www.harriganscameronpark.com.au/wp-content/uploads/2025/01/HCP_live_music_web_djcrossfaded.jpg
END:VEVENT
BEGIN:VEVENT
DTSTART;TZID=Australia/Sydney:20250801T200000
DTEND;TZID=Australia/Sydney:20250802T013000
DTSTAMP:20260425T204745
CREATED:20250627T020910Z
LAST-MODIFIED:20260212T025734Z
UID:10010782-1754078400-1754098200@www.harriganscameronpark.com.au
SUMMARY:Sip & Spin
DESCRIPTION:Fridays just got a whole lot better! \nKickstart your weekend every Friday night at Harrigan’s! Sip on delicious cocktails and house spirit specials while listening to the live DJ spin hits to get you on the dancefloor. \n\n2 for $25 Cocktails\, 8pm-10pm\n$7 House Spirits\, 8pm-2am\nLive DJ\, 8:30pm-1:30am
URL:https://www.harriganscameronpark.com.au/event/sip-and-spin/2025-08-01/
LOCATION:NSW
CATEGORIES:Weekly Dining Specials,Weekly Events
ATTACH;FMTTYPE=image/jpeg:https://www.harriganscameronpark.com.au/wp-content/uploads/2026/01/hcp_2026_friday_sip_spin_web_800x600.jpg
END:VEVENT
BEGIN:VEVENT
DTSTART;TZID=Australia/Sydney:20250731T193000
DTEND;TZID=Australia/Sydney:20250731T200000
DTSTAMP:20260425T204745
CREATED:20240226T234549Z
LAST-MODIFIED:20260130T010759Z
UID:10001407-1753990200-1753992000@www.harriganscameronpark.com.au
SUMMARY:Social Club Draw4 Cash
DESCRIPTION:Be Numero Uno & WIN CASH!\nCalling all Harrigan’s Social Club Members! Join us at Harrigan’s Cameron Park every Thursday Night at 7:30pm for your chance to win some COLD HARD CASH! \nJackpot starts at $1\,000 & increases by $100 each week until a Harrigan’s Social Club Member* wins. \nAre you not part of the club? It’s FREE to join! Sign up to the Harrigan’s Social Club HERE. \n*Member must be in the venue at the time of the draw to participate. Read the full T&Cs \nHave a bite or grab a beer while you wait – secure your table now! \nBook Now
URL:https://www.harriganscameronpark.com.au/event/social-club-draw4-cash/2025-07-31/
LOCATION:Harrigan’s Cameron Park\, 70 McKendry Drive\, Cameron Park\, NSW\, 2285\, Australia
CATEGORIES:Weekly Events
ATTACH;FMTTYPE=image/jpeg:https://www.harriganscameronpark.com.au/wp-content/uploads/2024/02/hcp_draw4cash_website_800x600.jpg
END:VEVENT
BEGIN:VEVENT
DTSTART;TZID=Australia/Sydney:20250731T190000
DTEND;TZID=Australia/Sydney:20250731T203000
DTSTAMP:20260425T204745
CREATED:20250130T222006Z
LAST-MODIFIED:20260130T010127Z
UID:10014408-1753988400-1753993800@www.harriganscameronpark.com.au
SUMMARY:Thursday Poker Night: Hosted by the APL
DESCRIPTION:♠️ Thursday Poker Night at Harrigan’s Cameron Park ♠️ \nThink you’ve got the winning hand? Join us every Thursday at 7pm (excluding public holidays) for Poker Night in the Sports Bar\, hosted by the Australian Poker League (APL)! \n💵 Buy-In: $25\n🔄 Buy-Back: $20\n🏆 Prize Pool: Minimum $500 for the winner! \nPlus\, if you’re feeling hungry\, book a table before the game and enjoy $20 Pizza Night alongside the action! Choose the chef’s special or any pizza from our menu—dine in or take it away. \nGather your mates and make it a Thursday tradition at Harrigan’s Cameron Park. See you at the tables! 🃏 \nBook Dinner Upcoming Games
URL:https://www.harriganscameronpark.com.au/event/thursday-poker-night-2/2025-07-31/
LOCATION:Harrigan’s Cameron Park\, 70 McKendry Drive\, Cameron Park\, NSW\, 2285\, Australia
CATEGORIES:Weekly Events
ATTACH;FMTTYPE=image/jpeg:https://www.harriganscameronpark.com.au/wp-content/uploads/2025/01/poker-night_website_800x600px.jpg
END:VEVENT
BEGIN:VEVENT
DTSTART;TZID=Australia/Sydney:20250731T170000
DTEND;TZID=Australia/Sydney:20250731T203000
DTSTAMP:20260425T204745
CREATED:20250527T024721Z
LAST-MODIFIED:20260420T021751Z
UID:10003901-1753981200-1753993800@www.harriganscameronpark.com.au
SUMMARY:Pizza Night
DESCRIPTION:Thursday night is Pizza night at Harrigan’s Cameron Park. \nJoin us from 5pm for a $20 pizza – dine in or takeaway! \nIncludes chef’s special or any pizza from the menu.
URL:https://www.harriganscameronpark.com.au/event/thursday-pizza-night-2/2025-07-31/
LOCATION:Harrigan’s Cameron Park\, 70 McKendry Drive\, Cameron Park\, NSW\, 2285\, Australia
CATEGORIES:Weekly Dining Specials
ATTACH;FMTTYPE=image/jpeg:https://www.harriganscameronpark.com.au/wp-content/uploads/2026/01/hcp_2026_thursday_pizza_night_web_800x600.jpg
END:VEVENT
BEGIN:VEVENT
DTSTART;TZID=Australia/Sydney:20250730T190000
DTEND;TZID=Australia/Sydney:20250730T203000
DTSTAMP:20260425T204745
CREATED:20240131T001940Z
LAST-MODIFIED:20260130T000749Z
UID:10014091-1753902000-1753907400@www.harriganscameronpark.com.au
SUMMARY:Trivia Night
DESCRIPTION:Win your share of $130 in Harrigan’s vouchers every Wednesday night!\nSwing by Harrigan’s Cameron Park for our weekly trivia\, on EVERY Wednesday from 7pm in the Sports Bar. \nDoes winning make you hungry? Enjoy an $18 schnitzel with chips\, salad and gravy with Schnitty Night from 5pm. \nCome on down and join us! We can’t wait to know your name. \nBook Now
URL:https://www.harriganscameronpark.com.au/event/trivia-night/2025-07-30/
LOCATION:Harrigan’s Cameron Park\, 70 McKendry Drive\, Cameron Park\, NSW\, 2285\, Australia
CATEGORIES:Weekly Events
ATTACH;FMTTYPE=image/jpeg:https://www.harriganscameronpark.com.au/wp-content/uploads/2024/01/hcp_trivia_night_website_800x600.jpg
END:VEVENT
BEGIN:VEVENT
DTSTART;TZID=Australia/Sydney:20250730T170000
DTEND;TZID=Australia/Sydney:20250730T203000
DTSTAMP:20260425T204745
CREATED:20230913T021055Z
LAST-MODIFIED:20260420T022819Z
UID:10011732-1753894800-1753907400@www.harriganscameronpark.com.au
SUMMARY:Schnitty Night
DESCRIPTION:Wednesday night is Schnitty Night at Harrigan’s Cameron Park. \nJoin us from 5pm for an $18 schnitzel with chips\, salad and your choice of sauce.
URL:https://www.harriganscameronpark.com.au/event/wednesday-schnitzel-night/2025-07-30/
LOCATION:Harrigan’s Cameron Park\, 70 McKendry Drive\, Cameron Park\, NSW\, 2285\, Australia
CATEGORIES:Weekly Dining Specials
ATTACH;FMTTYPE=image/jpeg:https://www.harriganscameronpark.com.au/wp-content/uploads/2026/01/hcp_2026_wednesday_schnitty_night_web_800x600.jpg
END:VEVENT
BEGIN:VEVENT
DTSTART;TZID=Australia/Sydney:20250729T190000
DTEND;TZID=Australia/Sydney:20250729T203000
DTSTAMP:20260425T204745
CREATED:20250626T000815Z
LAST-MODIFIED:20250626T000930Z
UID:10010772-1753815600-1753821000@www.harriganscameronpark.com.au
SUMMARY:Drag Bingo
DESCRIPTION:Drag Bingo starring Timberlina at Harrigan’s Cameron Park  \nGet ready for a night of laughter\, fabulous fun\, and fierce competition at Drag Bingo with the one and only Timberlina\, Newcastle’s iconic queen! This free event promises to be an unforgettable evening of high-energy entertainment\, cheeky charm\, and a dash of sass. \nTimberlina\, known for her dazzling performances and larger-than-life personality\, will be calling the numbers and serving up some serious drag realness. Expect lots of laughs and a whole lot of excitement as Timberlina works her magic. \nWhether you’re a bingo enthusiast or just looking for a night of fun and fierce fabulousness\, this event is for you! Bring your friends\, bring your game face\, and let’s make it a night to remember.
URL:https://www.harriganscameronpark.com.au/event/drag-bingo-2/2025-07-29/
LOCATION:Harrigan’s Cameron Park\, 70 McKendry Drive\, Cameron Park\, NSW\, 2285\, Australia
CATEGORIES:Special Events
ATTACH;FMTTYPE=image/jpeg:https://www.harriganscameronpark.com.au/wp-content/uploads/2025/03/HCP2025_036_drag_bingo_web_800x630.jpg
END:VEVENT
BEGIN:VEVENT
DTSTART;TZID=Australia/Sydney:20250729T170000
DTEND;TZID=Australia/Sydney:20250729T203000
DTSTAMP:20260425T204745
CREATED:20250527T025530Z
LAST-MODIFIED:20260420T023205Z
UID:10007884-1753808400-1753821000@www.harriganscameronpark.com.au
SUMMARY:Burger Night
DESCRIPTION:Tuesday night is Burger night at Harrigan’s Cameron Park. \nJoin us from 5pm for $20 burgers. Includes any burger from the menu and specials.
URL:https://www.harriganscameronpark.com.au/event/burger-night/2025-07-29/
LOCATION:Harrigan’s Cameron Park\, 70 McKendry Drive\, Cameron Park\, NSW\, 2285\, Australia
CATEGORIES:Weekly Dining Specials
ATTACH;FMTTYPE=image/jpeg:https://www.harriganscameronpark.com.au/wp-content/uploads/2026/01/hcp_2026_tuesday_burger_night_web_800x600.jpg
END:VEVENT
END:VCALENDAR