BEGIN:VCALENDAR
VERSION:2.0
PRODID:-//Harrigan&#039;s Cameron Park - ECPv6.15.20//NONSGML v1.0//EN
CALSCALE:GREGORIAN
METHOD:PUBLISH
X-WR-CALNAME:Harrigan&#039;s Cameron Park
X-ORIGINAL-URL:https://www.harriganscameronpark.com.au
X-WR-CALDESC:Events for Harrigan&#039;s Cameron Park
REFRESH-INTERVAL;VALUE=DURATION:PT1H
X-Robots-Tag:noindex
X-PUBLISHED-TTL:PT1H
BEGIN:VTIMEZONE
TZID:Australia/Sydney
BEGIN:STANDARD
TZOFFSETFROM:+1100
TZOFFSETTO:+1000
TZNAME:AEST
DTSTART:20240406T160000
END:STANDARD
BEGIN:DAYLIGHT
TZOFFSETFROM:+1000
TZOFFSETTO:+1100
TZNAME:AEDT
DTSTART:20241005T160000
END:DAYLIGHT
BEGIN:STANDARD
TZOFFSETFROM:+1100
TZOFFSETTO:+1000
TZNAME:AEST
DTSTART:20250405T160000
END:STANDARD
BEGIN:DAYLIGHT
TZOFFSETFROM:+1000
TZOFFSETTO:+1100
TZNAME:AEDT
DTSTART:20251004T160000
END:DAYLIGHT
BEGIN:STANDARD
TZOFFSETFROM:+1100
TZOFFSETTO:+1000
TZNAME:AEST
DTSTART:20260404T160000
END:STANDARD
BEGIN:DAYLIGHT
TZOFFSETFROM:+1000
TZOFFSETTO:+1100
TZNAME:AEDT
DTSTART:20261003T160000
END:DAYLIGHT
END:VTIMEZONE
BEGIN:VEVENT
DTSTART;TZID=Australia/Sydney:20250929T170000
DTEND;TZID=Australia/Sydney:20250929T203000
DTSTAMP:20260425T074821
CREATED:20230913T020318Z
LAST-MODIFIED:20260420T020821Z
UID:10007079-1759165200-1759177800@www.harriganscameronpark.com.au
SUMMARY:Kids Eat Free
DESCRIPTION:Kids Eat Free every Monday night at Harrigan’s Cameron Park. \nAvailable from 5pm\, purchase any adult main to redeem.
URL:https://www.harriganscameronpark.com.au/event/kids-eat-free/2025-09-29/
LOCATION:Harrigan’s Cameron Park\, 70 McKendry Drive\, Cameron Park\, NSW\, 2285\, Australia
CATEGORIES:Weekly Dining Specials
ATTACH;FMTTYPE=image/jpeg:https://www.harriganscameronpark.com.au/wp-content/uploads/2026/01/hcp_2026_monday_kids_eat_free_web_800x600.jpg
END:VEVENT
BEGIN:VEVENT
DTSTART;TZID=Australia/Sydney:20250929T120000
DTEND;TZID=Australia/Sydney:20250929T140000
DTSTAMP:20260425T074821
CREATED:20250923T002145Z
LAST-MODIFIED:20250923T002640Z
UID:10011340-1759147200-1759154400@www.harriganscameronpark.com.au
SUMMARY:Spring School Holidays - Airplanes
DESCRIPTION:Keep the kids’ entertained at Harrigan’s Cameron Park these Spring School Holidays with some School Holiday Fun! \nWith FREE activities running Monday to Wednesday (excluding public holidays) every week these holidays\, there’s never been a better time to visit your newest local! \nMonday 29 September: Airplanes 12pm-2pm\nTuesday 30 September: Sand Art 12pm-2pm\nWednesday 1 October: Disco 12pm-2pm\nTuesday 7 October: Plaster Painting 12pm-2pm\nWednesday 8 October: Disco 12pm-2pm \nMake it a lunch or dinner with the family!  \nBook Now
URL:https://www.harriganscameronpark.com.au/event/spring-school-holidays-airplanes/
LOCATION:Harrigan’s Cameron Park\, 70 McKendry Drive\, Cameron Park\, NSW\, 2285\, Australia
CATEGORIES:Special Events
ATTACH;FMTTYPE=image/jpeg:https://www.harriganscameronpark.com.au/wp-content/uploads/2025/09/HCP2025_112_spring-school-holidays_web_800x630px.jpg
END:VEVENT
BEGIN:VEVENT
DTSTART;TZID=Australia/Sydney:20250928T170000
DTEND;TZID=Australia/Sydney:20250928T203000
DTSTAMP:20260425T074821
CREATED:20250527T030044Z
LAST-MODIFIED:20260420T023232Z
UID:10008934-1759078800-1759091400@www.harriganscameronpark.com.au
SUMMARY:Curry Night
DESCRIPTION:Sunday night is Curry night at Harrigan’s Cameron Park. \nEnjoy a delicious curry with rice and naan for just $20!
URL:https://www.harriganscameronpark.com.au/event/curry-night/2025-09-28/
LOCATION:Harrigan’s Cameron Park\, 70 McKendry Drive\, Cameron Park\, NSW\, 2285\, Australia
CATEGORIES:Weekly Dining Specials
ATTACH;FMTTYPE=image/jpeg:https://www.harriganscameronpark.com.au/wp-content/uploads/2026/01/hcp_2026_sunday_curry_night_web_800x600.jpg
END:VEVENT
BEGIN:VEVENT
DTSTART;TZID=Australia/Sydney:20250928T160000
DTEND;TZID=Australia/Sydney:20250928T180000
DTSTAMP:20260425T074821
CREATED:20250925T024312Z
LAST-MODIFIED:20250925T024312Z
UID:10011362-1759075200-1759082400@www.harriganscameronpark.com.au
SUMMARY:Footy Finals
DESCRIPTION:Live & Loud at Harrigan’s Cameron Park  \nThe footy finals are heating up\, and we’ve got every game right here on the big screens!\nBring your mates\, grab a drink and cheer on your team with us at Harrigan’s Cameron Park – there’s no better place to catch the action live & loud! \nNRL 7.50pm 26th Sept Storm V Sharks\nWNRL 7.40pm 27th Sept Roosters V Sharks\nWNRL 1.15pm 28th Sept Broncos V Knights\nNRL 4pm 28th Sept Broncos V Panthers
URL:https://www.harriganscameronpark.com.au/event/footy-finals/2025-09-28/2/
LOCATION:Harrigan’s Cameron Park\, 70 McKendry Drive\, Cameron Park\, NSW\, 2285\, Australia
CATEGORIES:Live Sports,Special Events
ATTACH;FMTTYPE=image/jpeg:https://www.harriganscameronpark.com.au/wp-content/uploads/2025/09/NRL_grand_finals_web_440x300px.jpg
END:VEVENT
BEGIN:VEVENT
DTSTART;TZID=Australia/Sydney:20250928T140000
DTEND;TZID=Australia/Sydney:20250928T170000
DTSTAMP:20260425T074821
CREATED:20250903T061246Z
LAST-MODIFIED:20250903T061246Z
UID:10011335-1759068000-1759078800@www.harriganscameronpark.com.au
SUMMARY:Rebecca Henry
DESCRIPTION:Live music every weekend at Harrigan’s Cameron Park
URL:https://www.harriganscameronpark.com.au/event/rebecca-henry-7/
LOCATION:NSW
CATEGORIES:Live Music
ATTACH;FMTTYPE=image/jpeg:https://www.harriganscameronpark.com.au/wp-content/uploads/2025/01/HCP_live_music_web_rebeccahenry.jpg
END:VEVENT
BEGIN:VEVENT
DTSTART;TZID=Australia/Sydney:20250928T131500
DTEND;TZID=Australia/Sydney:20250928T151500
DTSTAMP:20260425T074821
CREATED:20250925T024312Z
LAST-MODIFIED:20250925T024312Z
UID:10011361-1759065300-1759072500@www.harriganscameronpark.com.au
SUMMARY:Footy Finals
DESCRIPTION:Live & Loud at Harrigan’s Cameron Park  \nThe footy finals are heating up\, and we’ve got every game right here on the big screens!\nBring your mates\, grab a drink and cheer on your team with us at Harrigan’s Cameron Park – there’s no better place to catch the action live & loud! \nNRL 7.50pm 26th Sept Storm V Sharks\nWNRL 7.40pm 27th Sept Roosters V Sharks\nWNRL 1.15pm 28th Sept Broncos V Knights\nNRL 4pm 28th Sept Broncos V Panthers
URL:https://www.harriganscameronpark.com.au/event/footy-finals/2025-09-28/1/
LOCATION:Harrigan’s Cameron Park\, 70 McKendry Drive\, Cameron Park\, NSW\, 2285\, Australia
CATEGORIES:Live Sports,Special Events
ATTACH;FMTTYPE=image/jpeg:https://www.harriganscameronpark.com.au/wp-content/uploads/2025/09/NRL_grand_finals_web_440x300px.jpg
END:VEVENT
BEGIN:VEVENT
DTSTART;TZID=Australia/Sydney:20250927T203000
DTEND;TZID=Australia/Sydney:20250927T233000
DTSTAMP:20260425T074821
CREATED:20250903T061246Z
LAST-MODIFIED:20250903T061246Z
UID:10011334-1759005000-1759015800@www.harriganscameronpark.com.au
SUMMARY:The Flattrakkers
DESCRIPTION:Live music every weekend at Harrigan’s Cameron Park
URL:https://www.harriganscameronpark.com.au/event/the-flattrakkers/
LOCATION:NSW
CATEGORIES:Live Music
ATTACH;FMTTYPE=image/jpeg:https://www.harriganscameronpark.com.au/wp-content/uploads/2025/08/HCP_live_music_web_theflattrakkers.jpg
END:VEVENT
BEGIN:VEVENT
DTSTART;TZID=Australia/Sydney:20250927T194000
DTEND;TZID=Australia/Sydney:20250927T214000
DTSTAMP:20260425T074821
CREATED:20250925T024312Z
LAST-MODIFIED:20250925T024312Z
UID:10011360-1759002000-1759009200@www.harriganscameronpark.com.au
SUMMARY:Footy Finals
DESCRIPTION:Live & Loud at Harrigan’s Cameron Park  \nThe footy finals are heating up\, and we’ve got every game right here on the big screens!\nBring your mates\, grab a drink and cheer on your team with us at Harrigan’s Cameron Park – there’s no better place to catch the action live & loud! \nNRL 7.50pm 26th Sept Storm V Sharks\nWNRL 7.40pm 27th Sept Roosters V Sharks\nWNRL 1.15pm 28th Sept Broncos V Knights\nNRL 4pm 28th Sept Broncos V Panthers
URL:https://www.harriganscameronpark.com.au/event/footy-finals/2025-09-27/
LOCATION:Harrigan’s Cameron Park\, 70 McKendry Drive\, Cameron Park\, NSW\, 2285\, Australia
CATEGORIES:Live Sports,Special Events
ATTACH;FMTTYPE=image/jpeg:https://www.harriganscameronpark.com.au/wp-content/uploads/2025/09/NRL_grand_finals_web_440x300px.jpg
END:VEVENT
BEGIN:VEVENT
DTSTART;TZID=Australia/Sydney:20250927T150500
DTEND;TZID=Australia/Sydney:20250927T170000
DTSTAMP:20260425T074821
CREATED:20250827T004446Z
LAST-MODIFIED:20250827T005039Z
UID:10011323-1758985500-1758992400@www.harriganscameronpark.com.au
SUMMARY:Wallabies V All Blacks
DESCRIPTION:Catch the biggest games on the biggest screens.
URL:https://www.harriganscameronpark.com.au/event/wallabies-v-all-blacks/
LOCATION:NSW
CATEGORIES:Live Sports
ATTACH;FMTTYPE=image/jpeg:https://www.harriganscameronpark.com.au/wp-content/uploads/2025/08/HCP2025_099_sporting_calendar_september_web_800x630.jpg
END:VEVENT
BEGIN:VEVENT
DTSTART;TZID=Australia/Sydney:20250927T143000
DTEND;TZID=Australia/Sydney:20250927T163000
DTSTAMP:20260425T074821
CREATED:20250925T033634Z
LAST-MODIFIED:20250925T033649Z
UID:10011363-1758983400-1758990600@www.harriganscameronpark.com.au
SUMMARY:AFL Grand Final
DESCRIPTION:🏆 AFL Grand Final Live & Loud at Harrigan’s Cameron Park 🏆 \nThe biggest day on the AFL calendar is here! Watch every moment of the AFL Grand Final live & loud on the big screens with us at Harrigan’s Cameron Park. \n⚡ Geelong Cats vs Brisbane Lions\n📅 Saturday 27 September\n⏰ Kick-off 2:30pm \n🍻 Game-day drink specials:\n$7 Super Dry 3.5 & Super Dry schooners – available during the game! \nBring your mates\, soak up the atmosphere\, and cheer on your team in true finals style. There’s no better place to catch the action than Harrigan’s Cameron Park!
URL:https://www.harriganscameronpark.com.au/event/afl-grand-final/
LOCATION:Harrigan’s Cameron Park\, 70 McKendry Drive\, Cameron Park\, NSW\, 2285\, Australia
CATEGORIES:Live Sports,Special Events
ATTACH;FMTTYPE=image/jpeg:https://www.harriganscameronpark.com.au/wp-content/uploads/2025/09/HCP2025_114_AFL_grand_final_web_440x300px.jpg
END:VEVENT
BEGIN:VEVENT
DTSTART;TZID=Australia/Sydney:20250926T203000
DTEND;TZID=Australia/Sydney:20250927T013000
DTSTAMP:20260425T074821
CREATED:20250903T061224Z
LAST-MODIFIED:20250903T061224Z
UID:10011333-1758918600-1758936600@www.harriganscameronpark.com.au
SUMMARY:DJ Smashup
DESCRIPTION:Live music every weekend at Harrigan’s Cameron Park
URL:https://www.harriganscameronpark.com.au/event/dj-smashup-9/
LOCATION:NSW
CATEGORIES:Live Music
ATTACH;FMTTYPE=image/jpeg:https://www.harriganscameronpark.com.au/wp-content/uploads/2025/01/HCP_live_music_web_djsmashup.jpg
END:VEVENT
BEGIN:VEVENT
DTSTART;TZID=Australia/Sydney:20250926T200000
DTEND;TZID=Australia/Sydney:20250927T013000
DTSTAMP:20260425T074821
CREATED:20250627T020910Z
LAST-MODIFIED:20260212T025734Z
UID:10010790-1758916800-1758936600@www.harriganscameronpark.com.au
SUMMARY:Sip & Spin
DESCRIPTION:Fridays just got a whole lot better! \nKickstart your weekend every Friday night at Harrigan’s! Sip on delicious cocktails and house spirit specials while listening to the live DJ spin hits to get you on the dancefloor. \n\n2 for $25 Cocktails\, 8pm-10pm\n$7 House Spirits\, 8pm-2am\nLive DJ\, 8:30pm-1:30am
URL:https://www.harriganscameronpark.com.au/event/sip-and-spin/2025-09-26/
LOCATION:NSW
CATEGORIES:Weekly Dining Specials,Weekly Events
ATTACH;FMTTYPE=image/jpeg:https://www.harriganscameronpark.com.au/wp-content/uploads/2026/01/hcp_2026_friday_sip_spin_web_800x600.jpg
END:VEVENT
BEGIN:VEVENT
DTSTART;TZID=Australia/Sydney:20250926T195000
DTEND;TZID=Australia/Sydney:20250926T215000
DTSTAMP:20260425T074821
CREATED:20250925T024312Z
LAST-MODIFIED:20250925T024312Z
UID:10011359-1758916200-1758923400@www.harriganscameronpark.com.au
SUMMARY:Footy Finals
DESCRIPTION:Live & Loud at Harrigan’s Cameron Park  \nThe footy finals are heating up\, and we’ve got every game right here on the big screens!\nBring your mates\, grab a drink and cheer on your team with us at Harrigan’s Cameron Park – there’s no better place to catch the action live & loud! \nNRL 7.50pm 26th Sept Storm V Sharks\nWNRL 7.40pm 27th Sept Roosters V Sharks\nWNRL 1.15pm 28th Sept Broncos V Knights\nNRL 4pm 28th Sept Broncos V Panthers
URL:https://www.harriganscameronpark.com.au/event/footy-finals/2025-09-26/
LOCATION:Harrigan’s Cameron Park\, 70 McKendry Drive\, Cameron Park\, NSW\, 2285\, Australia
CATEGORIES:Live Sports,Special Events
ATTACH;FMTTYPE=image/jpeg:https://www.harriganscameronpark.com.au/wp-content/uploads/2025/09/NRL_grand_finals_web_440x300px.jpg
END:VEVENT
BEGIN:VEVENT
DTSTART;TZID=Australia/Sydney:20250925T193000
DTEND;TZID=Australia/Sydney:20250925T200000
DTSTAMP:20260425T074821
CREATED:20240226T234549Z
LAST-MODIFIED:20260130T010759Z
UID:10001415-1758828600-1758830400@www.harriganscameronpark.com.au
SUMMARY:Social Club Draw4 Cash
DESCRIPTION:Be Numero Uno & WIN CASH!\nCalling all Harrigan’s Social Club Members! Join us at Harrigan’s Cameron Park every Thursday Night at 7:30pm for your chance to win some COLD HARD CASH! \nJackpot starts at $1\,000 & increases by $100 each week until a Harrigan’s Social Club Member* wins. \nAre you not part of the club? It’s FREE to join! Sign up to the Harrigan’s Social Club HERE. \n*Member must be in the venue at the time of the draw to participate. Read the full T&Cs \nHave a bite or grab a beer while you wait – secure your table now! \nBook Now
URL:https://www.harriganscameronpark.com.au/event/social-club-draw4-cash/2025-09-25/
LOCATION:Harrigan’s Cameron Park\, 70 McKendry Drive\, Cameron Park\, NSW\, 2285\, Australia
CATEGORIES:Weekly Events
ATTACH;FMTTYPE=image/jpeg:https://www.harriganscameronpark.com.au/wp-content/uploads/2024/02/hcp_draw4cash_website_800x600.jpg
END:VEVENT
BEGIN:VEVENT
DTSTART;TZID=Australia/Sydney:20250925T190000
DTEND;TZID=Australia/Sydney:20250925T203000
DTSTAMP:20260425T074821
CREATED:20250130T222006Z
LAST-MODIFIED:20260130T010127Z
UID:10014416-1758826800-1758832200@www.harriganscameronpark.com.au
SUMMARY:Thursday Poker Night: Hosted by the APL
DESCRIPTION:♠️ Thursday Poker Night at Harrigan’s Cameron Park ♠️ \nThink you’ve got the winning hand? Join us every Thursday at 7pm (excluding public holidays) for Poker Night in the Sports Bar\, hosted by the Australian Poker League (APL)! \n💵 Buy-In: $25\n🔄 Buy-Back: $20\n🏆 Prize Pool: Minimum $500 for the winner! \nPlus\, if you’re feeling hungry\, book a table before the game and enjoy $20 Pizza Night alongside the action! Choose the chef’s special or any pizza from our menu—dine in or take it away. \nGather your mates and make it a Thursday tradition at Harrigan’s Cameron Park. See you at the tables! 🃏 \nBook Dinner Upcoming Games
URL:https://www.harriganscameronpark.com.au/event/thursday-poker-night-2/2025-09-25/
LOCATION:Harrigan’s Cameron Park\, 70 McKendry Drive\, Cameron Park\, NSW\, 2285\, Australia
CATEGORIES:Weekly Events
ATTACH;FMTTYPE=image/jpeg:https://www.harriganscameronpark.com.au/wp-content/uploads/2025/01/poker-night_website_800x600px.jpg
END:VEVENT
BEGIN:VEVENT
DTSTART;TZID=Australia/Sydney:20250925T170000
DTEND;TZID=Australia/Sydney:20250925T203000
DTSTAMP:20260425T074821
CREATED:20250527T024721Z
LAST-MODIFIED:20260420T021751Z
UID:10003909-1758819600-1758832200@www.harriganscameronpark.com.au
SUMMARY:Pizza Night
DESCRIPTION:Thursday night is Pizza night at Harrigan’s Cameron Park. \nJoin us from 5pm for a $20 pizza – dine in or takeaway! \nIncludes chef’s special or any pizza from the menu.
URL:https://www.harriganscameronpark.com.au/event/thursday-pizza-night-2/2025-09-25/
LOCATION:Harrigan’s Cameron Park\, 70 McKendry Drive\, Cameron Park\, NSW\, 2285\, Australia
CATEGORIES:Weekly Dining Specials
ATTACH;FMTTYPE=image/jpeg:https://www.harriganscameronpark.com.au/wp-content/uploads/2026/01/hcp_2026_thursday_pizza_night_web_800x600.jpg
END:VEVENT
BEGIN:VEVENT
DTSTART;TZID=Australia/Sydney:20250924T190000
DTEND;TZID=Australia/Sydney:20250924T203000
DTSTAMP:20260425T074821
CREATED:20240131T001940Z
LAST-MODIFIED:20260130T000749Z
UID:10014099-1758740400-1758745800@www.harriganscameronpark.com.au
SUMMARY:Trivia Night
DESCRIPTION:Win your share of $130 in Harrigan’s vouchers every Wednesday night!\nSwing by Harrigan’s Cameron Park for our weekly trivia\, on EVERY Wednesday from 7pm in the Sports Bar. \nDoes winning make you hungry? Enjoy an $18 schnitzel with chips\, salad and gravy with Schnitty Night from 5pm. \nCome on down and join us! We can’t wait to know your name. \nBook Now
URL:https://www.harriganscameronpark.com.au/event/trivia-night/2025-09-24/
LOCATION:Harrigan’s Cameron Park\, 70 McKendry Drive\, Cameron Park\, NSW\, 2285\, Australia
CATEGORIES:Weekly Events
ATTACH;FMTTYPE=image/jpeg:https://www.harriganscameronpark.com.au/wp-content/uploads/2024/01/hcp_trivia_night_website_800x600.jpg
END:VEVENT
BEGIN:VEVENT
DTSTART;TZID=Australia/Sydney:20250924T170000
DTEND;TZID=Australia/Sydney:20250924T203000
DTSTAMP:20260425T074821
CREATED:20230913T021055Z
LAST-MODIFIED:20260420T022819Z
UID:10011740-1758733200-1758745800@www.harriganscameronpark.com.au
SUMMARY:Schnitty Night
DESCRIPTION:Wednesday night is Schnitty Night at Harrigan’s Cameron Park. \nJoin us from 5pm for an $18 schnitzel with chips\, salad and your choice of sauce.
URL:https://www.harriganscameronpark.com.au/event/wednesday-schnitzel-night/2025-09-24/
LOCATION:Harrigan’s Cameron Park\, 70 McKendry Drive\, Cameron Park\, NSW\, 2285\, Australia
CATEGORIES:Weekly Dining Specials
ATTACH;FMTTYPE=image/jpeg:https://www.harriganscameronpark.com.au/wp-content/uploads/2026/01/hcp_2026_wednesday_schnitty_night_web_800x600.jpg
END:VEVENT
BEGIN:VEVENT
DTSTART;TZID=Australia/Sydney:20250923T183000
DTEND;TZID=Australia/Sydney:20250923T203000
DTSTAMP:20260425T074821
CREATED:20250812T002839Z
LAST-MODIFIED:20260130T000002Z
UID:10013735-1758652200-1758659400@www.harriganscameronpark.com.au
SUMMARY:Pool Knockout Competition
DESCRIPTION:Think you have what it takes to win our pool competition? \nJoin us every Tuesday night from 6:30pm in the Sports Bar for knockout-style game\, with the winner taking home a $60 venue voucher and second place taking home a $40 venue voucher. \nThe competition will run on our house rules\, which will be on display each week. \nFREE TO ENTER
URL:https://www.harriganscameronpark.com.au/event/pool-comp/2025-09-23/
LOCATION:Harrigan’s Cameron Park\, 70 McKendry Drive\, Cameron Park\, NSW\, 2285\, Australia
CATEGORIES:Weekly Events
ATTACH;FMTTYPE=image/jpeg:https://www.harriganscameronpark.com.au/wp-content/uploads/2025/08/hcp_pool_comp_website_800x600.jpg
END:VEVENT
BEGIN:VEVENT
DTSTART;TZID=Australia/Sydney:20250923T170000
DTEND;TZID=Australia/Sydney:20250923T203000
DTSTAMP:20260425T074821
CREATED:20250527T025530Z
LAST-MODIFIED:20260420T023205Z
UID:10007892-1758646800-1758659400@www.harriganscameronpark.com.au
SUMMARY:Burger Night
DESCRIPTION:Tuesday night is Burger night at Harrigan’s Cameron Park. \nJoin us from 5pm for $20 burgers. Includes any burger from the menu and specials.
URL:https://www.harriganscameronpark.com.au/event/burger-night/2025-09-23/
LOCATION:Harrigan’s Cameron Park\, 70 McKendry Drive\, Cameron Park\, NSW\, 2285\, Australia
CATEGORIES:Weekly Dining Specials
ATTACH;FMTTYPE=image/jpeg:https://www.harriganscameronpark.com.au/wp-content/uploads/2026/01/hcp_2026_tuesday_burger_night_web_800x600.jpg
END:VEVENT
BEGIN:VEVENT
DTSTART;TZID=Australia/Sydney:20250922T170000
DTEND;TZID=Australia/Sydney:20250922T203000
DTSTAMP:20260425T074821
CREATED:20230913T020318Z
LAST-MODIFIED:20260420T020821Z
UID:10007078-1758560400-1758573000@www.harriganscameronpark.com.au
SUMMARY:Kids Eat Free
DESCRIPTION:Kids Eat Free every Monday night at Harrigan’s Cameron Park. \nAvailable from 5pm\, purchase any adult main to redeem.
URL:https://www.harriganscameronpark.com.au/event/kids-eat-free/2025-09-22/
LOCATION:Harrigan’s Cameron Park\, 70 McKendry Drive\, Cameron Park\, NSW\, 2285\, Australia
CATEGORIES:Weekly Dining Specials
ATTACH;FMTTYPE=image/jpeg:https://www.harriganscameronpark.com.au/wp-content/uploads/2026/01/hcp_2026_monday_kids_eat_free_web_800x600.jpg
END:VEVENT
BEGIN:VEVENT
DTSTART;TZID=Australia/Sydney:20250921T170000
DTEND;TZID=Australia/Sydney:20250921T203000
DTSTAMP:20260425T074821
CREATED:20250527T030044Z
LAST-MODIFIED:20260420T023232Z
UID:10008933-1758474000-1758486600@www.harriganscameronpark.com.au
SUMMARY:Curry Night
DESCRIPTION:Sunday night is Curry night at Harrigan’s Cameron Park. \nEnjoy a delicious curry with rice and naan for just $20!
URL:https://www.harriganscameronpark.com.au/event/curry-night/2025-09-21/
LOCATION:Harrigan’s Cameron Park\, 70 McKendry Drive\, Cameron Park\, NSW\, 2285\, Australia
CATEGORIES:Weekly Dining Specials
ATTACH;FMTTYPE=image/jpeg:https://www.harriganscameronpark.com.au/wp-content/uploads/2026/01/hcp_2026_sunday_curry_night_web_800x600.jpg
END:VEVENT
BEGIN:VEVENT
DTSTART;TZID=Australia/Sydney:20250921T140000
DTEND;TZID=Australia/Sydney:20250921T170000
DTSTAMP:20260425T074821
CREATED:20250903T061223Z
LAST-MODIFIED:20250903T061223Z
UID:10011332-1758463200-1758474000@www.harriganscameronpark.com.au
SUMMARY:Glen Harrison
DESCRIPTION:Live music every weekend at Harrigan’s Cameron Park
URL:https://www.harriganscameronpark.com.au/event/glen-harrison-6/
LOCATION:NSW
CATEGORIES:Live Music
ATTACH;FMTTYPE=image/jpeg:https://www.harriganscameronpark.com.au/wp-content/uploads/2025/01/HCP_live_music_web_glenharrison.jpg
END:VEVENT
BEGIN:VEVENT
DTSTART;TZID=Australia/Sydney:20250920T203000
DTEND;TZID=Australia/Sydney:20250920T233000
DTSTAMP:20260425T074821
CREATED:20250903T061223Z
LAST-MODIFIED:20250903T061223Z
UID:10011331-1758400200-1758411000@www.harriganscameronpark.com.au
SUMMARY:Rock Rhapsody
DESCRIPTION:Live music every weekend at Harrigan’s Cameron Park
URL:https://www.harriganscameronpark.com.au/event/rock-rhapsody-7/
LOCATION:NSW
CATEGORIES:Live Music
ATTACH;FMTTYPE=image/jpeg:https://www.harriganscameronpark.com.au/wp-content/uploads/2025/01/HCP_live_music_web_rockrhapsody.jpg
END:VEVENT
BEGIN:VEVENT
DTSTART;TZID=Australia/Sydney:20250920T120000
DTEND;TZID=Australia/Sydney:20250920T230000
DTSTAMP:20260425T074821
CREATED:20250903T062548Z
LAST-MODIFIED:20250903T062548Z
UID:10011336-1758369600-1758409200@www.harriganscameronpark.com.au
SUMMARY:Happy Birthday TWO Harrigan's!
DESCRIPTION:Harrigan’s Cameron Park Turns 2! 🎉\nCan you believe your local is almost 2 years old?! It’s been an incredible ride\, and we’re celebrating the only way we know how – with a massive birthday bash for the whole community! \nJoin us for a full day of fun\, food\, footy\, and live entertainment. \n🪩 Kids Disco | 12pm–2pm\nLet the little ones dance their hearts out at our family-friendly disco – fun tunes\, good vibes\, and lots of laughs! \n🏉 NRL Semi Final Live & Loud | From 7:30pm (TBC)\nCatch every minute of the action on the big screen with all your mates and your favourite drink in hand. \n🎸 Rock Rhapsody Live | 8:30pm-late\nKick on into the night with an epic live set from Rock Rhapsody – it’s going to be one hell of a party! \nCome raise a glass with us and celebrate two amazing years of Harrigan’s Cameron Park. See you there!
URL:https://www.harriganscameronpark.com.au/event/2nd-birthday/
LOCATION:Harrigan’s Cameron Park\, 70 McKendry Drive\, Cameron Park\, NSW\, 2285\, Australia
CATEGORIES:Special Events
ATTACH;FMTTYPE=image/jpeg:https://www.harriganscameronpark.com.au/wp-content/uploads/2025/09/HCP2025_095_2nd_birthday_web_800x630.jpg
END:VEVENT
BEGIN:VEVENT
DTSTART;TZID=Australia/Sydney:20250919T203000
DTEND;TZID=Australia/Sydney:20250920T013000
DTSTAMP:20260425T074821
CREATED:20250903T061222Z
LAST-MODIFIED:20250903T061222Z
UID:10011330-1758313800-1758331800@www.harriganscameronpark.com.au
SUMMARY:DJ Searly
DESCRIPTION:Live music every weekend at Harrigan’s Cameron Park
URL:https://www.harriganscameronpark.com.au/event/dj-searly-6/
LOCATION:NSW
CATEGORIES:Live Music
ATTACH;FMTTYPE=image/jpeg:https://www.harriganscameronpark.com.au/wp-content/uploads/2025/07/HCP_live_music_web_djsearly2.jpg
END:VEVENT
BEGIN:VEVENT
DTSTART;TZID=Australia/Sydney:20250919T200000
DTEND;TZID=Australia/Sydney:20250920T013000
DTSTAMP:20260425T074821
CREATED:20250627T020910Z
LAST-MODIFIED:20260212T025734Z
UID:10010789-1758312000-1758331800@www.harriganscameronpark.com.au
SUMMARY:Sip & Spin
DESCRIPTION:Fridays just got a whole lot better! \nKickstart your weekend every Friday night at Harrigan’s! Sip on delicious cocktails and house spirit specials while listening to the live DJ spin hits to get you on the dancefloor. \n\n2 for $25 Cocktails\, 8pm-10pm\n$7 House Spirits\, 8pm-2am\nLive DJ\, 8:30pm-1:30am
URL:https://www.harriganscameronpark.com.au/event/sip-and-spin/2025-09-19/
LOCATION:NSW
CATEGORIES:Weekly Dining Specials,Weekly Events
ATTACH;FMTTYPE=image/jpeg:https://www.harriganscameronpark.com.au/wp-content/uploads/2026/01/hcp_2026_friday_sip_spin_web_800x600.jpg
END:VEVENT
BEGIN:VEVENT
DTSTART;TZID=Australia/Sydney:20250918T193000
DTEND;TZID=Australia/Sydney:20250918T200000
DTSTAMP:20260425T074821
CREATED:20240226T234549Z
LAST-MODIFIED:20260130T010759Z
UID:10001414-1758223800-1758225600@www.harriganscameronpark.com.au
SUMMARY:Social Club Draw4 Cash
DESCRIPTION:Be Numero Uno & WIN CASH!\nCalling all Harrigan’s Social Club Members! Join us at Harrigan’s Cameron Park every Thursday Night at 7:30pm for your chance to win some COLD HARD CASH! \nJackpot starts at $1\,000 & increases by $100 each week until a Harrigan’s Social Club Member* wins. \nAre you not part of the club? It’s FREE to join! Sign up to the Harrigan’s Social Club HERE. \n*Member must be in the venue at the time of the draw to participate. Read the full T&Cs \nHave a bite or grab a beer while you wait – secure your table now! \nBook Now
URL:https://www.harriganscameronpark.com.au/event/social-club-draw4-cash/2025-09-18/
LOCATION:Harrigan’s Cameron Park\, 70 McKendry Drive\, Cameron Park\, NSW\, 2285\, Australia
CATEGORIES:Weekly Events
ATTACH;FMTTYPE=image/jpeg:https://www.harriganscameronpark.com.au/wp-content/uploads/2024/02/hcp_draw4cash_website_800x600.jpg
END:VEVENT
BEGIN:VEVENT
DTSTART;TZID=Australia/Sydney:20250918T190000
DTEND;TZID=Australia/Sydney:20250918T203000
DTSTAMP:20260425T074821
CREATED:20250130T222006Z
LAST-MODIFIED:20260130T010127Z
UID:10014415-1758222000-1758227400@www.harriganscameronpark.com.au
SUMMARY:Thursday Poker Night: Hosted by the APL
DESCRIPTION:♠️ Thursday Poker Night at Harrigan’s Cameron Park ♠️ \nThink you’ve got the winning hand? Join us every Thursday at 7pm (excluding public holidays) for Poker Night in the Sports Bar\, hosted by the Australian Poker League (APL)! \n💵 Buy-In: $25\n🔄 Buy-Back: $20\n🏆 Prize Pool: Minimum $500 for the winner! \nPlus\, if you’re feeling hungry\, book a table before the game and enjoy $20 Pizza Night alongside the action! Choose the chef’s special or any pizza from our menu—dine in or take it away. \nGather your mates and make it a Thursday tradition at Harrigan’s Cameron Park. See you at the tables! 🃏 \nBook Dinner Upcoming Games
URL:https://www.harriganscameronpark.com.au/event/thursday-poker-night-2/2025-09-18/
LOCATION:Harrigan’s Cameron Park\, 70 McKendry Drive\, Cameron Park\, NSW\, 2285\, Australia
CATEGORIES:Weekly Events
ATTACH;FMTTYPE=image/jpeg:https://www.harriganscameronpark.com.au/wp-content/uploads/2025/01/poker-night_website_800x600px.jpg
END:VEVENT
BEGIN:VEVENT
DTSTART;TZID=Australia/Sydney:20250918T170000
DTEND;TZID=Australia/Sydney:20250918T203000
DTSTAMP:20260425T074821
CREATED:20250527T024721Z
LAST-MODIFIED:20260420T021751Z
UID:10003908-1758214800-1758227400@www.harriganscameronpark.com.au
SUMMARY:Pizza Night
DESCRIPTION:Thursday night is Pizza night at Harrigan’s Cameron Park. \nJoin us from 5pm for a $20 pizza – dine in or takeaway! \nIncludes chef’s special or any pizza from the menu.
URL:https://www.harriganscameronpark.com.au/event/thursday-pizza-night-2/2025-09-18/
LOCATION:Harrigan’s Cameron Park\, 70 McKendry Drive\, Cameron Park\, NSW\, 2285\, Australia
CATEGORIES:Weekly Dining Specials
ATTACH;FMTTYPE=image/jpeg:https://www.harriganscameronpark.com.au/wp-content/uploads/2026/01/hcp_2026_thursday_pizza_night_web_800x600.jpg
END:VEVENT
END:VCALENDAR