BEGIN:VCALENDAR
VERSION:2.0
PRODID:-//Harrigan&#039;s Cameron Park - ECPv6.15.20//NONSGML v1.0//EN
CALSCALE:GREGORIAN
METHOD:PUBLISH
X-WR-CALNAME:Harrigan&#039;s Cameron Park
X-ORIGINAL-URL:https://www.harriganscameronpark.com.au
X-WR-CALDESC:Events for Harrigan&#039;s Cameron Park
REFRESH-INTERVAL;VALUE=DURATION:PT1H
X-Robots-Tag:noindex
X-PUBLISHED-TTL:PT1H
BEGIN:VTIMEZONE
TZID:Australia/Sydney
BEGIN:STANDARD
TZOFFSETFROM:+1100
TZOFFSETTO:+1000
TZNAME:AEST
DTSTART:20240406T160000
END:STANDARD
BEGIN:DAYLIGHT
TZOFFSETFROM:+1000
TZOFFSETTO:+1100
TZNAME:AEDT
DTSTART:20241005T160000
END:DAYLIGHT
BEGIN:STANDARD
TZOFFSETFROM:+1100
TZOFFSETTO:+1000
TZNAME:AEST
DTSTART:20250405T160000
END:STANDARD
BEGIN:DAYLIGHT
TZOFFSETFROM:+1000
TZOFFSETTO:+1100
TZNAME:AEDT
DTSTART:20251004T160000
END:DAYLIGHT
BEGIN:STANDARD
TZOFFSETFROM:+1100
TZOFFSETTO:+1000
TZNAME:AEST
DTSTART:20260404T160000
END:STANDARD
BEGIN:DAYLIGHT
TZOFFSETFROM:+1000
TZOFFSETTO:+1100
TZNAME:AEDT
DTSTART:20261003T160000
END:DAYLIGHT
END:VTIMEZONE
BEGIN:VEVENT
DTSTART;TZID=Australia/Sydney:20251029T170000
DTEND;TZID=Australia/Sydney:20251029T203000
DTSTAMP:20260423T090546
CREATED:20230913T021055Z
LAST-MODIFIED:20260420T022819Z
UID:10011745-1761757200-1761769800@www.harriganscameronpark.com.au
SUMMARY:Schnitty Night
DESCRIPTION:Wednesday night is Schnitty Night at Harrigan’s Cameron Park. \nJoin us from 5pm for an $18 schnitzel with chips\, salad and your choice of sauce.
URL:https://www.harriganscameronpark.com.au/event/wednesday-schnitzel-night/2025-10-29/
LOCATION:Harrigan’s Cameron Park\, 70 McKendry Drive\, Cameron Park\, NSW\, 2285\, Australia
CATEGORIES:Weekly Dining Specials
ATTACH;FMTTYPE=image/jpeg:https://www.harriganscameronpark.com.au/wp-content/uploads/2026/01/hcp_2026_wednesday_schnitty_night_web_800x600.jpg
END:VEVENT
BEGIN:VEVENT
DTSTART;TZID=Australia/Sydney:20251028T190000
DTEND;TZID=Australia/Sydney:20251028T200000
DTSTAMP:20260423T090546
CREATED:20251015T043502Z
LAST-MODIFIED:20251015T043550Z
UID:10011370-1761678000-1761681600@www.harriganscameronpark.com.au
SUMMARY:Drag Bingo with Timberlina
DESCRIPTION:🎉 Drag Bingo with Timberlina is back at Harrigan’s Cameron Park! 🎉\nGet ready for a night of laughter\, sass\, and fabulous fun with the one and only Timberlina\, Newcastle’s iconic queen! She’ll be calling the numbers\, cracking the jokes\, and keeping the energy sky-high all night long. \n📅 Tuesday 28 October & 25 November\n⏰ From 7pm\n💃 FREE ENTRY! \nGrab your friends\, bring your best game face\, and prepare for a bingo night you won’t forget — filled with cheeky banter\, big laughs\, and fierce competition. \nT&C APPLY. 18+ EVENT ONLY.
URL:https://www.harriganscameronpark.com.au/event/drag-bingo-with-timberlina/
LOCATION:Harrigan’s Cameron Park\, 70 McKendry Drive\, Cameron Park\, NSW\, 2285\, Australia
CATEGORIES:Special Events
ATTACH;FMTTYPE=image/jpeg:https://www.harriganscameronpark.com.au/wp-content/uploads/2025/10/HCP2025_121_drag_bingo_web_800x630.jpg
END:VEVENT
BEGIN:VEVENT
DTSTART;TZID=Australia/Sydney:20251028T183000
DTEND;TZID=Australia/Sydney:20251028T203000
DTSTAMP:20260423T090546
CREATED:20250812T002839Z
LAST-MODIFIED:20260130T000002Z
UID:10013740-1761676200-1761683400@www.harriganscameronpark.com.au
SUMMARY:Pool Knockout Competition
DESCRIPTION:Think you have what it takes to win our pool competition? \nJoin us every Tuesday night from 6:30pm in the Sports Bar for knockout-style game\, with the winner taking home a $60 venue voucher and second place taking home a $40 venue voucher. \nThe competition will run on our house rules\, which will be on display each week. \nFREE TO ENTER
URL:https://www.harriganscameronpark.com.au/event/pool-comp/2025-10-28/
LOCATION:Harrigan’s Cameron Park\, 70 McKendry Drive\, Cameron Park\, NSW\, 2285\, Australia
CATEGORIES:Weekly Events
ATTACH;FMTTYPE=image/jpeg:https://www.harriganscameronpark.com.au/wp-content/uploads/2025/08/hcp_pool_comp_website_800x600.jpg
END:VEVENT
BEGIN:VEVENT
DTSTART;TZID=Australia/Sydney:20251028T170000
DTEND;TZID=Australia/Sydney:20251028T203000
DTSTAMP:20260423T090546
CREATED:20250527T025530Z
LAST-MODIFIED:20260420T023205Z
UID:10007897-1761670800-1761683400@www.harriganscameronpark.com.au
SUMMARY:Burger Night
DESCRIPTION:Tuesday night is Burger night at Harrigan’s Cameron Park. \nJoin us from 5pm for $20 burgers. Includes any burger from the menu and specials.
URL:https://www.harriganscameronpark.com.au/event/burger-night/2025-10-28/
LOCATION:Harrigan’s Cameron Park\, 70 McKendry Drive\, Cameron Park\, NSW\, 2285\, Australia
CATEGORIES:Weekly Dining Specials
ATTACH;FMTTYPE=image/jpeg:https://www.harriganscameronpark.com.au/wp-content/uploads/2026/01/hcp_2026_tuesday_burger_night_web_800x600.jpg
END:VEVENT
BEGIN:VEVENT
DTSTART;TZID=Australia/Sydney:20251027T170000
DTEND;TZID=Australia/Sydney:20251027T203000
DTSTAMP:20260423T090546
CREATED:20230913T020318Z
LAST-MODIFIED:20260420T020821Z
UID:10007083-1761584400-1761597000@www.harriganscameronpark.com.au
SUMMARY:Kids Eat Free
DESCRIPTION:Kids Eat Free every Monday night at Harrigan’s Cameron Park. \nAvailable from 5pm\, purchase any adult main to redeem.
URL:https://www.harriganscameronpark.com.au/event/kids-eat-free/2025-10-27/
LOCATION:Harrigan’s Cameron Park\, 70 McKendry Drive\, Cameron Park\, NSW\, 2285\, Australia
CATEGORIES:Weekly Dining Specials
ATTACH;FMTTYPE=image/jpeg:https://www.harriganscameronpark.com.au/wp-content/uploads/2026/01/hcp_2026_monday_kids_eat_free_web_800x600.jpg
END:VEVENT
BEGIN:VEVENT
DTSTART;TZID=Australia/Sydney:20251026T170000
DTEND;TZID=Australia/Sydney:20251026T203000
DTSTAMP:20260423T090546
CREATED:20250527T030044Z
LAST-MODIFIED:20260420T023232Z
UID:10008938-1761498000-1761510600@www.harriganscameronpark.com.au
SUMMARY:Curry Night
DESCRIPTION:Sunday night is Curry night at Harrigan’s Cameron Park. \nEnjoy a delicious curry with rice and naan for just $20!
URL:https://www.harriganscameronpark.com.au/event/curry-night/2025-10-26/
LOCATION:Harrigan’s Cameron Park\, 70 McKendry Drive\, Cameron Park\, NSW\, 2285\, Australia
CATEGORIES:Weekly Dining Specials
ATTACH;FMTTYPE=image/jpeg:https://www.harriganscameronpark.com.au/wp-content/uploads/2026/01/hcp_2026_sunday_curry_night_web_800x600.jpg
END:VEVENT
BEGIN:VEVENT
DTSTART;TZID=Australia/Sydney:20251026T140000
DTEND;TZID=Australia/Sydney:20251026T170000
DTSTAMP:20260423T090546
CREATED:20250923T053024Z
LAST-MODIFIED:20250923T053024Z
UID:10011356-1761487200-1761498000@www.harriganscameronpark.com.au
SUMMARY:Josh Drinkwater
DESCRIPTION:Live music every weekend at Harrigan’s Cameron Park
URL:https://www.harriganscameronpark.com.au/event/josh-drinkwater-7/
LOCATION:NSW
CATEGORIES:Live Music
ATTACH;FMTTYPE=image/jpeg:https://www.harriganscameronpark.com.au/wp-content/uploads/2025/01/HCP_live_music_web_joshdrinkwater.jpg
END:VEVENT
BEGIN:VEVENT
DTSTART;TZID=Australia/Sydney:20251025T203000
DTEND;TZID=Australia/Sydney:20251025T233000
DTSTAMP:20260423T090546
CREATED:20250923T053023Z
LAST-MODIFIED:20251003T020933Z
UID:10011355-1761424200-1761435000@www.harriganscameronpark.com.au
SUMMARY:CC Lee & The Groove
DESCRIPTION:Live music every weekend at Harrigan’s Cameron Park. \nWelcome to the world of CC Lee\, where music meets magic\, and every note is a celebration! With a rich tapestry of experience and a passion for creating unforgettable moments\, CC Lee is your premier choice!  \nThe band is fronted by the amazingly talented Claire Cassidy. With over 25 years experience performing both locally and internationally\, her focus is on delivering a dynamic stage performance which has earned her the moniker ‘The little hurricane’. A member of the legendary band The Nevilles for 13 years\, a group best known for their high-energy performances on Channel Nine’s The Footy Show\, Claire has toured nationally and internationally\, sharing the stage with countless acts and bringing her powerhouse vocals to audiences around the world. \nCC Lee & The Groove is a harmony of talented instrumentalists with extensive experience in performing in the Hunter\, and all over Australia and overseas. From soulful vocals to electrifying guitar riffs\, CC Lee’s instrumentalists elevate the musical experience\, leaving a lasting imprint!
URL:https://www.harriganscameronpark.com.au/event/cc-lee-the-groove-6/
LOCATION:NSW
CATEGORIES:Live Music
ATTACH;FMTTYPE=image/jpeg:https://www.harriganscameronpark.com.au/wp-content/uploads/2024/03/202404_cc-lee-the-groove_800x630px.jpg
END:VEVENT
BEGIN:VEVENT
DTSTART;TZID=Australia/Sydney:20251024T203000
DTEND;TZID=Australia/Sydney:20251025T013000
DTSTAMP:20260423T090546
CREATED:20250923T053010Z
LAST-MODIFIED:20250923T053010Z
UID:10011354-1761337800-1761355800@www.harriganscameronpark.com.au
SUMMARY:DJ Calicious
DESCRIPTION:Live music every weekend at Harrigan’s Cameron Park
URL:https://www.harriganscameronpark.com.au/event/dj-calicious-10/
LOCATION:NSW
CATEGORIES:Live Music
ATTACH;FMTTYPE=image/jpeg:https://www.harriganscameronpark.com.au/wp-content/uploads/2024/12/202501_dj-calicious_web-800x630px.jpg
END:VEVENT
BEGIN:VEVENT
DTSTART;TZID=Australia/Sydney:20251024T200000
DTEND;TZID=Australia/Sydney:20251025T013000
DTSTAMP:20260423T090546
CREATED:20250627T020910Z
LAST-MODIFIED:20260212T025734Z
UID:10010794-1761336000-1761355800@www.harriganscameronpark.com.au
SUMMARY:Sip & Spin
DESCRIPTION:Fridays just got a whole lot better! \nKickstart your weekend every Friday night at Harrigan’s! Sip on delicious cocktails and house spirit specials while listening to the live DJ spin hits to get you on the dancefloor. \n\n2 for $25 Cocktails\, 8pm-10pm\n$7 House Spirits\, 8pm-2am\nLive DJ\, 8:30pm-1:30am
URL:https://www.harriganscameronpark.com.au/event/sip-and-spin/2025-10-24/
LOCATION:NSW
CATEGORIES:Weekly Dining Specials,Weekly Events
ATTACH;FMTTYPE=image/jpeg:https://www.harriganscameronpark.com.au/wp-content/uploads/2026/01/hcp_2026_friday_sip_spin_web_800x600.jpg
END:VEVENT
BEGIN:VEVENT
DTSTART;TZID=Australia/Sydney:20251023T193000
DTEND;TZID=Australia/Sydney:20251023T200000
DTSTAMP:20260423T090546
CREATED:20240226T234549Z
LAST-MODIFIED:20260130T010759Z
UID:10001419-1761247800-1761249600@www.harriganscameronpark.com.au
SUMMARY:Social Club Draw4 Cash
DESCRIPTION:Be Numero Uno & WIN CASH!\nCalling all Harrigan’s Social Club Members! Join us at Harrigan’s Cameron Park every Thursday Night at 7:30pm for your chance to win some COLD HARD CASH! \nJackpot starts at $1\,000 & increases by $100 each week until a Harrigan’s Social Club Member* wins. \nAre you not part of the club? It’s FREE to join! Sign up to the Harrigan’s Social Club HERE. \n*Member must be in the venue at the time of the draw to participate. Read the full T&Cs \nHave a bite or grab a beer while you wait – secure your table now! \nBook Now
URL:https://www.harriganscameronpark.com.au/event/social-club-draw4-cash/2025-10-23/
LOCATION:Harrigan’s Cameron Park\, 70 McKendry Drive\, Cameron Park\, NSW\, 2285\, Australia
CATEGORIES:Weekly Events
ATTACH;FMTTYPE=image/jpeg:https://www.harriganscameronpark.com.au/wp-content/uploads/2024/02/hcp_draw4cash_website_800x600.jpg
END:VEVENT
BEGIN:VEVENT
DTSTART;TZID=Australia/Sydney:20251023T190000
DTEND;TZID=Australia/Sydney:20251023T203000
DTSTAMP:20260423T090546
CREATED:20250130T222006Z
LAST-MODIFIED:20260130T010127Z
UID:10014420-1761246000-1761251400@www.harriganscameronpark.com.au
SUMMARY:Thursday Poker Night: Hosted by the APL
DESCRIPTION:♠️ Thursday Poker Night at Harrigan’s Cameron Park ♠️ \nThink you’ve got the winning hand? Join us every Thursday at 7pm (excluding public holidays) for Poker Night in the Sports Bar\, hosted by the Australian Poker League (APL)! \n💵 Buy-In: $25\n🔄 Buy-Back: $20\n🏆 Prize Pool: Minimum $500 for the winner! \nPlus\, if you’re feeling hungry\, book a table before the game and enjoy $20 Pizza Night alongside the action! Choose the chef’s special or any pizza from our menu—dine in or take it away. \nGather your mates and make it a Thursday tradition at Harrigan’s Cameron Park. See you at the tables! 🃏 \nBook Dinner Upcoming Games
URL:https://www.harriganscameronpark.com.au/event/thursday-poker-night-2/2025-10-23/
LOCATION:Harrigan’s Cameron Park\, 70 McKendry Drive\, Cameron Park\, NSW\, 2285\, Australia
CATEGORIES:Weekly Events
ATTACH;FMTTYPE=image/jpeg:https://www.harriganscameronpark.com.au/wp-content/uploads/2025/01/poker-night_website_800x600px.jpg
END:VEVENT
BEGIN:VEVENT
DTSTART;TZID=Australia/Sydney:20251023T170000
DTEND;TZID=Australia/Sydney:20251023T203000
DTSTAMP:20260423T090546
CREATED:20250527T024721Z
LAST-MODIFIED:20260420T021751Z
UID:10003913-1761238800-1761251400@www.harriganscameronpark.com.au
SUMMARY:Pizza Night
DESCRIPTION:Thursday night is Pizza night at Harrigan’s Cameron Park. \nJoin us from 5pm for a $20 pizza – dine in or takeaway! \nIncludes chef’s special or any pizza from the menu.
URL:https://www.harriganscameronpark.com.au/event/thursday-pizza-night-2/2025-10-23/
LOCATION:Harrigan’s Cameron Park\, 70 McKendry Drive\, Cameron Park\, NSW\, 2285\, Australia
CATEGORIES:Weekly Dining Specials
ATTACH;FMTTYPE=image/jpeg:https://www.harriganscameronpark.com.au/wp-content/uploads/2026/01/hcp_2026_thursday_pizza_night_web_800x600.jpg
END:VEVENT
BEGIN:VEVENT
DTSTART;TZID=Australia/Sydney:20251022T190000
DTEND;TZID=Australia/Sydney:20251022T203000
DTSTAMP:20260423T090546
CREATED:20240131T001940Z
LAST-MODIFIED:20260130T000749Z
UID:10014103-1761159600-1761165000@www.harriganscameronpark.com.au
SUMMARY:Trivia Night
DESCRIPTION:Win your share of $130 in Harrigan’s vouchers every Wednesday night!\nSwing by Harrigan’s Cameron Park for our weekly trivia\, on EVERY Wednesday from 7pm in the Sports Bar. \nDoes winning make you hungry? Enjoy an $18 schnitzel with chips\, salad and gravy with Schnitty Night from 5pm. \nCome on down and join us! We can’t wait to know your name. \nBook Now
URL:https://www.harriganscameronpark.com.au/event/trivia-night/2025-10-22/
LOCATION:Harrigan’s Cameron Park\, 70 McKendry Drive\, Cameron Park\, NSW\, 2285\, Australia
CATEGORIES:Weekly Events
ATTACH;FMTTYPE=image/jpeg:https://www.harriganscameronpark.com.au/wp-content/uploads/2024/01/hcp_trivia_night_website_800x600.jpg
END:VEVENT
BEGIN:VEVENT
DTSTART;TZID=Australia/Sydney:20251022T170000
DTEND;TZID=Australia/Sydney:20251022T203000
DTSTAMP:20260423T090546
CREATED:20230913T021055Z
LAST-MODIFIED:20260420T022819Z
UID:10011744-1761152400-1761165000@www.harriganscameronpark.com.au
SUMMARY:Schnitty Night
DESCRIPTION:Wednesday night is Schnitty Night at Harrigan’s Cameron Park. \nJoin us from 5pm for an $18 schnitzel with chips\, salad and your choice of sauce.
URL:https://www.harriganscameronpark.com.au/event/wednesday-schnitzel-night/2025-10-22/
LOCATION:Harrigan’s Cameron Park\, 70 McKendry Drive\, Cameron Park\, NSW\, 2285\, Australia
CATEGORIES:Weekly Dining Specials
ATTACH;FMTTYPE=image/jpeg:https://www.harriganscameronpark.com.au/wp-content/uploads/2026/01/hcp_2026_wednesday_schnitty_night_web_800x600.jpg
END:VEVENT
BEGIN:VEVENT
DTSTART;TZID=Australia/Sydney:20251021T183000
DTEND;TZID=Australia/Sydney:20251021T203000
DTSTAMP:20260423T090546
CREATED:20250812T002839Z
LAST-MODIFIED:20260130T000002Z
UID:10013739-1761071400-1761078600@www.harriganscameronpark.com.au
SUMMARY:Pool Knockout Competition
DESCRIPTION:Think you have what it takes to win our pool competition? \nJoin us every Tuesday night from 6:30pm in the Sports Bar for knockout-style game\, with the winner taking home a $60 venue voucher and second place taking home a $40 venue voucher. \nThe competition will run on our house rules\, which will be on display each week. \nFREE TO ENTER
URL:https://www.harriganscameronpark.com.au/event/pool-comp/2025-10-21/
LOCATION:Harrigan’s Cameron Park\, 70 McKendry Drive\, Cameron Park\, NSW\, 2285\, Australia
CATEGORIES:Weekly Events
ATTACH;FMTTYPE=image/jpeg:https://www.harriganscameronpark.com.au/wp-content/uploads/2025/08/hcp_pool_comp_website_800x600.jpg
END:VEVENT
BEGIN:VEVENT
DTSTART;TZID=Australia/Sydney:20251021T170000
DTEND;TZID=Australia/Sydney:20251021T203000
DTSTAMP:20260423T090546
CREATED:20250527T025530Z
LAST-MODIFIED:20260420T023205Z
UID:10007896-1761066000-1761078600@www.harriganscameronpark.com.au
SUMMARY:Burger Night
DESCRIPTION:Tuesday night is Burger night at Harrigan’s Cameron Park. \nJoin us from 5pm for $20 burgers. Includes any burger from the menu and specials.
URL:https://www.harriganscameronpark.com.au/event/burger-night/2025-10-21/
LOCATION:Harrigan’s Cameron Park\, 70 McKendry Drive\, Cameron Park\, NSW\, 2285\, Australia
CATEGORIES:Weekly Dining Specials
ATTACH;FMTTYPE=image/jpeg:https://www.harriganscameronpark.com.au/wp-content/uploads/2026/01/hcp_2026_tuesday_burger_night_web_800x600.jpg
END:VEVENT
BEGIN:VEVENT
DTSTART;TZID=Australia/Sydney:20251020T170000
DTEND;TZID=Australia/Sydney:20251020T203000
DTSTAMP:20260423T090546
CREATED:20230913T020318Z
LAST-MODIFIED:20260420T020821Z
UID:10007082-1760979600-1760992200@www.harriganscameronpark.com.au
SUMMARY:Kids Eat Free
DESCRIPTION:Kids Eat Free every Monday night at Harrigan’s Cameron Park. \nAvailable from 5pm\, purchase any adult main to redeem.
URL:https://www.harriganscameronpark.com.au/event/kids-eat-free/2025-10-20/
LOCATION:Harrigan’s Cameron Park\, 70 McKendry Drive\, Cameron Park\, NSW\, 2285\, Australia
CATEGORIES:Weekly Dining Specials
ATTACH;FMTTYPE=image/jpeg:https://www.harriganscameronpark.com.au/wp-content/uploads/2026/01/hcp_2026_monday_kids_eat_free_web_800x600.jpg
END:VEVENT
BEGIN:VEVENT
DTSTART;TZID=Australia/Sydney:20251019T170000
DTEND;TZID=Australia/Sydney:20251019T203000
DTSTAMP:20260423T090546
CREATED:20250527T030044Z
LAST-MODIFIED:20260420T023232Z
UID:10008937-1760893200-1760905800@www.harriganscameronpark.com.au
SUMMARY:Curry Night
DESCRIPTION:Sunday night is Curry night at Harrigan’s Cameron Park. \nEnjoy a delicious curry with rice and naan for just $20!
URL:https://www.harriganscameronpark.com.au/event/curry-night/2025-10-19/
LOCATION:Harrigan’s Cameron Park\, 70 McKendry Drive\, Cameron Park\, NSW\, 2285\, Australia
CATEGORIES:Weekly Dining Specials
ATTACH;FMTTYPE=image/jpeg:https://www.harriganscameronpark.com.au/wp-content/uploads/2026/01/hcp_2026_sunday_curry_night_web_800x600.jpg
END:VEVENT
BEGIN:VEVENT
DTSTART;TZID=Australia/Sydney:20251019T140000
DTEND;TZID=Australia/Sydney:20251019T170000
DTSTAMP:20260423T090546
CREATED:20250923T053010Z
LAST-MODIFIED:20250923T053010Z
UID:10011353-1760882400-1760893200@www.harriganscameronpark.com.au
SUMMARY:Emily Smith
DESCRIPTION:Live music every weekend at Harrigan’s Cameron Park
URL:https://www.harriganscameronpark.com.au/event/emily-smith-5/
LOCATION:NSW
CATEGORIES:Live Music
ATTACH;FMTTYPE=image/jpeg:https://www.harriganscameronpark.com.au/wp-content/uploads/2025/01/HCP_live_music_web_emilysmith.jpg
END:VEVENT
BEGIN:VEVENT
DTSTART;TZID=Australia/Sydney:20251018T203000
DTEND;TZID=Australia/Sydney:20251018T233000
DTSTAMP:20260423T090546
CREATED:20250923T053009Z
LAST-MODIFIED:20251003T020838Z
UID:10011352-1760819400-1760830200@www.harriganscameronpark.com.au
SUMMARY:Overload
DESCRIPTION:Live music every weekend at Harrigan’s Cameron Park. \nHailing from the heart of Newcastle\, Overload is a high-energy rock band electrifying the music scene with their raw power\, dynamic performances\, and undeniable charisma.  \nDrawing inspiration from classic rock giants and modern-day trailblazers\, Overload’s sound is a perfect fusion of thunderous riffs\, anthemic choruses\, and soul-stirring melodies. Since forming in 2004\, the band has carved a name for themselves through their relentless commitment to live music\, performing at some of Newcastle’s most iconic venues and beyond.  \nWith a lineup of seasoned musicians and emerging talents\, Overload brings a unique blend of experience and innovation to the stage. Their music captures the spirit of rock ‘n’ roll\, with lyrics that explore themes of resilience\, rebellion\, and the universal quest for connection.  \nOverload is more than just a band; they’re a sonic experience. Their infectious energy and magnetic presence have earned them a dedicated fanbase and cemented their reputation as one of Newcastle’s must-see acts.  \nWhether playing to an intimate crowd or headlining a festival stage\, Overload delivers every time\, leaving audiences craving more.
URL:https://www.harriganscameronpark.com.au/event/overload/
LOCATION:NSW
CATEGORIES:Live Music
ATTACH;FMTTYPE=image/jpeg:https://www.harriganscameronpark.com.au/wp-content/uploads/2025/09/Overload.jpg
END:VEVENT
BEGIN:VEVENT
DTSTART;TZID=Australia/Sydney:20251018T150000
DTEND;TZID=Australia/Sydney:20251018T170000
DTSTAMP:20260423T090546
CREATED:20251002T231734Z
LAST-MODIFIED:20251002T232319Z
UID:10011365-1760799600-1760806800@www.harriganscameronpark.com.au
SUMMARY:Spring Carnival Racing
DESCRIPTION:🐎 Spring Carnival Racing Live & Loud at Harrigan’s Cameron Park 🐎 \nThe races are on and we’re bringing all the Spring Carnival action to you on our massive screens! Soak up the atmosphere\, enjoy a punt\, and be part of the excitement across four huge race days. \n📅 Key Race Days:\n✨ 18 October – The Everest\n✨ 18 October – Caulfield Cup\n✨ 25 October – Cox Plate\n✨ 1 November – Derby Day \n🎉 2nd Chance Draws & Prizes\nFrom 3pm to 5pm\, we’re giving away 5 x $50 venue vouchers every 30 minutes!* That’s plenty of chances to win while you enjoy the racing action with us. \nGrab your mates\, enjoy a drink\, and catch all the thrills of the Spring Carnival live & loud at Harrigan’s Cameron Park. \n*Terms & Conditions apply.
URL:https://www.harriganscameronpark.com.au/event/spring-carnival-racing/
LOCATION:Harrigan’s Cameron Park\, 70 McKendry Drive\, Cameron Park\, NSW\, 2285\, Australia
CATEGORIES:Special Events,Sport Events
ATTACH;FMTTYPE=image/jpeg:https://www.harriganscameronpark.com.au/wp-content/uploads/2025/10/HCP2025_117_spring_carnival_web.jpg
END:VEVENT
BEGIN:VEVENT
DTSTART;TZID=Australia/Sydney:20251017T203000
DTEND;TZID=Australia/Sydney:20251018T013000
DTSTAMP:20260423T090546
CREATED:20250923T053009Z
LAST-MODIFIED:20250923T053009Z
UID:10011351-1760733000-1760751000@www.harriganscameronpark.com.au
SUMMARY:DJ Smashup
DESCRIPTION:Live music every weekend at Harrigan’s Cameron Park
URL:https://www.harriganscameronpark.com.au/event/dj-smashup-10/
LOCATION:NSW
CATEGORIES:Live Music
ATTACH;FMTTYPE=image/jpeg:https://www.harriganscameronpark.com.au/wp-content/uploads/2024/12/202501_dj-smashup_web-800x630px.jpg
END:VEVENT
BEGIN:VEVENT
DTSTART;TZID=Australia/Sydney:20251017T200000
DTEND;TZID=Australia/Sydney:20251018T013000
DTSTAMP:20260423T090546
CREATED:20250627T020910Z
LAST-MODIFIED:20260212T025734Z
UID:10010793-1760731200-1760751000@www.harriganscameronpark.com.au
SUMMARY:Sip & Spin
DESCRIPTION:Fridays just got a whole lot better! \nKickstart your weekend every Friday night at Harrigan’s! Sip on delicious cocktails and house spirit specials while listening to the live DJ spin hits to get you on the dancefloor. \n\n2 for $25 Cocktails\, 8pm-10pm\n$7 House Spirits\, 8pm-2am\nLive DJ\, 8:30pm-1:30am
URL:https://www.harriganscameronpark.com.au/event/sip-and-spin/2025-10-17/
LOCATION:NSW
CATEGORIES:Weekly Dining Specials,Weekly Events
ATTACH;FMTTYPE=image/jpeg:https://www.harriganscameronpark.com.au/wp-content/uploads/2026/01/hcp_2026_friday_sip_spin_web_800x600.jpg
END:VEVENT
BEGIN:VEVENT
DTSTART;TZID=Australia/Sydney:20251016T193000
DTEND;TZID=Australia/Sydney:20251016T200000
DTSTAMP:20260423T090546
CREATED:20240226T234549Z
LAST-MODIFIED:20260130T010759Z
UID:10001418-1760643000-1760644800@www.harriganscameronpark.com.au
SUMMARY:Social Club Draw4 Cash
DESCRIPTION:Be Numero Uno & WIN CASH!\nCalling all Harrigan’s Social Club Members! Join us at Harrigan’s Cameron Park every Thursday Night at 7:30pm for your chance to win some COLD HARD CASH! \nJackpot starts at $1\,000 & increases by $100 each week until a Harrigan’s Social Club Member* wins. \nAre you not part of the club? It’s FREE to join! Sign up to the Harrigan’s Social Club HERE. \n*Member must be in the venue at the time of the draw to participate. Read the full T&Cs \nHave a bite or grab a beer while you wait – secure your table now! \nBook Now
URL:https://www.harriganscameronpark.com.au/event/social-club-draw4-cash/2025-10-16/
LOCATION:Harrigan’s Cameron Park\, 70 McKendry Drive\, Cameron Park\, NSW\, 2285\, Australia
CATEGORIES:Weekly Events
ATTACH;FMTTYPE=image/jpeg:https://www.harriganscameronpark.com.au/wp-content/uploads/2024/02/hcp_draw4cash_website_800x600.jpg
END:VEVENT
BEGIN:VEVENT
DTSTART;TZID=Australia/Sydney:20251016T190000
DTEND;TZID=Australia/Sydney:20251016T203000
DTSTAMP:20260423T090546
CREATED:20250130T222006Z
LAST-MODIFIED:20260130T010127Z
UID:10014419-1760641200-1760646600@www.harriganscameronpark.com.au
SUMMARY:Thursday Poker Night: Hosted by the APL
DESCRIPTION:♠️ Thursday Poker Night at Harrigan’s Cameron Park ♠️ \nThink you’ve got the winning hand? Join us every Thursday at 7pm (excluding public holidays) for Poker Night in the Sports Bar\, hosted by the Australian Poker League (APL)! \n💵 Buy-In: $25\n🔄 Buy-Back: $20\n🏆 Prize Pool: Minimum $500 for the winner! \nPlus\, if you’re feeling hungry\, book a table before the game and enjoy $20 Pizza Night alongside the action! Choose the chef’s special or any pizza from our menu—dine in or take it away. \nGather your mates and make it a Thursday tradition at Harrigan’s Cameron Park. See you at the tables! 🃏 \nBook Dinner Upcoming Games
URL:https://www.harriganscameronpark.com.au/event/thursday-poker-night-2/2025-10-16/
LOCATION:Harrigan’s Cameron Park\, 70 McKendry Drive\, Cameron Park\, NSW\, 2285\, Australia
CATEGORIES:Weekly Events
ATTACH;FMTTYPE=image/jpeg:https://www.harriganscameronpark.com.au/wp-content/uploads/2025/01/poker-night_website_800x600px.jpg
END:VEVENT
BEGIN:VEVENT
DTSTART;TZID=Australia/Sydney:20251016T170000
DTEND;TZID=Australia/Sydney:20251016T203000
DTSTAMP:20260423T090546
CREATED:20250527T024721Z
LAST-MODIFIED:20260420T021751Z
UID:10003912-1760634000-1760646600@www.harriganscameronpark.com.au
SUMMARY:Pizza Night
DESCRIPTION:Thursday night is Pizza night at Harrigan’s Cameron Park. \nJoin us from 5pm for a $20 pizza – dine in or takeaway! \nIncludes chef’s special or any pizza from the menu.
URL:https://www.harriganscameronpark.com.au/event/thursday-pizza-night-2/2025-10-16/
LOCATION:Harrigan’s Cameron Park\, 70 McKendry Drive\, Cameron Park\, NSW\, 2285\, Australia
CATEGORIES:Weekly Dining Specials
ATTACH;FMTTYPE=image/jpeg:https://www.harriganscameronpark.com.au/wp-content/uploads/2026/01/hcp_2026_thursday_pizza_night_web_800x600.jpg
END:VEVENT
BEGIN:VEVENT
DTSTART;TZID=Australia/Sydney:20251015T190000
DTEND;TZID=Australia/Sydney:20251015T203000
DTSTAMP:20260423T090546
CREATED:20240131T001940Z
LAST-MODIFIED:20260130T000749Z
UID:10014102-1760554800-1760560200@www.harriganscameronpark.com.au
SUMMARY:Trivia Night
DESCRIPTION:Win your share of $130 in Harrigan’s vouchers every Wednesday night!\nSwing by Harrigan’s Cameron Park for our weekly trivia\, on EVERY Wednesday from 7pm in the Sports Bar. \nDoes winning make you hungry? Enjoy an $18 schnitzel with chips\, salad and gravy with Schnitty Night from 5pm. \nCome on down and join us! We can’t wait to know your name. \nBook Now
URL:https://www.harriganscameronpark.com.au/event/trivia-night/2025-10-15/
LOCATION:Harrigan’s Cameron Park\, 70 McKendry Drive\, Cameron Park\, NSW\, 2285\, Australia
CATEGORIES:Weekly Events
ATTACH;FMTTYPE=image/jpeg:https://www.harriganscameronpark.com.au/wp-content/uploads/2024/01/hcp_trivia_night_website_800x600.jpg
END:VEVENT
BEGIN:VEVENT
DTSTART;TZID=Australia/Sydney:20251015T170000
DTEND;TZID=Australia/Sydney:20251015T203000
DTSTAMP:20260423T090546
CREATED:20230913T021055Z
LAST-MODIFIED:20260420T022819Z
UID:10011743-1760547600-1760560200@www.harriganscameronpark.com.au
SUMMARY:Schnitty Night
DESCRIPTION:Wednesday night is Schnitty Night at Harrigan’s Cameron Park. \nJoin us from 5pm for an $18 schnitzel with chips\, salad and your choice of sauce.
URL:https://www.harriganscameronpark.com.au/event/wednesday-schnitzel-night/2025-10-15/
LOCATION:Harrigan’s Cameron Park\, 70 McKendry Drive\, Cameron Park\, NSW\, 2285\, Australia
CATEGORIES:Weekly Dining Specials
ATTACH;FMTTYPE=image/jpeg:https://www.harriganscameronpark.com.au/wp-content/uploads/2026/01/hcp_2026_wednesday_schnitty_night_web_800x600.jpg
END:VEVENT
BEGIN:VEVENT
DTSTART;TZID=Australia/Sydney:20251014T183000
DTEND;TZID=Australia/Sydney:20251014T203000
DTSTAMP:20260423T090546
CREATED:20250812T002839Z
LAST-MODIFIED:20260130T000002Z
UID:10013738-1760466600-1760473800@www.harriganscameronpark.com.au
SUMMARY:Pool Knockout Competition
DESCRIPTION:Think you have what it takes to win our pool competition? \nJoin us every Tuesday night from 6:30pm in the Sports Bar for knockout-style game\, with the winner taking home a $60 venue voucher and second place taking home a $40 venue voucher. \nThe competition will run on our house rules\, which will be on display each week. \nFREE TO ENTER
URL:https://www.harriganscameronpark.com.au/event/pool-comp/2025-10-14/
LOCATION:Harrigan’s Cameron Park\, 70 McKendry Drive\, Cameron Park\, NSW\, 2285\, Australia
CATEGORIES:Weekly Events
ATTACH;FMTTYPE=image/jpeg:https://www.harriganscameronpark.com.au/wp-content/uploads/2025/08/hcp_pool_comp_website_800x600.jpg
END:VEVENT
END:VCALENDAR