BEGIN:VCALENDAR
VERSION:2.0
PRODID:-//Harrigan&#039;s Cameron Park - ECPv6.15.20//NONSGML v1.0//EN
CALSCALE:GREGORIAN
METHOD:PUBLISH
X-WR-CALNAME:Harrigan&#039;s Cameron Park
X-ORIGINAL-URL:https://www.harriganscameronpark.com.au
X-WR-CALDESC:Events for Harrigan&#039;s Cameron Park
REFRESH-INTERVAL;VALUE=DURATION:PT1H
X-Robots-Tag:noindex
X-PUBLISHED-TTL:PT1H
BEGIN:VTIMEZONE
TZID:Australia/Sydney
BEGIN:STANDARD
TZOFFSETFROM:+1100
TZOFFSETTO:+1000
TZNAME:AEST
DTSTART:20240406T160000
END:STANDARD
BEGIN:DAYLIGHT
TZOFFSETFROM:+1000
TZOFFSETTO:+1100
TZNAME:AEDT
DTSTART:20241005T160000
END:DAYLIGHT
BEGIN:STANDARD
TZOFFSETFROM:+1100
TZOFFSETTO:+1000
TZNAME:AEST
DTSTART:20250405T160000
END:STANDARD
BEGIN:DAYLIGHT
TZOFFSETFROM:+1000
TZOFFSETTO:+1100
TZNAME:AEDT
DTSTART:20251004T160000
END:DAYLIGHT
BEGIN:STANDARD
TZOFFSETFROM:+1100
TZOFFSETTO:+1000
TZNAME:AEST
DTSTART:20260404T160000
END:STANDARD
BEGIN:DAYLIGHT
TZOFFSETFROM:+1000
TZOFFSETTO:+1100
TZNAME:AEDT
DTSTART:20261003T160000
END:DAYLIGHT
END:VTIMEZONE
BEGIN:VEVENT
DTSTART;TZID=Australia/Sydney:20251126T190000
DTEND;TZID=Australia/Sydney:20251126T203000
DTSTAMP:20260423T205819
CREATED:20240131T001940Z
LAST-MODIFIED:20260130T000749Z
UID:10014108-1764183600-1764189000@www.harriganscameronpark.com.au
SUMMARY:Trivia Night
DESCRIPTION:Win your share of $130 in Harrigan’s vouchers every Wednesday night!\nSwing by Harrigan’s Cameron Park for our weekly trivia\, on EVERY Wednesday from 7pm in the Sports Bar. \nDoes winning make you hungry? Enjoy an $18 schnitzel with chips\, salad and gravy with Schnitty Night from 5pm. \nCome on down and join us! We can’t wait to know your name. \nBook Now
URL:https://www.harriganscameronpark.com.au/event/trivia-night/2025-11-26/
LOCATION:Harrigan’s Cameron Park\, 70 McKendry Drive\, Cameron Park\, NSW\, 2285\, Australia
CATEGORIES:Weekly Events
ATTACH;FMTTYPE=image/jpeg:https://www.harriganscameronpark.com.au/wp-content/uploads/2024/01/hcp_trivia_night_website_800x600.jpg
END:VEVENT
BEGIN:VEVENT
DTSTART;TZID=Australia/Sydney:20251126T170000
DTEND;TZID=Australia/Sydney:20251126T203000
DTSTAMP:20260423T205819
CREATED:20230913T021055Z
LAST-MODIFIED:20260420T022819Z
UID:10011749-1764176400-1764189000@www.harriganscameronpark.com.au
SUMMARY:Schnitty Night
DESCRIPTION:Wednesday night is Schnitty Night at Harrigan’s Cameron Park. \nJoin us from 5pm for an $18 schnitzel with chips\, salad and your choice of sauce.
URL:https://www.harriganscameronpark.com.au/event/wednesday-schnitzel-night/2025-11-26/
LOCATION:Harrigan’s Cameron Park\, 70 McKendry Drive\, Cameron Park\, NSW\, 2285\, Australia
CATEGORIES:Weekly Dining Specials
ATTACH;FMTTYPE=image/jpeg:https://www.harriganscameronpark.com.au/wp-content/uploads/2026/01/hcp_2026_wednesday_schnitty_night_web_800x600.jpg
END:VEVENT
BEGIN:VEVENT
DTSTART;TZID=Australia/Sydney:20251125T190000
DTEND;TZID=Australia/Sydney:20251125T200000
DTSTAMP:20260423T205819
CREATED:20251104T210604Z
LAST-MODIFIED:20251104T210605Z
UID:10011371-1764097200-1764100800@www.harriganscameronpark.com.au
SUMMARY:Drag Bingo with Timberlina
DESCRIPTION:🎉 Drag Bingo with Timberlina is back at Harrigan’s Cameron Park! 🎉\nGet ready for a night of laughter\, sass\, and fabulous fun with the one and only Timberlina\, Newcastle’s iconic queen! She’ll be calling the numbers\, cracking the jokes\, and keeping the energy sky-high all night long. \n📅 Tuesday 25 November\n⏰ From 7pm\n💃 FREE ENTRY! \nGrab your friends\, bring your best game face\, and prepare for a bingo night you won’t forget — filled with cheeky banter\, big laughs\, and fierce competition. \nT&C APPLY. 18+ EVENT ONLY.
URL:https://www.harriganscameronpark.com.au/event/drag-bingo-with-timberlina-2/
LOCATION:Harrigan’s Cameron Park\, 70 McKendry Drive\, Cameron Park\, NSW\, 2285\, Australia
CATEGORIES:Special Events
ATTACH;FMTTYPE=image/jpeg:https://www.harriganscameronpark.com.au/wp-content/uploads/2025/10/HCP2025_121_drag_bingo_web_800x630.jpg
END:VEVENT
BEGIN:VEVENT
DTSTART;TZID=Australia/Sydney:20251125T183000
DTEND;TZID=Australia/Sydney:20251125T203000
DTSTAMP:20260423T205819
CREATED:20250812T002839Z
LAST-MODIFIED:20260130T000002Z
UID:10013744-1764095400-1764102600@www.harriganscameronpark.com.au
SUMMARY:Pool Knockout Competition
DESCRIPTION:Think you have what it takes to win our pool competition? \nJoin us every Tuesday night from 6:30pm in the Sports Bar for knockout-style game\, with the winner taking home a $60 venue voucher and second place taking home a $40 venue voucher. \nThe competition will run on our house rules\, which will be on display each week. \nFREE TO ENTER
URL:https://www.harriganscameronpark.com.au/event/pool-comp/2025-11-25/
LOCATION:Harrigan’s Cameron Park\, 70 McKendry Drive\, Cameron Park\, NSW\, 2285\, Australia
CATEGORIES:Weekly Events
ATTACH;FMTTYPE=image/jpeg:https://www.harriganscameronpark.com.au/wp-content/uploads/2025/08/hcp_pool_comp_website_800x600.jpg
END:VEVENT
BEGIN:VEVENT
DTSTART;TZID=Australia/Sydney:20251125T170000
DTEND;TZID=Australia/Sydney:20251125T203000
DTSTAMP:20260423T205819
CREATED:20250527T025530Z
LAST-MODIFIED:20260420T023205Z
UID:10007901-1764090000-1764102600@www.harriganscameronpark.com.au
SUMMARY:Burger Night
DESCRIPTION:Tuesday night is Burger night at Harrigan’s Cameron Park. \nJoin us from 5pm for $20 burgers. Includes any burger from the menu and specials.
URL:https://www.harriganscameronpark.com.au/event/burger-night/2025-11-25/
LOCATION:Harrigan’s Cameron Park\, 70 McKendry Drive\, Cameron Park\, NSW\, 2285\, Australia
CATEGORIES:Weekly Dining Specials
ATTACH;FMTTYPE=image/jpeg:https://www.harriganscameronpark.com.au/wp-content/uploads/2026/01/hcp_2026_tuesday_burger_night_web_800x600.jpg
END:VEVENT
BEGIN:VEVENT
DTSTART;TZID=Australia/Sydney:20251124T170000
DTEND;TZID=Australia/Sydney:20251124T203000
DTSTAMP:20260423T205819
CREATED:20230913T020318Z
LAST-MODIFIED:20260420T020821Z
UID:10007087-1764003600-1764016200@www.harriganscameronpark.com.au
SUMMARY:Kids Eat Free
DESCRIPTION:Kids Eat Free every Monday night at Harrigan’s Cameron Park. \nAvailable from 5pm\, purchase any adult main to redeem.
URL:https://www.harriganscameronpark.com.au/event/kids-eat-free/2025-11-24/
LOCATION:Harrigan’s Cameron Park\, 70 McKendry Drive\, Cameron Park\, NSW\, 2285\, Australia
CATEGORIES:Weekly Dining Specials
ATTACH;FMTTYPE=image/jpeg:https://www.harriganscameronpark.com.au/wp-content/uploads/2026/01/hcp_2026_monday_kids_eat_free_web_800x600.jpg
END:VEVENT
BEGIN:VEVENT
DTSTART;TZID=Australia/Sydney:20251123T170000
DTEND;TZID=Australia/Sydney:20251123T203000
DTSTAMP:20260423T205819
CREATED:20250527T030044Z
LAST-MODIFIED:20260420T023232Z
UID:10008942-1763917200-1763929800@www.harriganscameronpark.com.au
SUMMARY:Curry Night
DESCRIPTION:Sunday night is Curry night at Harrigan’s Cameron Park. \nEnjoy a delicious curry with rice and naan for just $20!
URL:https://www.harriganscameronpark.com.au/event/curry-night/2025-11-23/
LOCATION:Harrigan’s Cameron Park\, 70 McKendry Drive\, Cameron Park\, NSW\, 2285\, Australia
CATEGORIES:Weekly Dining Specials
ATTACH;FMTTYPE=image/jpeg:https://www.harriganscameronpark.com.au/wp-content/uploads/2026/01/hcp_2026_sunday_curry_night_web_800x600.jpg
END:VEVENT
BEGIN:VEVENT
DTSTART;TZID=Australia/Sydney:20251123T140000
DTEND;TZID=Australia/Sydney:20251123T170000
DTSTAMP:20260423T205819
CREATED:20251030T213740Z
LAST-MODIFIED:20251030T213740Z
UID:10011629-1763906400-1763917200@www.harriganscameronpark.com.au
SUMMARY:robert peters
DESCRIPTION:Live music every weekend at Harrigan’s Cameron Park
URL:https://www.harriganscameronpark.com.au/event/robert-peters/
LOCATION:NSW
CATEGORIES:Live Music
ATTACH;FMTTYPE=image/jpeg:https://www.harriganscameronpark.com.au/wp-content/uploads/2025/10/Robert-Peters.jpg
END:VEVENT
BEGIN:VEVENT
DTSTART;TZID=Australia/Sydney:20251122T203000
DTEND;TZID=Australia/Sydney:20251122T233000
DTSTAMP:20260423T205819
CREATED:20251030T213740Z
LAST-MODIFIED:20251107T023444Z
UID:10011628-1763843400-1763854200@www.harriganscameronpark.com.au
SUMMARY:Neon
DESCRIPTION:Live music every weekend at Harrigan’s Cameron Park \n⚡ Neon – Jack Hayden (guitar/vocals) and Alex Cosato (vocals) bring a fresh\, modern energy to the stage\, blending pop\, rock\, and electronic sounds. Their harmonious vocals and infectious energy make every set a high-energy\, memorable experience that will leave audiences wanting more.
URL:https://www.harriganscameronpark.com.au/event/neon/
LOCATION:NSW
CATEGORIES:Live Music
ATTACH;FMTTYPE=image/jpeg:https://www.harriganscameronpark.com.au/wp-content/uploads/2024/04/CP2024_neon-duo_800x630px.jpg
END:VEVENT
BEGIN:VEVENT
DTSTART;TZID=Australia/Sydney:20251121T203000
DTEND;TZID=Australia/Sydney:20251121T233000
DTSTAMP:20260423T205819
CREATED:20251030T213726Z
LAST-MODIFIED:20251030T213726Z
UID:10011627-1763757000-1763767800@www.harriganscameronpark.com.au
SUMMARY:DJ Smashup
DESCRIPTION:Live music every weekend at Harrigan’s Cameron Park
URL:https://www.harriganscameronpark.com.au/event/dj-smashup-11/
LOCATION:NSW
CATEGORIES:Live Music
ATTACH;FMTTYPE=image/jpeg:https://www.harriganscameronpark.com.au/wp-content/uploads/2024/12/202501_dj-smashup_web-800x630px.jpg
END:VEVENT
BEGIN:VEVENT
DTSTART;TZID=Australia/Sydney:20251121T200000
DTEND;TZID=Australia/Sydney:20251122T013000
DTSTAMP:20260423T205819
CREATED:20250627T020910Z
LAST-MODIFIED:20260212T025734Z
UID:10010798-1763755200-1763775000@www.harriganscameronpark.com.au
SUMMARY:Sip & Spin
DESCRIPTION:Fridays just got a whole lot better! \nKickstart your weekend every Friday night at Harrigan’s! Sip on delicious cocktails and house spirit specials while listening to the live DJ spin hits to get you on the dancefloor. \n\n2 for $25 Cocktails\, 8pm-10pm\n$7 House Spirits\, 8pm-2am\nLive DJ\, 8:30pm-1:30am
URL:https://www.harriganscameronpark.com.au/event/sip-and-spin/2025-11-21/
LOCATION:NSW
CATEGORIES:Weekly Dining Specials,Weekly Events
ATTACH;FMTTYPE=image/jpeg:https://www.harriganscameronpark.com.au/wp-content/uploads/2026/01/hcp_2026_friday_sip_spin_web_800x600.jpg
END:VEVENT
BEGIN:VEVENT
DTSTART;TZID=Australia/Sydney:20251120T193000
DTEND;TZID=Australia/Sydney:20251120T200000
DTSTAMP:20260423T205819
CREATED:20240226T234549Z
LAST-MODIFIED:20260130T010759Z
UID:10001423-1763667000-1763668800@www.harriganscameronpark.com.au
SUMMARY:Social Club Draw4 Cash
DESCRIPTION:Be Numero Uno & WIN CASH!\nCalling all Harrigan’s Social Club Members! Join us at Harrigan’s Cameron Park every Thursday Night at 7:30pm for your chance to win some COLD HARD CASH! \nJackpot starts at $1\,000 & increases by $100 each week until a Harrigan’s Social Club Member* wins. \nAre you not part of the club? It’s FREE to join! Sign up to the Harrigan’s Social Club HERE. \n*Member must be in the venue at the time of the draw to participate. Read the full T&Cs \nHave a bite or grab a beer while you wait – secure your table now! \nBook Now
URL:https://www.harriganscameronpark.com.au/event/social-club-draw4-cash/2025-11-20/
LOCATION:Harrigan’s Cameron Park\, 70 McKendry Drive\, Cameron Park\, NSW\, 2285\, Australia
CATEGORIES:Weekly Events
ATTACH;FMTTYPE=image/jpeg:https://www.harriganscameronpark.com.au/wp-content/uploads/2024/02/hcp_draw4cash_website_800x600.jpg
END:VEVENT
BEGIN:VEVENT
DTSTART;TZID=Australia/Sydney:20251120T190000
DTEND;TZID=Australia/Sydney:20251120T203000
DTSTAMP:20260423T205819
CREATED:20250130T222006Z
LAST-MODIFIED:20260130T010127Z
UID:10014424-1763665200-1763670600@www.harriganscameronpark.com.au
SUMMARY:Thursday Poker Night: Hosted by the APL
DESCRIPTION:♠️ Thursday Poker Night at Harrigan’s Cameron Park ♠️ \nThink you’ve got the winning hand? Join us every Thursday at 7pm (excluding public holidays) for Poker Night in the Sports Bar\, hosted by the Australian Poker League (APL)! \n💵 Buy-In: $25\n🔄 Buy-Back: $20\n🏆 Prize Pool: Minimum $500 for the winner! \nPlus\, if you’re feeling hungry\, book a table before the game and enjoy $20 Pizza Night alongside the action! Choose the chef’s special or any pizza from our menu—dine in or take it away. \nGather your mates and make it a Thursday tradition at Harrigan’s Cameron Park. See you at the tables! 🃏 \nBook Dinner Upcoming Games
URL:https://www.harriganscameronpark.com.au/event/thursday-poker-night-2/2025-11-20/
LOCATION:Harrigan’s Cameron Park\, 70 McKendry Drive\, Cameron Park\, NSW\, 2285\, Australia
CATEGORIES:Weekly Events
ATTACH;FMTTYPE=image/jpeg:https://www.harriganscameronpark.com.au/wp-content/uploads/2025/01/poker-night_website_800x600px.jpg
END:VEVENT
BEGIN:VEVENT
DTSTART;TZID=Australia/Sydney:20251120T170000
DTEND;TZID=Australia/Sydney:20251120T203000
DTSTAMP:20260423T205819
CREATED:20250527T024721Z
LAST-MODIFIED:20260420T021751Z
UID:10003917-1763658000-1763670600@www.harriganscameronpark.com.au
SUMMARY:Pizza Night
DESCRIPTION:Thursday night is Pizza night at Harrigan’s Cameron Park. \nJoin us from 5pm for a $20 pizza – dine in or takeaway! \nIncludes chef’s special or any pizza from the menu.
URL:https://www.harriganscameronpark.com.au/event/thursday-pizza-night-2/2025-11-20/
LOCATION:Harrigan’s Cameron Park\, 70 McKendry Drive\, Cameron Park\, NSW\, 2285\, Australia
CATEGORIES:Weekly Dining Specials
ATTACH;FMTTYPE=image/jpeg:https://www.harriganscameronpark.com.au/wp-content/uploads/2026/01/hcp_2026_thursday_pizza_night_web_800x600.jpg
END:VEVENT
BEGIN:VEVENT
DTSTART;TZID=Australia/Sydney:20251119T190000
DTEND;TZID=Australia/Sydney:20251119T203000
DTSTAMP:20260423T205819
CREATED:20240131T001940Z
LAST-MODIFIED:20260130T000749Z
UID:10014107-1763578800-1763584200@www.harriganscameronpark.com.au
SUMMARY:Trivia Night
DESCRIPTION:Win your share of $130 in Harrigan’s vouchers every Wednesday night!\nSwing by Harrigan’s Cameron Park for our weekly trivia\, on EVERY Wednesday from 7pm in the Sports Bar. \nDoes winning make you hungry? Enjoy an $18 schnitzel with chips\, salad and gravy with Schnitty Night from 5pm. \nCome on down and join us! We can’t wait to know your name. \nBook Now
URL:https://www.harriganscameronpark.com.au/event/trivia-night/2025-11-19/
LOCATION:Harrigan’s Cameron Park\, 70 McKendry Drive\, Cameron Park\, NSW\, 2285\, Australia
CATEGORIES:Weekly Events
ATTACH;FMTTYPE=image/jpeg:https://www.harriganscameronpark.com.au/wp-content/uploads/2024/01/hcp_trivia_night_website_800x600.jpg
END:VEVENT
BEGIN:VEVENT
DTSTART;TZID=Australia/Sydney:20251119T170000
DTEND;TZID=Australia/Sydney:20251119T203000
DTSTAMP:20260423T205819
CREATED:20230913T021055Z
LAST-MODIFIED:20260420T022819Z
UID:10011748-1763571600-1763584200@www.harriganscameronpark.com.au
SUMMARY:Schnitty Night
DESCRIPTION:Wednesday night is Schnitty Night at Harrigan’s Cameron Park. \nJoin us from 5pm for an $18 schnitzel with chips\, salad and your choice of sauce.
URL:https://www.harriganscameronpark.com.au/event/wednesday-schnitzel-night/2025-11-19/
LOCATION:Harrigan’s Cameron Park\, 70 McKendry Drive\, Cameron Park\, NSW\, 2285\, Australia
CATEGORIES:Weekly Dining Specials
ATTACH;FMTTYPE=image/jpeg:https://www.harriganscameronpark.com.au/wp-content/uploads/2026/01/hcp_2026_wednesday_schnitty_night_web_800x600.jpg
END:VEVENT
BEGIN:VEVENT
DTSTART;TZID=Australia/Sydney:20251118T183000
DTEND;TZID=Australia/Sydney:20251118T203000
DTSTAMP:20260423T205819
CREATED:20250812T002839Z
LAST-MODIFIED:20260130T000002Z
UID:10013743-1763490600-1763497800@www.harriganscameronpark.com.au
SUMMARY:Pool Knockout Competition
DESCRIPTION:Think you have what it takes to win our pool competition? \nJoin us every Tuesday night from 6:30pm in the Sports Bar for knockout-style game\, with the winner taking home a $60 venue voucher and second place taking home a $40 venue voucher. \nThe competition will run on our house rules\, which will be on display each week. \nFREE TO ENTER
URL:https://www.harriganscameronpark.com.au/event/pool-comp/2025-11-18/
LOCATION:Harrigan’s Cameron Park\, 70 McKendry Drive\, Cameron Park\, NSW\, 2285\, Australia
CATEGORIES:Weekly Events
ATTACH;FMTTYPE=image/jpeg:https://www.harriganscameronpark.com.au/wp-content/uploads/2025/08/hcp_pool_comp_website_800x600.jpg
END:VEVENT
BEGIN:VEVENT
DTSTART;TZID=Australia/Sydney:20251118T170000
DTEND;TZID=Australia/Sydney:20251118T203000
DTSTAMP:20260423T205819
CREATED:20250527T025530Z
LAST-MODIFIED:20260420T023205Z
UID:10007900-1763485200-1763497800@www.harriganscameronpark.com.au
SUMMARY:Burger Night
DESCRIPTION:Tuesday night is Burger night at Harrigan’s Cameron Park. \nJoin us from 5pm for $20 burgers. Includes any burger from the menu and specials.
URL:https://www.harriganscameronpark.com.au/event/burger-night/2025-11-18/
LOCATION:Harrigan’s Cameron Park\, 70 McKendry Drive\, Cameron Park\, NSW\, 2285\, Australia
CATEGORIES:Weekly Dining Specials
ATTACH;FMTTYPE=image/jpeg:https://www.harriganscameronpark.com.au/wp-content/uploads/2026/01/hcp_2026_tuesday_burger_night_web_800x600.jpg
END:VEVENT
BEGIN:VEVENT
DTSTART;TZID=Australia/Sydney:20251117T170000
DTEND;TZID=Australia/Sydney:20251117T203000
DTSTAMP:20260423T205819
CREATED:20230913T020318Z
LAST-MODIFIED:20260420T020821Z
UID:10007086-1763398800-1763411400@www.harriganscameronpark.com.au
SUMMARY:Kids Eat Free
DESCRIPTION:Kids Eat Free every Monday night at Harrigan’s Cameron Park. \nAvailable from 5pm\, purchase any adult main to redeem.
URL:https://www.harriganscameronpark.com.au/event/kids-eat-free/2025-11-17/
LOCATION:Harrigan’s Cameron Park\, 70 McKendry Drive\, Cameron Park\, NSW\, 2285\, Australia
CATEGORIES:Weekly Dining Specials
ATTACH;FMTTYPE=image/jpeg:https://www.harriganscameronpark.com.au/wp-content/uploads/2026/01/hcp_2026_monday_kids_eat_free_web_800x600.jpg
END:VEVENT
BEGIN:VEVENT
DTSTART;TZID=Australia/Sydney:20251116T170000
DTEND;TZID=Australia/Sydney:20251116T203000
DTSTAMP:20260423T205819
CREATED:20250527T030044Z
LAST-MODIFIED:20260420T023232Z
UID:10008941-1763312400-1763325000@www.harriganscameronpark.com.au
SUMMARY:Curry Night
DESCRIPTION:Sunday night is Curry night at Harrigan’s Cameron Park. \nEnjoy a delicious curry with rice and naan for just $20!
URL:https://www.harriganscameronpark.com.au/event/curry-night/2025-11-16/
LOCATION:Harrigan’s Cameron Park\, 70 McKendry Drive\, Cameron Park\, NSW\, 2285\, Australia
CATEGORIES:Weekly Dining Specials
ATTACH;FMTTYPE=image/jpeg:https://www.harriganscameronpark.com.au/wp-content/uploads/2026/01/hcp_2026_sunday_curry_night_web_800x600.jpg
END:VEVENT
BEGIN:VEVENT
DTSTART;TZID=Australia/Sydney:20251116T140000
DTEND;TZID=Australia/Sydney:20251116T170000
DTSTAMP:20260423T205819
CREATED:20251030T213726Z
LAST-MODIFIED:20251030T213726Z
UID:10011626-1763301600-1763312400@www.harriganscameronpark.com.au
SUMMARY:Harrison Hoven
DESCRIPTION:Live music every weekend at Harrigan’s Cameron Park
URL:https://www.harriganscameronpark.com.au/event/harrison-hoven-8/
LOCATION:NSW
CATEGORIES:Live Music
ATTACH;FMTTYPE=image/jpeg:https://www.harriganscameronpark.com.au/wp-content/uploads/2024/02/202403_harrison-hoven_800x630px.jpg
END:VEVENT
BEGIN:VEVENT
DTSTART;TZID=Australia/Sydney:20251116T140000
DTEND;TZID=Australia/Sydney:20251116T160000
DTSTAMP:20260423T205819
CREATED:20251109T224728Z
LAST-MODIFIED:20251109T224729Z
UID:10011634-1763301600-1763308800@www.harriganscameronpark.com.au
SUMMARY:UFC 322: Della Maddalena vs. Makhachev
DESCRIPTION:🥊 UFC 322: Della Maddalena vs. Makhachev – LIVE & LOUD at Harrigan’s Cameron Park! 🥊 \n📅 Sunday\, 16 November\n🕑 From 2pm\n📍 Harrigan’s Cameron Park \nGet ready\, fight fans! This one’s going to be huge! Jack Della Maddalena steps into the Octagon to take on Islam Makhachev in what’s shaping up to be an unforgettable showdown. Catch every punch\, takedown\, and knockout LIVE & LOUD on the big screens at Harrigan’s Cameron Park. \nGrab your mates\, order a cold one\, and settle in for an afternoon of non-stop UFC action in the best atmosphere around. With massive screens\, great food\, and ice-cold drinks\, there’s no better place to watch all the action go down. \nNeed a ride? No worries! Book our Courtesy Bus: \nBook Now\n🔥 The Octagon meets Cameron Park! Don’t miss a second of the fight! \nDrink responsibly.
URL:https://www.harriganscameronpark.com.au/event/ufc-322-della-maddalena-vs-makhachev/
LOCATION:Harrigan’s Cameron Park\, 70 McKendry Drive\, Cameron Park\, NSW\, 2285\, Australia
CATEGORIES:Special Events,Sport Events
ATTACH;FMTTYPE=image/jpeg:https://www.harriganscameronpark.com.au/wp-content/uploads/2025/11/UFC_322_Venue_800x600.jpg
END:VEVENT
BEGIN:VEVENT
DTSTART;TZID=Australia/Sydney:20251116T064500
DTEND;TZID=Australia/Sydney:20251116T133000
DTSTAMP:20260423T205819
CREATED:20251017T030426Z
LAST-MODIFIED:20251017T030542Z
UID:10011373-1763275500-1763299800@www.harriganscameronpark.com.au
SUMMARY:Social Club Golf Day
DESCRIPTION:Harrigan’s Cameron Park – Social Club Golf Day \nSunday 16 November | Hunter Valley Golf Club\, Rydges Resort\n6:45am meet | 7:00am tee off \n$50 per person – includes cart hire\n4-Man Ambrose (Handicap) \nTee up for a fun and friendly round at the beautiful Hunter Valley Golf Club! Whether you’re a seasoned golfer or just in it for the laughs\, this 4-man Ambrose format is all about good times and teamwork. \nAfter the final putt\, head back to Harrigan’s Cameron Park for a relaxed presentation with food and drinks provided by the Social Club.\nGet your team together or register solo\, and we’ll place you in one! \nEmail registrations to: info@harriganscameronpark.com.au \nSpaces are limited\, so don’t miss out!
URL:https://www.harriganscameronpark.com.au/event/social-club-golf-day/
LOCATION:Harrigan’s Cameron Park\, 70 McKendry Drive\, Cameron Park\, NSW\, 2285\, Australia
CATEGORIES:Special Events,Sport Events
ATTACH;FMTTYPE=image/jpeg:https://www.harriganscameronpark.com.au/wp-content/uploads/2025/10/HCP2025_122_golf_day_web_800x630.jpg
END:VEVENT
BEGIN:VEVENT
DTSTART;TZID=Australia/Sydney:20251115T203000
DTEND;TZID=Australia/Sydney:20251115T233000
DTSTAMP:20260423T205819
CREATED:20251030T213726Z
LAST-MODIFIED:20251107T023333Z
UID:10011625-1763238600-1763249400@www.harriganscameronpark.com.au
SUMMARY:Genr8
DESCRIPTION:Live music every weekend at Harrigan’s Cameron Park \n🎶 GENR8 – This dynamic trio combines soulful three-part harmonies\, keyboards\, and percussion to create a high-impact repertoire of funk\, swing\, rock\, and R’n’B. With members like Yianni Moratidis (vocals/keys) and Peter Young (percussion/vocals) boasting decades of experience performing nationally and internationally\, GENR8 delivers a show that’s both polished and electrifying. Expect tight grooves\, soaring vocals\, and an energy that keeps the crowd moving all night.
URL:https://www.harriganscameronpark.com.au/event/genr8-4/
LOCATION:NSW
CATEGORIES:Live Music
ATTACH;FMTTYPE=image/jpeg:https://www.harriganscameronpark.com.au/wp-content/uploads/2025/01/HCP_live_music_web_genr8.jpg
END:VEVENT
BEGIN:VEVENT
DTSTART;TZID=Australia/Sydney:20251114T203000
DTEND;TZID=Australia/Sydney:20251114T233000
DTSTAMP:20260423T205819
CREATED:20251030T213725Z
LAST-MODIFIED:20251030T213725Z
UID:10011624-1763152200-1763163000@www.harriganscameronpark.com.au
SUMMARY:DJ Heisenberg
DESCRIPTION:Live music every weekend at Harrigan’s Cameron Park
URL:https://www.harriganscameronpark.com.au/event/dj-heisenberg-3/
LOCATION:NSW
CATEGORIES:Live Music
ATTACH;FMTTYPE=image/jpeg:https://www.harriganscameronpark.com.au/wp-content/uploads/2025/04/HCP_live_music_web_djheisenberg.jpg
END:VEVENT
BEGIN:VEVENT
DTSTART;TZID=Australia/Sydney:20251114T200000
DTEND;TZID=Australia/Sydney:20251115T013000
DTSTAMP:20260423T205819
CREATED:20250627T020910Z
LAST-MODIFIED:20260212T025734Z
UID:10010797-1763150400-1763170200@www.harriganscameronpark.com.au
SUMMARY:Sip & Spin
DESCRIPTION:Fridays just got a whole lot better! \nKickstart your weekend every Friday night at Harrigan’s! Sip on delicious cocktails and house spirit specials while listening to the live DJ spin hits to get you on the dancefloor. \n\n2 for $25 Cocktails\, 8pm-10pm\n$7 House Spirits\, 8pm-2am\nLive DJ\, 8:30pm-1:30am
URL:https://www.harriganscameronpark.com.au/event/sip-and-spin/2025-11-14/
LOCATION:NSW
CATEGORIES:Weekly Dining Specials,Weekly Events
ATTACH;FMTTYPE=image/jpeg:https://www.harriganscameronpark.com.au/wp-content/uploads/2026/01/hcp_2026_friday_sip_spin_web_800x600.jpg
END:VEVENT
BEGIN:VEVENT
DTSTART;TZID=Australia/Sydney:20251113T193000
DTEND;TZID=Australia/Sydney:20251113T200000
DTSTAMP:20260423T205819
CREATED:20240226T234549Z
LAST-MODIFIED:20260130T010759Z
UID:10001422-1763062200-1763064000@www.harriganscameronpark.com.au
SUMMARY:Social Club Draw4 Cash
DESCRIPTION:Be Numero Uno & WIN CASH!\nCalling all Harrigan’s Social Club Members! Join us at Harrigan’s Cameron Park every Thursday Night at 7:30pm for your chance to win some COLD HARD CASH! \nJackpot starts at $1\,000 & increases by $100 each week until a Harrigan’s Social Club Member* wins. \nAre you not part of the club? It’s FREE to join! Sign up to the Harrigan’s Social Club HERE. \n*Member must be in the venue at the time of the draw to participate. Read the full T&Cs \nHave a bite or grab a beer while you wait – secure your table now! \nBook Now
URL:https://www.harriganscameronpark.com.au/event/social-club-draw4-cash/2025-11-13/
LOCATION:Harrigan’s Cameron Park\, 70 McKendry Drive\, Cameron Park\, NSW\, 2285\, Australia
CATEGORIES:Weekly Events
ATTACH;FMTTYPE=image/jpeg:https://www.harriganscameronpark.com.au/wp-content/uploads/2024/02/hcp_draw4cash_website_800x600.jpg
END:VEVENT
BEGIN:VEVENT
DTSTART;TZID=Australia/Sydney:20251113T190000
DTEND;TZID=Australia/Sydney:20251113T203000
DTSTAMP:20260423T205819
CREATED:20250130T222006Z
LAST-MODIFIED:20260130T010127Z
UID:10014423-1763060400-1763065800@www.harriganscameronpark.com.au
SUMMARY:Thursday Poker Night: Hosted by the APL
DESCRIPTION:♠️ Thursday Poker Night at Harrigan’s Cameron Park ♠️ \nThink you’ve got the winning hand? Join us every Thursday at 7pm (excluding public holidays) for Poker Night in the Sports Bar\, hosted by the Australian Poker League (APL)! \n💵 Buy-In: $25\n🔄 Buy-Back: $20\n🏆 Prize Pool: Minimum $500 for the winner! \nPlus\, if you’re feeling hungry\, book a table before the game and enjoy $20 Pizza Night alongside the action! Choose the chef’s special or any pizza from our menu—dine in or take it away. \nGather your mates and make it a Thursday tradition at Harrigan’s Cameron Park. See you at the tables! 🃏 \nBook Dinner Upcoming Games
URL:https://www.harriganscameronpark.com.au/event/thursday-poker-night-2/2025-11-13/
LOCATION:Harrigan’s Cameron Park\, 70 McKendry Drive\, Cameron Park\, NSW\, 2285\, Australia
CATEGORIES:Weekly Events
ATTACH;FMTTYPE=image/jpeg:https://www.harriganscameronpark.com.au/wp-content/uploads/2025/01/poker-night_website_800x600px.jpg
END:VEVENT
BEGIN:VEVENT
DTSTART;TZID=Australia/Sydney:20251113T170000
DTEND;TZID=Australia/Sydney:20251113T203000
DTSTAMP:20260423T205819
CREATED:20250527T024721Z
LAST-MODIFIED:20260420T021751Z
UID:10003916-1763053200-1763065800@www.harriganscameronpark.com.au
SUMMARY:Pizza Night
DESCRIPTION:Thursday night is Pizza night at Harrigan’s Cameron Park. \nJoin us from 5pm for a $20 pizza – dine in or takeaway! \nIncludes chef’s special or any pizza from the menu.
URL:https://www.harriganscameronpark.com.au/event/thursday-pizza-night-2/2025-11-13/
LOCATION:Harrigan’s Cameron Park\, 70 McKendry Drive\, Cameron Park\, NSW\, 2285\, Australia
CATEGORIES:Weekly Dining Specials
ATTACH;FMTTYPE=image/jpeg:https://www.harriganscameronpark.com.au/wp-content/uploads/2026/01/hcp_2026_thursday_pizza_night_web_800x600.jpg
END:VEVENT
BEGIN:VEVENT
DTSTART;TZID=Australia/Sydney:20251112T190000
DTEND;TZID=Australia/Sydney:20251112T203000
DTSTAMP:20260423T205819
CREATED:20240131T001940Z
LAST-MODIFIED:20260130T000749Z
UID:10014106-1762974000-1762979400@www.harriganscameronpark.com.au
SUMMARY:Trivia Night
DESCRIPTION:Win your share of $130 in Harrigan’s vouchers every Wednesday night!\nSwing by Harrigan’s Cameron Park for our weekly trivia\, on EVERY Wednesday from 7pm in the Sports Bar. \nDoes winning make you hungry? Enjoy an $18 schnitzel with chips\, salad and gravy with Schnitty Night from 5pm. \nCome on down and join us! We can’t wait to know your name. \nBook Now
URL:https://www.harriganscameronpark.com.au/event/trivia-night/2025-11-12/
LOCATION:Harrigan’s Cameron Park\, 70 McKendry Drive\, Cameron Park\, NSW\, 2285\, Australia
CATEGORIES:Weekly Events
ATTACH;FMTTYPE=image/jpeg:https://www.harriganscameronpark.com.au/wp-content/uploads/2024/01/hcp_trivia_night_website_800x600.jpg
END:VEVENT
END:VCALENDAR