BEGIN:VCALENDAR
VERSION:2.0
PRODID:-//Harrigan&#039;s Cameron Park - ECPv6.15.20//NONSGML v1.0//EN
CALSCALE:GREGORIAN
METHOD:PUBLISH
X-WR-CALNAME:Harrigan&#039;s Cameron Park
X-ORIGINAL-URL:https://www.harriganscameronpark.com.au
X-WR-CALDESC:Events for Harrigan&#039;s Cameron Park
REFRESH-INTERVAL;VALUE=DURATION:PT1H
X-Robots-Tag:noindex
X-PUBLISHED-TTL:PT1H
BEGIN:VTIMEZONE
TZID:Australia/Sydney
BEGIN:STANDARD
TZOFFSETFROM:+1100
TZOFFSETTO:+1000
TZNAME:AEST
DTSTART:20250405T160000
END:STANDARD
BEGIN:DAYLIGHT
TZOFFSETFROM:+1000
TZOFFSETTO:+1100
TZNAME:AEDT
DTSTART:20251004T160000
END:DAYLIGHT
BEGIN:STANDARD
TZOFFSETFROM:+1100
TZOFFSETTO:+1000
TZNAME:AEST
DTSTART:20260404T160000
END:STANDARD
BEGIN:DAYLIGHT
TZOFFSETFROM:+1000
TZOFFSETTO:+1100
TZNAME:AEDT
DTSTART:20261003T160000
END:DAYLIGHT
BEGIN:STANDARD
TZOFFSETFROM:+1100
TZOFFSETTO:+1000
TZNAME:AEST
DTSTART:20270403T160000
END:STANDARD
BEGIN:DAYLIGHT
TZOFFSETFROM:+1000
TZOFFSETTO:+1100
TZNAME:AEDT
DTSTART:20271002T160000
END:DAYLIGHT
END:VTIMEZONE
BEGIN:VEVENT
DTSTART;TZID=Australia/Sydney:20260422T190000
DTEND;TZID=Australia/Sydney:20260422T203000
DTSTAMP:20260420T171857
CREATED:20240131T001940Z
LAST-MODIFIED:20260130T000749Z
UID:10014129-1776884400-1776889800@www.harriganscameronpark.com.au
SUMMARY:Trivia Night
DESCRIPTION:Win your share of $130 in Harrigan’s vouchers every Wednesday night!\nSwing by Harrigan’s Cameron Park for our weekly trivia\, on EVERY Wednesday from 7pm in the Sports Bar. \nDoes winning make you hungry? Enjoy an $18 schnitzel with chips\, salad and gravy with Schnitty Night from 5pm. \nCome on down and join us! We can’t wait to know your name. \nBook Now
URL:https://www.harriganscameronpark.com.au/event/trivia-night/2026-04-22/
LOCATION:Harrigan’s Cameron Park\, 70 McKendry Drive\, Cameron Park\, NSW\, 2285\, Australia
CATEGORIES:Weekly Events
ATTACH;FMTTYPE=image/jpeg:https://www.harriganscameronpark.com.au/wp-content/uploads/2024/01/hcp_trivia_night_website_800x600.jpg
END:VEVENT
BEGIN:VEVENT
DTSTART;TZID=Australia/Sydney:20260423T113000
DTEND;TZID=Australia/Sydney:20260423T143000
DTSTAMP:20260420T171857
CREATED:20260128T084029Z
LAST-MODIFIED:20260420T023347Z
UID:10012227-1776943800-1776954600@www.harriganscameronpark.com.au
SUMMARY:Lunch Specials
DESCRIPTION:Check out our fantastic range\, including burgers\, salads\, steak\, and fish and chips!
URL:https://www.harriganscameronpark.com.au/event/lunch-specials/2026-04-23/
LOCATION:Harrigan’s Cameron Park\, 70 McKendry Drive\, Cameron Park\, NSW\, 2285\, Australia
CATEGORIES:Weekly Dining Specials
ATTACH;FMTTYPE=image/jpeg:https://www.harriganscameronpark.com.au/wp-content/uploads/2026/01/hcp_2026_weekdays_lunch_specials_web_800x600.jpg
END:VEVENT
BEGIN:VEVENT
DTSTART;TZID=Australia/Sydney:20260423T150000
DTEND;TZID=Australia/Sydney:20260423T170000
DTSTAMP:20260420T171857
CREATED:20260123T014703Z
LAST-MODIFIED:20260324T043005Z
UID:10014840-1776956400-1776963600@www.harriganscameronpark.com.au
SUMMARY:Happy Hour
DESCRIPTION:Enjoy Happy Hour every weekday from 3pm-5pm at Harrigan’s Cameron Park. \nSchooners from just $7!
URL:https://www.harriganscameronpark.com.au/event/happy-hour-5/2026-04-23/
LOCATION:Harrigan’s Cameron Park\, 70 McKendry Drive\, Cameron Park\, NSW\, 2285\, Australia
CATEGORIES:Weekly Dining Specials,Weekly Events
ATTACH;FMTTYPE=image/jpeg:https://www.harriganscameronpark.com.au/wp-content/uploads/2026/01/hcp_2026_weekday_happy_hour_web_800x600.jpg
END:VEVENT
BEGIN:VEVENT
DTSTART;TZID=Australia/Sydney:20260423T170000
DTEND;TZID=Australia/Sydney:20260423T203000
DTSTAMP:20260420T171857
CREATED:20250527T024721Z
LAST-MODIFIED:20260420T021751Z
UID:10003939-1776963600-1776976200@www.harriganscameronpark.com.au
SUMMARY:Pizza Night
DESCRIPTION:Thursday night is Pizza night at Harrigan’s Cameron Park. \nJoin us from 5pm for a $20 pizza – dine in or takeaway! \nIncludes chef’s special or any pizza from the menu.
URL:https://www.harriganscameronpark.com.au/event/thursday-pizza-night-2/2026-04-23/
LOCATION:Harrigan’s Cameron Park\, 70 McKendry Drive\, Cameron Park\, NSW\, 2285\, Australia
CATEGORIES:Weekly Dining Specials
ATTACH;FMTTYPE=image/jpeg:https://www.harriganscameronpark.com.au/wp-content/uploads/2026/01/hcp_2026_thursday_pizza_night_web_800x600.jpg
END:VEVENT
BEGIN:VEVENT
DTSTART;TZID=Australia/Sydney:20260423T190000
DTEND;TZID=Australia/Sydney:20260423T203000
DTSTAMP:20260420T171857
CREATED:20250130T222006Z
LAST-MODIFIED:20260130T010127Z
UID:10014446-1776970800-1776976200@www.harriganscameronpark.com.au
SUMMARY:Thursday Poker Night: Hosted by the APL
DESCRIPTION:♠️ Thursday Poker Night at Harrigan’s Cameron Park ♠️ \nThink you’ve got the winning hand? Join us every Thursday at 7pm (excluding public holidays) for Poker Night in the Sports Bar\, hosted by the Australian Poker League (APL)! \n💵 Buy-In: $25\n🔄 Buy-Back: $20\n🏆 Prize Pool: Minimum $500 for the winner! \nPlus\, if you’re feeling hungry\, book a table before the game and enjoy $20 Pizza Night alongside the action! Choose the chef’s special or any pizza from our menu—dine in or take it away. \nGather your mates and make it a Thursday tradition at Harrigan’s Cameron Park. See you at the tables! 🃏 \nBook Dinner Upcoming Games
URL:https://www.harriganscameronpark.com.au/event/thursday-poker-night-2/2026-04-23/
LOCATION:Harrigan’s Cameron Park\, 70 McKendry Drive\, Cameron Park\, NSW\, 2285\, Australia
CATEGORIES:Weekly Events
ATTACH;FMTTYPE=image/jpeg:https://www.harriganscameronpark.com.au/wp-content/uploads/2025/01/poker-night_website_800x600px.jpg
END:VEVENT
BEGIN:VEVENT
DTSTART;TZID=Australia/Sydney:20260423T193000
DTEND;TZID=Australia/Sydney:20260423T200000
DTSTAMP:20260420T171857
CREATED:20240226T234549Z
LAST-MODIFIED:20260130T010759Z
UID:10001445-1776972600-1776974400@www.harriganscameronpark.com.au
SUMMARY:Social Club Draw4 Cash
DESCRIPTION:Be Numero Uno & WIN CASH!\nCalling all Harrigan’s Social Club Members! Join us at Harrigan’s Cameron Park every Thursday Night at 7:30pm for your chance to win some COLD HARD CASH! \nJackpot starts at $1\,000 & increases by $100 each week until a Harrigan’s Social Club Member* wins. \nAre you not part of the club? It’s FREE to join! Sign up to the Harrigan’s Social Club HERE. \n*Member must be in the venue at the time of the draw to participate. Read the full T&Cs \nHave a bite or grab a beer while you wait – secure your table now! \nBook Now
URL:https://www.harriganscameronpark.com.au/event/social-club-draw4-cash/2026-04-23/
LOCATION:Harrigan’s Cameron Park\, 70 McKendry Drive\, Cameron Park\, NSW\, 2285\, Australia
CATEGORIES:Weekly Events
ATTACH;FMTTYPE=image/jpeg:https://www.harriganscameronpark.com.au/wp-content/uploads/2024/02/hcp_draw4cash_website_800x600.jpg
END:VEVENT
BEGIN:VEVENT
DTSTART;TZID=Australia/Sydney:20260424T113000
DTEND;TZID=Australia/Sydney:20260424T143000
DTSTAMP:20260420T171857
CREATED:20260128T084029Z
LAST-MODIFIED:20260420T023347Z
UID:10012228-1777030200-1777041000@www.harriganscameronpark.com.au
SUMMARY:Lunch Specials
DESCRIPTION:Check out our fantastic range\, including burgers\, salads\, steak\, and fish and chips!
URL:https://www.harriganscameronpark.com.au/event/lunch-specials/2026-04-24/
LOCATION:Harrigan’s Cameron Park\, 70 McKendry Drive\, Cameron Park\, NSW\, 2285\, Australia
CATEGORIES:Weekly Dining Specials
ATTACH;FMTTYPE=image/jpeg:https://www.harriganscameronpark.com.au/wp-content/uploads/2026/01/hcp_2026_weekdays_lunch_specials_web_800x600.jpg
END:VEVENT
BEGIN:VEVENT
DTSTART;TZID=Australia/Sydney:20260424T150000
DTEND;TZID=Australia/Sydney:20260424T170000
DTSTAMP:20260420T171857
CREATED:20260123T014703Z
LAST-MODIFIED:20260324T043005Z
UID:10014841-1777042800-1777050000@www.harriganscameronpark.com.au
SUMMARY:Happy Hour
DESCRIPTION:Enjoy Happy Hour every weekday from 3pm-5pm at Harrigan’s Cameron Park. \nSchooners from just $7!
URL:https://www.harriganscameronpark.com.au/event/happy-hour-5/2026-04-24/
LOCATION:Harrigan’s Cameron Park\, 70 McKendry Drive\, Cameron Park\, NSW\, 2285\, Australia
CATEGORIES:Weekly Dining Specials,Weekly Events
ATTACH;FMTTYPE=image/jpeg:https://www.harriganscameronpark.com.au/wp-content/uploads/2026/01/hcp_2026_weekday_happy_hour_web_800x600.jpg
END:VEVENT
BEGIN:VEVENT
DTSTART;TZID=Australia/Sydney:20260424T200000
DTEND;TZID=Australia/Sydney:20260425T013000
DTSTAMP:20260420T171857
CREATED:20250627T020910Z
LAST-MODIFIED:20260212T025734Z
UID:10010820-1777060800-1777080600@www.harriganscameronpark.com.au
SUMMARY:Sip & Spin
DESCRIPTION:Fridays just got a whole lot better! \nKickstart your weekend every Friday night at Harrigan’s! Sip on delicious cocktails and house spirit specials while listening to the live DJ spin hits to get you on the dancefloor. \n\n2 for $25 Cocktails\, 8pm-10pm\n$7 House Spirits\, 8pm-2am\nLive DJ\, 8:30pm-1:30am
URL:https://www.harriganscameronpark.com.au/event/sip-and-spin/2026-04-24/
CATEGORIES:Weekly Dining Specials,Weekly Events
ATTACH;FMTTYPE=image/jpeg:https://www.harriganscameronpark.com.au/wp-content/uploads/2026/01/hcp_2026_friday_sip_spin_web_800x600.jpg
END:VEVENT
BEGIN:VEVENT
DTSTART;TZID=Australia/Sydney:20260424T203000
DTEND;TZID=Australia/Sydney:20260424T233000
DTSTAMP:20260420T171857
CREATED:20260401T035807Z
LAST-MODIFIED:20260401T035807Z
UID:10016136-1777062600-1777073400@www.harriganscameronpark.com.au
SUMMARY:Sonic Sounds Duo
DESCRIPTION:Live music every weekend at Harrigan’s Cameron Park
URL:https://www.harriganscameronpark.com.au/event/sonic-sounds-duo/
CATEGORIES:Live Music
ATTACH;FMTTYPE=image/jpeg:https://www.harriganscameronpark.com.au/wp-content/uploads/2026/04/Sonic-Sounds-Duo-1.jpg
END:VEVENT
BEGIN:VEVENT
DTSTART;TZID=Australia/Sydney:20260425T100000
DTEND;TZID=Australia/Sydney:20260425T233000
DTSTAMP:20260420T171857
CREATED:20260409T021623Z
LAST-MODIFIED:20260410T055804Z
UID:10016141-1777111200-1777159800@www.harriganscameronpark.com.au
SUMMARY:ANZAC Day
DESCRIPTION:ANZAC Day\nCelebrate ANZAC Day at Harrigan’s Cameron Park \nThis Anzac Day\, join us as we honour the brave men and women who have served our country. \nWe’ll have FREE bacon and egg rolls on entry from 10am – 11am\, then a bugle call of the Last Post will mark the start of two-up at 12pm. \nRelax into the night with live music by Felix Quinn and enjoy the ANZAC Day specials menu\, available for lunch and dinner from Saturday 25 to Monday 27 April. \nLet’s gather friends and family as we celebrate our heritage and raise a glass to our heroes.
URL:https://www.harriganscameronpark.com.au/event/anzac-day-2026/
LOCATION:Harrigan’s Cameron Park\, 70 McKendry Drive\, Cameron Park\, NSW\, 2285\, Australia
CATEGORIES:Special Events
ATTACH;FMTTYPE=image/jpeg:https://www.harriganscameronpark.com.au/wp-content/uploads/2026/04/HCP2026_042_anzac_day_website_800x600_v2.jpg
END:VEVENT
BEGIN:VEVENT
DTSTART;TZID=Australia/Sydney:20260425T170000
DTEND;TZID=Australia/Sydney:20260425T200000
DTSTAMP:20260420T171857
CREATED:20260401T035934Z
LAST-MODIFIED:20260401T035934Z
UID:10016137-1777136400-1777147200@www.harriganscameronpark.com.au
SUMMARY:Felix Quinn
DESCRIPTION:Live music every weekend at Harrigan’s Cameron Park.
URL:https://www.harriganscameronpark.com.au/event/felix-quinn-11/
CATEGORIES:Live Music
ATTACH;FMTTYPE=image/jpeg:https://www.harriganscameronpark.com.au/wp-content/uploads/2026/04/Felix-Quinn4.jpg
END:VEVENT
BEGIN:VEVENT
DTSTART;TZID=Australia/Sydney:20260426T140000
DTEND;TZID=Australia/Sydney:20260426T170000
DTSTAMP:20260420T171857
CREATED:20260401T040045Z
LAST-MODIFIED:20260401T040045Z
UID:10016138-1777212000-1777222800@www.harriganscameronpark.com.au
SUMMARY:Rebecca Henry
DESCRIPTION:Live music every weekend at Harrigan’s Cameron Park
URL:https://www.harriganscameronpark.com.au/event/rebecca-henry-9/
CATEGORIES:Live Music
ATTACH;FMTTYPE=image/jpeg:https://www.harriganscameronpark.com.au/wp-content/uploads/2026/04/Rebecca-Henry3.jpg
END:VEVENT
BEGIN:VEVENT
DTSTART;TZID=Australia/Sydney:20260426T170000
DTEND;TZID=Australia/Sydney:20260426T203000
DTSTAMP:20260420T171857
CREATED:20250527T030044Z
LAST-MODIFIED:20260420T023232Z
UID:10008964-1777222800-1777235400@www.harriganscameronpark.com.au
SUMMARY:Curry Night
DESCRIPTION:Sunday night is Curry night at Harrigan’s Cameron Park. \nEnjoy a delicious curry with rice and naan for just $20!
URL:https://www.harriganscameronpark.com.au/event/curry-night/2026-04-26/
LOCATION:Harrigan’s Cameron Park\, 70 McKendry Drive\, Cameron Park\, NSW\, 2285\, Australia
CATEGORIES:Weekly Dining Specials
ATTACH;FMTTYPE=image/jpeg:https://www.harriganscameronpark.com.au/wp-content/uploads/2026/01/hcp_2026_sunday_curry_night_web_800x600.jpg
END:VEVENT
BEGIN:VEVENT
DTSTART;TZID=Australia/Sydney:20260427T113000
DTEND;TZID=Australia/Sydney:20260427T143000
DTSTAMP:20260420T171857
CREATED:20260128T084029Z
LAST-MODIFIED:20260420T023347Z
UID:10012229-1777289400-1777300200@www.harriganscameronpark.com.au
SUMMARY:Lunch Specials
DESCRIPTION:Check out our fantastic range\, including burgers\, salads\, steak\, and fish and chips!
URL:https://www.harriganscameronpark.com.au/event/lunch-specials/2026-04-27/
LOCATION:Harrigan’s Cameron Park\, 70 McKendry Drive\, Cameron Park\, NSW\, 2285\, Australia
CATEGORIES:Weekly Dining Specials
ATTACH;FMTTYPE=image/jpeg:https://www.harriganscameronpark.com.au/wp-content/uploads/2026/01/hcp_2026_weekdays_lunch_specials_web_800x600.jpg
END:VEVENT
BEGIN:VEVENT
DTSTART;TZID=Australia/Sydney:20260427T150000
DTEND;TZID=Australia/Sydney:20260427T170000
DTSTAMP:20260420T171857
CREATED:20260123T014703Z
LAST-MODIFIED:20260324T043005Z
UID:10014842-1777302000-1777309200@www.harriganscameronpark.com.au
SUMMARY:Happy Hour
DESCRIPTION:Enjoy Happy Hour every weekday from 3pm-5pm at Harrigan’s Cameron Park. \nSchooners from just $7!
URL:https://www.harriganscameronpark.com.au/event/happy-hour-5/2026-04-27/
LOCATION:Harrigan’s Cameron Park\, 70 McKendry Drive\, Cameron Park\, NSW\, 2285\, Australia
CATEGORIES:Weekly Dining Specials,Weekly Events
ATTACH;FMTTYPE=image/jpeg:https://www.harriganscameronpark.com.au/wp-content/uploads/2026/01/hcp_2026_weekday_happy_hour_web_800x600.jpg
END:VEVENT
BEGIN:VEVENT
DTSTART;TZID=Australia/Sydney:20260427T170000
DTEND;TZID=Australia/Sydney:20260427T203000
DTSTAMP:20260420T171857
CREATED:20230913T020318Z
LAST-MODIFIED:20260420T020821Z
UID:10007109-1777309200-1777321800@www.harriganscameronpark.com.au
SUMMARY:Kids Eat Free
DESCRIPTION:Kids Eat Free every Monday night at Harrigan’s Cameron Park. \nAvailable from 5pm\, purchase any adult main to redeem.
URL:https://www.harriganscameronpark.com.au/event/kids-eat-free/2026-04-27/
LOCATION:Harrigan’s Cameron Park\, 70 McKendry Drive\, Cameron Park\, NSW\, 2285\, Australia
CATEGORIES:Weekly Dining Specials
ATTACH;FMTTYPE=image/jpeg:https://www.harriganscameronpark.com.au/wp-content/uploads/2026/01/hcp_2026_monday_kids_eat_free_web_800x600.jpg
END:VEVENT
BEGIN:VEVENT
DTSTART;TZID=Australia/Sydney:20260427T170000
DTEND;TZID=Australia/Sydney:20260427T203000
DTSTAMP:20260420T171857
CREATED:20250527T025805Z
LAST-MODIFIED:20260420T020941Z
UID:10013483-1777309200-1777321800@www.harriganscameronpark.com.au
SUMMARY:Steak Night
DESCRIPTION:Monday night is steak night at Harrigan’s Cameron Park. Enjoy a 200g rump steak with two sides and your choice of sauce for just $25! \nAlso on Monday nights\, KIDS EAT FREE with the purchase of any adult main.
URL:https://www.harriganscameronpark.com.au/event/steak-night/2026-04-27/
LOCATION:Harrigan’s Cameron Park\, 70 McKendry Drive\, Cameron Park\, NSW\, 2285\, Australia
CATEGORIES:Weekly Dining Specials
ATTACH;FMTTYPE=image/jpeg:https://www.harriganscameronpark.com.au/wp-content/uploads/2026/01/hcp_2026_monday_steak_night_web_800x600.jpg
END:VEVENT
BEGIN:VEVENT
DTSTART;TZID=Australia/Sydney:20260428T113000
DTEND;TZID=Australia/Sydney:20260428T143000
DTSTAMP:20260420T171857
CREATED:20260128T084029Z
LAST-MODIFIED:20260420T023347Z
UID:10012230-1777375800-1777386600@www.harriganscameronpark.com.au
SUMMARY:Lunch Specials
DESCRIPTION:Check out our fantastic range\, including burgers\, salads\, steak\, and fish and chips!
URL:https://www.harriganscameronpark.com.au/event/lunch-specials/2026-04-28/
LOCATION:Harrigan’s Cameron Park\, 70 McKendry Drive\, Cameron Park\, NSW\, 2285\, Australia
CATEGORIES:Weekly Dining Specials
ATTACH;FMTTYPE=image/jpeg:https://www.harriganscameronpark.com.au/wp-content/uploads/2026/01/hcp_2026_weekdays_lunch_specials_web_800x600.jpg
END:VEVENT
BEGIN:VEVENT
DTSTART;TZID=Australia/Sydney:20260428T150000
DTEND;TZID=Australia/Sydney:20260428T170000
DTSTAMP:20260420T171857
CREATED:20260123T014703Z
LAST-MODIFIED:20260324T043005Z
UID:10014843-1777388400-1777395600@www.harriganscameronpark.com.au
SUMMARY:Happy Hour
DESCRIPTION:Enjoy Happy Hour every weekday from 3pm-5pm at Harrigan’s Cameron Park. \nSchooners from just $7!
URL:https://www.harriganscameronpark.com.au/event/happy-hour-5/2026-04-28/
LOCATION:Harrigan’s Cameron Park\, 70 McKendry Drive\, Cameron Park\, NSW\, 2285\, Australia
CATEGORIES:Weekly Dining Specials,Weekly Events
ATTACH;FMTTYPE=image/jpeg:https://www.harriganscameronpark.com.au/wp-content/uploads/2026/01/hcp_2026_weekday_happy_hour_web_800x600.jpg
END:VEVENT
BEGIN:VEVENT
DTSTART;TZID=Australia/Sydney:20260428T170000
DTEND;TZID=Australia/Sydney:20260428T203000
DTSTAMP:20260420T171857
CREATED:20250527T025530Z
LAST-MODIFIED:20260420T023205Z
UID:10007923-1777395600-1777408200@www.harriganscameronpark.com.au
SUMMARY:Burger Night
DESCRIPTION:Tuesday night is Burger night at Harrigan’s Cameron Park. \nJoin us from 5pm for $20 burgers. Includes any burger from the menu and specials.
URL:https://www.harriganscameronpark.com.au/event/burger-night/2026-04-28/
LOCATION:Harrigan’s Cameron Park\, 70 McKendry Drive\, Cameron Park\, NSW\, 2285\, Australia
CATEGORIES:Weekly Dining Specials
ATTACH;FMTTYPE=image/jpeg:https://www.harriganscameronpark.com.au/wp-content/uploads/2026/01/hcp_2026_tuesday_burger_night_web_800x600.jpg
END:VEVENT
BEGIN:VEVENT
DTSTART;TZID=Australia/Sydney:20260428T183000
DTEND;TZID=Australia/Sydney:20260428T203000
DTSTAMP:20260420T171857
CREATED:20250812T002839Z
LAST-MODIFIED:20260130T000002Z
UID:10013766-1777401000-1777408200@www.harriganscameronpark.com.au
SUMMARY:Pool Knockout Competition
DESCRIPTION:Think you have what it takes to win our pool competition? \nJoin us every Tuesday night from 6:30pm in the Sports Bar for knockout-style game\, with the winner taking home a $60 venue voucher and second place taking home a $40 venue voucher. \nThe competition will run on our house rules\, which will be on display each week. \nFREE TO ENTER
URL:https://www.harriganscameronpark.com.au/event/pool-comp/2026-04-28/
LOCATION:Harrigan’s Cameron Park\, 70 McKendry Drive\, Cameron Park\, NSW\, 2285\, Australia
CATEGORIES:Weekly Events
ATTACH;FMTTYPE=image/jpeg:https://www.harriganscameronpark.com.au/wp-content/uploads/2025/08/hcp_pool_comp_website_800x600.jpg
END:VEVENT
BEGIN:VEVENT
DTSTART;TZID=Australia/Sydney:20260428T190000
DTEND;TZID=Australia/Sydney:20260428T213000
DTSTAMP:20260420T171857
CREATED:20260120T074222Z
LAST-MODIFIED:20260226T025011Z
UID:10011679-1777402800-1777411800@www.harriganscameronpark.com.au
SUMMARY:Drag Bingo with Timberlina
DESCRIPTION:Drag Bingo with Timberlina\nGet ready for a night of laughter\, fun\, and fierce competition at Drag Bingo with the Queen of Newcastle\, Timberlina! \nThis free event promises to be an unforgettable evening of high energy entertainment\, cheeky charm\, and plenty of sass. \nTimberlina\, known for her dazzling performances and larger-than-life personality\, will be calling the numbers and serving up some serious drag realness. Expect lots of laughs and a whole lot of excitement as she works her magic. \nWhether you’re a bingo enthusiast or just looking for a night of fun and fabulousness\, this event is for you! Bring your friends\, bring your game face\, and let’s make it a night to remember. \nBook Now
URL:https://www.harriganscameronpark.com.au/event/drag-bingo-with-timberlina-4/
LOCATION:Harrigan’s Cameron Park\, 70 McKendry Drive\, Cameron Park\, NSW\, 2285\, Australia
CATEGORIES:Special Events
ATTACH;FMTTYPE=image/jpeg:https://www.harriganscameronpark.com.au/wp-content/uploads/2026/01/HCP2026_005_drag_bingo_website_800x600.jpg
END:VEVENT
BEGIN:VEVENT
DTSTART;TZID=Australia/Sydney:20260429T113000
DTEND;TZID=Australia/Sydney:20260429T143000
DTSTAMP:20260420T171857
CREATED:20260128T084029Z
LAST-MODIFIED:20260420T023347Z
UID:10012231-1777462200-1777473000@www.harriganscameronpark.com.au
SUMMARY:Lunch Specials
DESCRIPTION:Check out our fantastic range\, including burgers\, salads\, steak\, and fish and chips!
URL:https://www.harriganscameronpark.com.au/event/lunch-specials/2026-04-29/
LOCATION:Harrigan’s Cameron Park\, 70 McKendry Drive\, Cameron Park\, NSW\, 2285\, Australia
CATEGORIES:Weekly Dining Specials
ATTACH;FMTTYPE=image/jpeg:https://www.harriganscameronpark.com.au/wp-content/uploads/2026/01/hcp_2026_weekdays_lunch_specials_web_800x600.jpg
END:VEVENT
BEGIN:VEVENT
DTSTART;TZID=Australia/Sydney:20260429T150000
DTEND;TZID=Australia/Sydney:20260429T170000
DTSTAMP:20260420T171857
CREATED:20260123T014703Z
LAST-MODIFIED:20260324T043005Z
UID:10014844-1777474800-1777482000@www.harriganscameronpark.com.au
SUMMARY:Happy Hour
DESCRIPTION:Enjoy Happy Hour every weekday from 3pm-5pm at Harrigan’s Cameron Park. \nSchooners from just $7!
URL:https://www.harriganscameronpark.com.au/event/happy-hour-5/2026-04-29/
LOCATION:Harrigan’s Cameron Park\, 70 McKendry Drive\, Cameron Park\, NSW\, 2285\, Australia
CATEGORIES:Weekly Dining Specials,Weekly Events
ATTACH;FMTTYPE=image/jpeg:https://www.harriganscameronpark.com.au/wp-content/uploads/2026/01/hcp_2026_weekday_happy_hour_web_800x600.jpg
END:VEVENT
BEGIN:VEVENT
DTSTART;TZID=Australia/Sydney:20260429T170000
DTEND;TZID=Australia/Sydney:20260429T203000
DTSTAMP:20260420T171857
CREATED:20230913T021055Z
LAST-MODIFIED:20260420T022819Z
UID:10011771-1777482000-1777494600@www.harriganscameronpark.com.au
SUMMARY:Schnitty Night
DESCRIPTION:Wednesday night is Schnitty Night at Harrigan’s Cameron Park. \nJoin us from 5pm for an $18 schnitzel with chips\, salad and your choice of sauce.
URL:https://www.harriganscameronpark.com.au/event/wednesday-schnitzel-night/2026-04-29/
LOCATION:Harrigan’s Cameron Park\, 70 McKendry Drive\, Cameron Park\, NSW\, 2285\, Australia
CATEGORIES:Weekly Dining Specials
ATTACH;FMTTYPE=image/jpeg:https://www.harriganscameronpark.com.au/wp-content/uploads/2026/01/hcp_2026_wednesday_schnitty_night_web_800x600.jpg
END:VEVENT
BEGIN:VEVENT
DTSTART;TZID=Australia/Sydney:20260429T190000
DTEND;TZID=Australia/Sydney:20260429T203000
DTSTAMP:20260420T171857
CREATED:20240131T001940Z
LAST-MODIFIED:20260130T000749Z
UID:10014130-1777489200-1777494600@www.harriganscameronpark.com.au
SUMMARY:Trivia Night
DESCRIPTION:Win your share of $130 in Harrigan’s vouchers every Wednesday night!\nSwing by Harrigan’s Cameron Park for our weekly trivia\, on EVERY Wednesday from 7pm in the Sports Bar. \nDoes winning make you hungry? Enjoy an $18 schnitzel with chips\, salad and gravy with Schnitty Night from 5pm. \nCome on down and join us! We can’t wait to know your name. \nBook Now
URL:https://www.harriganscameronpark.com.au/event/trivia-night/2026-04-29/
LOCATION:Harrigan’s Cameron Park\, 70 McKendry Drive\, Cameron Park\, NSW\, 2285\, Australia
CATEGORIES:Weekly Events
ATTACH;FMTTYPE=image/jpeg:https://www.harriganscameronpark.com.au/wp-content/uploads/2024/01/hcp_trivia_night_website_800x600.jpg
END:VEVENT
BEGIN:VEVENT
DTSTART;TZID=Australia/Sydney:20260430T113000
DTEND;TZID=Australia/Sydney:20260430T143000
DTSTAMP:20260420T171857
CREATED:20260128T084029Z
LAST-MODIFIED:20260420T023347Z
UID:10012232-1777548600-1777559400@www.harriganscameronpark.com.au
SUMMARY:Lunch Specials
DESCRIPTION:Check out our fantastic range\, including burgers\, salads\, steak\, and fish and chips!
URL:https://www.harriganscameronpark.com.au/event/lunch-specials/2026-04-30/
LOCATION:Harrigan’s Cameron Park\, 70 McKendry Drive\, Cameron Park\, NSW\, 2285\, Australia
CATEGORIES:Weekly Dining Specials
ATTACH;FMTTYPE=image/jpeg:https://www.harriganscameronpark.com.au/wp-content/uploads/2026/01/hcp_2026_weekdays_lunch_specials_web_800x600.jpg
END:VEVENT
BEGIN:VEVENT
DTSTART;TZID=Australia/Sydney:20260430T150000
DTEND;TZID=Australia/Sydney:20260430T170000
DTSTAMP:20260420T171857
CREATED:20260123T014703Z
LAST-MODIFIED:20260324T043005Z
UID:10014845-1777561200-1777568400@www.harriganscameronpark.com.au
SUMMARY:Happy Hour
DESCRIPTION:Enjoy Happy Hour every weekday from 3pm-5pm at Harrigan’s Cameron Park. \nSchooners from just $7!
URL:https://www.harriganscameronpark.com.au/event/happy-hour-5/2026-04-30/
LOCATION:Harrigan’s Cameron Park\, 70 McKendry Drive\, Cameron Park\, NSW\, 2285\, Australia
CATEGORIES:Weekly Dining Specials,Weekly Events
ATTACH;FMTTYPE=image/jpeg:https://www.harriganscameronpark.com.au/wp-content/uploads/2026/01/hcp_2026_weekday_happy_hour_web_800x600.jpg
END:VEVENT
BEGIN:VEVENT
DTSTART;TZID=Australia/Sydney:20260430T170000
DTEND;TZID=Australia/Sydney:20260430T203000
DTSTAMP:20260420T171857
CREATED:20250527T024721Z
LAST-MODIFIED:20260420T021751Z
UID:10003940-1777568400-1777581000@www.harriganscameronpark.com.au
SUMMARY:Pizza Night
DESCRIPTION:Thursday night is Pizza night at Harrigan’s Cameron Park. \nJoin us from 5pm for a $20 pizza – dine in or takeaway! \nIncludes chef’s special or any pizza from the menu.
URL:https://www.harriganscameronpark.com.au/event/thursday-pizza-night-2/2026-04-30/
LOCATION:Harrigan’s Cameron Park\, 70 McKendry Drive\, Cameron Park\, NSW\, 2285\, Australia
CATEGORIES:Weekly Dining Specials
ATTACH;FMTTYPE=image/jpeg:https://www.harriganscameronpark.com.au/wp-content/uploads/2026/01/hcp_2026_thursday_pizza_night_web_800x600.jpg
END:VEVENT
END:VCALENDAR