BEGIN:VCALENDAR
VERSION:2.0
PRODID:-//Harrigan&#039;s Cameron Park - ECPv6.15.20//NONSGML v1.0//EN
CALSCALE:GREGORIAN
METHOD:PUBLISH
X-WR-CALNAME:Harrigan&#039;s Cameron Park
X-ORIGINAL-URL:https://www.harriganscameronpark.com.au
X-WR-CALDESC:Events for Harrigan&#039;s Cameron Park
REFRESH-INTERVAL;VALUE=DURATION:PT1H
X-Robots-Tag:noindex
X-PUBLISHED-TTL:PT1H
BEGIN:VTIMEZONE
TZID:Australia/Sydney
BEGIN:STANDARD
TZOFFSETFROM:+1100
TZOFFSETTO:+1000
TZNAME:AEST
DTSTART:20240406T160000
END:STANDARD
BEGIN:DAYLIGHT
TZOFFSETFROM:+1000
TZOFFSETTO:+1100
TZNAME:AEDT
DTSTART:20241005T160000
END:DAYLIGHT
BEGIN:STANDARD
TZOFFSETFROM:+1100
TZOFFSETTO:+1000
TZNAME:AEST
DTSTART:20250405T160000
END:STANDARD
BEGIN:DAYLIGHT
TZOFFSETFROM:+1000
TZOFFSETTO:+1100
TZNAME:AEDT
DTSTART:20251004T160000
END:DAYLIGHT
BEGIN:STANDARD
TZOFFSETFROM:+1100
TZOFFSETTO:+1000
TZNAME:AEST
DTSTART:20260404T160000
END:STANDARD
BEGIN:DAYLIGHT
TZOFFSETFROM:+1000
TZOFFSETTO:+1100
TZNAME:AEDT
DTSTART:20261003T160000
END:DAYLIGHT
END:VTIMEZONE
BEGIN:VEVENT
DTSTART;TZID=Australia/Sydney:20251211T170000
DTEND;TZID=Australia/Sydney:20251211T203000
DTSTAMP:20260421T180322
CREATED:20250527T024721Z
LAST-MODIFIED:20260420T021751Z
UID:10003920-1765472400-1765485000@www.harriganscameronpark.com.au
SUMMARY:Pizza Night
DESCRIPTION:Thursday night is Pizza night at Harrigan’s Cameron Park. \nJoin us from 5pm for a $20 pizza – dine in or takeaway! \nIncludes chef’s special or any pizza from the menu.
URL:https://www.harriganscameronpark.com.au/event/thursday-pizza-night-2/2025-12-11/
LOCATION:Harrigan’s Cameron Park\, 70 McKendry Drive\, Cameron Park\, NSW\, 2285\, Australia
CATEGORIES:Weekly Dining Specials
ATTACH;FMTTYPE=image/jpeg:https://www.harriganscameronpark.com.au/wp-content/uploads/2026/01/hcp_2026_thursday_pizza_night_web_800x600.jpg
END:VEVENT
BEGIN:VEVENT
DTSTART;TZID=Australia/Sydney:20251210T190000
DTEND;TZID=Australia/Sydney:20251210T203000
DTSTAMP:20260421T180322
CREATED:20240131T001940Z
LAST-MODIFIED:20260130T000749Z
UID:10014110-1765393200-1765398600@www.harriganscameronpark.com.au
SUMMARY:Trivia Night
DESCRIPTION:Win your share of $130 in Harrigan’s vouchers every Wednesday night!\nSwing by Harrigan’s Cameron Park for our weekly trivia\, on EVERY Wednesday from 7pm in the Sports Bar. \nDoes winning make you hungry? Enjoy an $18 schnitzel with chips\, salad and gravy with Schnitty Night from 5pm. \nCome on down and join us! We can’t wait to know your name. \nBook Now
URL:https://www.harriganscameronpark.com.au/event/trivia-night/2025-12-10/
LOCATION:Harrigan’s Cameron Park\, 70 McKendry Drive\, Cameron Park\, NSW\, 2285\, Australia
CATEGORIES:Weekly Events
ATTACH;FMTTYPE=image/jpeg:https://www.harriganscameronpark.com.au/wp-content/uploads/2024/01/hcp_trivia_night_website_800x600.jpg
END:VEVENT
BEGIN:VEVENT
DTSTART;TZID=Australia/Sydney:20251210T170000
DTEND;TZID=Australia/Sydney:20251210T203000
DTSTAMP:20260421T180322
CREATED:20230913T021055Z
LAST-MODIFIED:20260420T022819Z
UID:10011751-1765386000-1765398600@www.harriganscameronpark.com.au
SUMMARY:Schnitty Night
DESCRIPTION:Wednesday night is Schnitty Night at Harrigan’s Cameron Park. \nJoin us from 5pm for an $18 schnitzel with chips\, salad and your choice of sauce.
URL:https://www.harriganscameronpark.com.au/event/wednesday-schnitzel-night/2025-12-10/
LOCATION:Harrigan’s Cameron Park\, 70 McKendry Drive\, Cameron Park\, NSW\, 2285\, Australia
CATEGORIES:Weekly Dining Specials
ATTACH;FMTTYPE=image/jpeg:https://www.harriganscameronpark.com.au/wp-content/uploads/2026/01/hcp_2026_wednesday_schnitty_night_web_800x600.jpg
END:VEVENT
BEGIN:VEVENT
DTSTART;TZID=Australia/Sydney:20251209T183000
DTEND;TZID=Australia/Sydney:20251209T203000
DTSTAMP:20260421T180322
CREATED:20250812T002839Z
LAST-MODIFIED:20260130T000002Z
UID:10013746-1765305000-1765312200@www.harriganscameronpark.com.au
SUMMARY:Pool Knockout Competition
DESCRIPTION:Think you have what it takes to win our pool competition? \nJoin us every Tuesday night from 6:30pm in the Sports Bar for knockout-style game\, with the winner taking home a $60 venue voucher and second place taking home a $40 venue voucher. \nThe competition will run on our house rules\, which will be on display each week. \nFREE TO ENTER
URL:https://www.harriganscameronpark.com.au/event/pool-comp/2025-12-09/
LOCATION:Harrigan’s Cameron Park\, 70 McKendry Drive\, Cameron Park\, NSW\, 2285\, Australia
CATEGORIES:Weekly Events
ATTACH;FMTTYPE=image/jpeg:https://www.harriganscameronpark.com.au/wp-content/uploads/2025/08/hcp_pool_comp_website_800x600.jpg
END:VEVENT
BEGIN:VEVENT
DTSTART;TZID=Australia/Sydney:20251209T170000
DTEND;TZID=Australia/Sydney:20251209T203000
DTSTAMP:20260421T180322
CREATED:20250527T025530Z
LAST-MODIFIED:20260420T023205Z
UID:10007903-1765299600-1765312200@www.harriganscameronpark.com.au
SUMMARY:Burger Night
DESCRIPTION:Tuesday night is Burger night at Harrigan’s Cameron Park. \nJoin us from 5pm for $20 burgers. Includes any burger from the menu and specials.
URL:https://www.harriganscameronpark.com.au/event/burger-night/2025-12-09/
LOCATION:Harrigan’s Cameron Park\, 70 McKendry Drive\, Cameron Park\, NSW\, 2285\, Australia
CATEGORIES:Weekly Dining Specials
ATTACH;FMTTYPE=image/jpeg:https://www.harriganscameronpark.com.au/wp-content/uploads/2026/01/hcp_2026_tuesday_burger_night_web_800x600.jpg
END:VEVENT
BEGIN:VEVENT
DTSTART;TZID=Australia/Sydney:20251208T170000
DTEND;TZID=Australia/Sydney:20251208T203000
DTSTAMP:20260421T180322
CREATED:20230913T020318Z
LAST-MODIFIED:20260420T020821Z
UID:10007089-1765213200-1765225800@www.harriganscameronpark.com.au
SUMMARY:Kids Eat Free
DESCRIPTION:Kids Eat Free every Monday night at Harrigan’s Cameron Park. \nAvailable from 5pm\, purchase any adult main to redeem.
URL:https://www.harriganscameronpark.com.au/event/kids-eat-free/2025-12-08/
LOCATION:Harrigan’s Cameron Park\, 70 McKendry Drive\, Cameron Park\, NSW\, 2285\, Australia
CATEGORIES:Weekly Dining Specials
ATTACH;FMTTYPE=image/jpeg:https://www.harriganscameronpark.com.au/wp-content/uploads/2026/01/hcp_2026_monday_kids_eat_free_web_800x600.jpg
END:VEVENT
BEGIN:VEVENT
DTSTART;TZID=Australia/Sydney:20251207T170000
DTEND;TZID=Australia/Sydney:20251207T203000
DTSTAMP:20260421T180322
CREATED:20250527T030044Z
LAST-MODIFIED:20260420T023232Z
UID:10008944-1765126800-1765139400@www.harriganscameronpark.com.au
SUMMARY:Curry Night
DESCRIPTION:Sunday night is Curry night at Harrigan’s Cameron Park. \nEnjoy a delicious curry with rice and naan for just $20!
URL:https://www.harriganscameronpark.com.au/event/curry-night/2025-12-07/
LOCATION:Harrigan’s Cameron Park\, 70 McKendry Drive\, Cameron Park\, NSW\, 2285\, Australia
CATEGORIES:Weekly Dining Specials
ATTACH;FMTTYPE=image/jpeg:https://www.harriganscameronpark.com.au/wp-content/uploads/2026/01/hcp_2026_sunday_curry_night_web_800x600.jpg
END:VEVENT
BEGIN:VEVENT
DTSTART;TZID=Australia/Sydney:20251207T140000
DTEND;TZID=Australia/Sydney:20251207T170000
DTSTAMP:20260421T180322
CREATED:20251201T221137Z
LAST-MODIFIED:20251201T221137Z
UID:10011641-1765116000-1765126800@www.harriganscameronpark.com.au
SUMMARY:REBECCA HENRY
DESCRIPTION:Live music every weekend at Harrigan’s Cameron Park
URL:https://www.harriganscameronpark.com.au/event/rebecca-henry-8/
LOCATION:NSW
CATEGORIES:Live Music
ATTACH;FMTTYPE=image/jpeg:https://www.harriganscameronpark.com.au/wp-content/uploads/2023/09/Rebecca-Henry.jpg
END:VEVENT
BEGIN:VEVENT
DTSTART;TZID=Australia/Sydney:20251207T140000
DTEND;TZID=Australia/Sydney:20251207T160000
DTSTAMP:20260421T180322
CREATED:20251130T221459Z
LAST-MODIFIED:20251130T221500Z
UID:10011637-1765116000-1765123200@www.harriganscameronpark.com.au
SUMMARY:UFC 323: Dvalishvili vs Yan 2
DESCRIPTION:UFC 323: Dvalishvili vs Yan 2 – Live & Loud at Harrigan’s Cameron Park! \nGet ready for a massive afternoon of fights as UFC 323 delivers one of the most anticipated rematches of the year Dvalishvili vs Yan 2 for the World Bantamweight Championship and Pantoja vs Van for the World Flyweight Championship. \nJoin us Sunday\, 7 December from 2pm as we stream every round live and loud on the big screens.\nBring your mates\, grab a cold drink\, and settle in for a full card of world-class MMA action. There’s no better place to watch the fights than Harrigan’s Cameron Park. \n🔥 Big screens\, cold beers\, unbeatable atmosphere \nDon’t miss a single strike! See you fight day! 🥊
URL:https://www.harriganscameronpark.com.au/event/ufc-323-dvalishvili-vs-yan-2/
LOCATION:Harrigan’s Cameron Park\, 70 McKendry Drive\, Cameron Park\, NSW\, 2285\, Australia
CATEGORIES:Special Events,Sport Events
ATTACH;FMTTYPE=image/jpeg:https://www.harriganscameronpark.com.au/wp-content/uploads/2025/12/UFC_323_Venue_800x600.jpg
END:VEVENT
BEGIN:VEVENT
DTSTART;TZID=Australia/Sydney:20251206T203000
DTEND;TZID=Australia/Sydney:20251206T233000
DTSTAMP:20260421T180322
CREATED:20251201T221136Z
LAST-MODIFIED:20251201T221136Z
UID:10011640-1765053000-1765063800@www.harriganscameronpark.com.au
SUMMARY:TOTALLY FRESH
DESCRIPTION:Live music every weekend at Harrigan’s Cameron Park
URL:https://www.harriganscameronpark.com.au/event/totally-fresh-2/
LOCATION:NSW
CATEGORIES:Live Music
ATTACH;FMTTYPE=image/jpeg:https://www.harriganscameronpark.com.au/wp-content/uploads/2024/10/202411_totally-fresh_800x630px.jpg
END:VEVENT
BEGIN:VEVENT
DTSTART;TZID=Australia/Sydney:20251205T203000
DTEND;TZID=Australia/Sydney:20251206T013000
DTSTAMP:20260421T180322
CREATED:20251201T221135Z
LAST-MODIFIED:20251201T221135Z
UID:10011639-1764966600-1764984600@www.harriganscameronpark.com.au
SUMMARY:DJ GHOSTBUSTER
DESCRIPTION:Live music every weekend at Harrigan’s Cameron Park
URL:https://www.harriganscameronpark.com.au/event/dj-ghostbuster-6/
LOCATION:NSW
CATEGORIES:Live Music
ATTACH;FMTTYPE=image/jpeg:https://www.harriganscameronpark.com.au/wp-content/uploads/2024/12/202501_dj-ghostbuster_web-800x630px.jpg
END:VEVENT
BEGIN:VEVENT
DTSTART;TZID=Australia/Sydney:20251205T203000
DTEND;TZID=Australia/Sydney:20251206T013000
DTSTAMP:20260421T180322
CREATED:20251114T051033Z
LAST-MODIFIED:20251202T073034Z
UID:10011635-1764966600-1764984600@www.harriganscameronpark.com.au
SUMMARY:RNB BANGERS NIGHT
DESCRIPTION:🎤 RNB BANGERS NIGHT🎶 \nGet ready to turn up the heat! We’re throwing a massive RNB party and you’re invited!\nThink smooth beats\, throwback favourites and all the tracks that defined the golden era of RNB. Whether you’re here for the vibes\, the drinks\, or the dancefloor… this is your night. \n✨ Drink Specials\n🍹 2 for $25 cocktails from 8–10pm\n🥃 $7 spirits all night*  \n✨ Dress to Impress\nBring your best RNB-inspired look\, think 90s denim\, streetwear swagger\, or full glam.\n🔥 Win a $100 venue voucher for Best Dressed! \nRound up the crew\, polish your dance moves\, and get ready for a night packed with beats\, cocktails\, and pure RNB energy.\nThis is one December night you don’t want to miss. \nRNB BANGERS NIGHT GIVEAWAY ALERT! $100 venue voucher on the night! For your chance to win\, hit “going” on the Facebook event and tag 2 friends on the giveaway post. Every comment is an additional entry to the giveaway!  \nGo to Facebook Event\n \n*T&Cs apply. Drink responsibly. \nT&C: \nEach comment with 2 tagged friends on the post earns you an entry into the contest.\nDrawn on the 5th at 4pm. The winner will be contacted through social media.\nVoucher to be collected on the night\, otherwise forfeited.\nThe venue voucher is not negotiable\, transferable\, exchangeable\, or redeemable for cash or other currency.\nThis is in no way sponsored\, administered\, or associated with Meta or any Meta products. By entering\, entrants confirm they are 18+ years\, release Facebook and Instagram of responsibility and agree to Meta’s terms of use.
URL:https://www.harriganscameronpark.com.au/event/rnb-bangers-night/
LOCATION:Harrigan’s Cameron Park\, 70 McKendry Drive\, Cameron Park\, NSW\, 2285\, Australia
CATEGORIES:Special Events
ATTACH;FMTTYPE=image/jpeg:https://www.harriganscameronpark.com.au/wp-content/uploads/2025/11/hcp_rnb_bangers_night_web_800x600px.jpg
END:VEVENT
BEGIN:VEVENT
DTSTART;TZID=Australia/Sydney:20251205T200000
DTEND;TZID=Australia/Sydney:20251206T013000
DTSTAMP:20260421T180322
CREATED:20250627T020910Z
LAST-MODIFIED:20260212T025734Z
UID:10010800-1764964800-1764984600@www.harriganscameronpark.com.au
SUMMARY:Sip & Spin
DESCRIPTION:Fridays just got a whole lot better! \nKickstart your weekend every Friday night at Harrigan’s! Sip on delicious cocktails and house spirit specials while listening to the live DJ spin hits to get you on the dancefloor. \n\n2 for $25 Cocktails\, 8pm-10pm\n$7 House Spirits\, 8pm-2am\nLive DJ\, 8:30pm-1:30am
URL:https://www.harriganscameronpark.com.au/event/sip-and-spin/2025-12-05/
LOCATION:NSW
CATEGORIES:Weekly Dining Specials,Weekly Events
ATTACH;FMTTYPE=image/jpeg:https://www.harriganscameronpark.com.au/wp-content/uploads/2026/01/hcp_2026_friday_sip_spin_web_800x600.jpg
END:VEVENT
BEGIN:VEVENT
DTSTART;TZID=Australia/Sydney:20251204T193000
DTEND;TZID=Australia/Sydney:20251204T200000
DTSTAMP:20260421T180322
CREATED:20240226T234549Z
LAST-MODIFIED:20260130T010759Z
UID:10001425-1764876600-1764878400@www.harriganscameronpark.com.au
SUMMARY:Social Club Draw4 Cash
DESCRIPTION:Be Numero Uno & WIN CASH!\nCalling all Harrigan’s Social Club Members! Join us at Harrigan’s Cameron Park every Thursday Night at 7:30pm for your chance to win some COLD HARD CASH! \nJackpot starts at $1\,000 & increases by $100 each week until a Harrigan’s Social Club Member* wins. \nAre you not part of the club? It’s FREE to join! Sign up to the Harrigan’s Social Club HERE. \n*Member must be in the venue at the time of the draw to participate. Read the full T&Cs \nHave a bite or grab a beer while you wait – secure your table now! \nBook Now
URL:https://www.harriganscameronpark.com.au/event/social-club-draw4-cash/2025-12-04/
LOCATION:Harrigan’s Cameron Park\, 70 McKendry Drive\, Cameron Park\, NSW\, 2285\, Australia
CATEGORIES:Weekly Events
ATTACH;FMTTYPE=image/jpeg:https://www.harriganscameronpark.com.au/wp-content/uploads/2024/02/hcp_draw4cash_website_800x600.jpg
END:VEVENT
BEGIN:VEVENT
DTSTART;TZID=Australia/Sydney:20251204T190000
DTEND;TZID=Australia/Sydney:20251204T203000
DTSTAMP:20260421T180322
CREATED:20250130T222006Z
LAST-MODIFIED:20260130T010127Z
UID:10014426-1764874800-1764880200@www.harriganscameronpark.com.au
SUMMARY:Thursday Poker Night: Hosted by the APL
DESCRIPTION:♠️ Thursday Poker Night at Harrigan’s Cameron Park ♠️ \nThink you’ve got the winning hand? Join us every Thursday at 7pm (excluding public holidays) for Poker Night in the Sports Bar\, hosted by the Australian Poker League (APL)! \n💵 Buy-In: $25\n🔄 Buy-Back: $20\n🏆 Prize Pool: Minimum $500 for the winner! \nPlus\, if you’re feeling hungry\, book a table before the game and enjoy $20 Pizza Night alongside the action! Choose the chef’s special or any pizza from our menu—dine in or take it away. \nGather your mates and make it a Thursday tradition at Harrigan’s Cameron Park. See you at the tables! 🃏 \nBook Dinner Upcoming Games
URL:https://www.harriganscameronpark.com.au/event/thursday-poker-night-2/2025-12-04/
LOCATION:Harrigan’s Cameron Park\, 70 McKendry Drive\, Cameron Park\, NSW\, 2285\, Australia
CATEGORIES:Weekly Events
ATTACH;FMTTYPE=image/jpeg:https://www.harriganscameronpark.com.au/wp-content/uploads/2025/01/poker-night_website_800x600px.jpg
END:VEVENT
BEGIN:VEVENT
DTSTART;TZID=Australia/Sydney:20251204T170000
DTEND;TZID=Australia/Sydney:20251204T203000
DTSTAMP:20260421T180322
CREATED:20250527T024721Z
LAST-MODIFIED:20260420T021751Z
UID:10003919-1764867600-1764880200@www.harriganscameronpark.com.au
SUMMARY:Pizza Night
DESCRIPTION:Thursday night is Pizza night at Harrigan’s Cameron Park. \nJoin us from 5pm for a $20 pizza – dine in or takeaway! \nIncludes chef’s special or any pizza from the menu.
URL:https://www.harriganscameronpark.com.au/event/thursday-pizza-night-2/2025-12-04/
LOCATION:Harrigan’s Cameron Park\, 70 McKendry Drive\, Cameron Park\, NSW\, 2285\, Australia
CATEGORIES:Weekly Dining Specials
ATTACH;FMTTYPE=image/jpeg:https://www.harriganscameronpark.com.au/wp-content/uploads/2026/01/hcp_2026_thursday_pizza_night_web_800x600.jpg
END:VEVENT
BEGIN:VEVENT
DTSTART;TZID=Australia/Sydney:20251203T190000
DTEND;TZID=Australia/Sydney:20251203T203000
DTSTAMP:20260421T180322
CREATED:20240131T001940Z
LAST-MODIFIED:20260130T000749Z
UID:10014109-1764788400-1764793800@www.harriganscameronpark.com.au
SUMMARY:Trivia Night
DESCRIPTION:Win your share of $130 in Harrigan’s vouchers every Wednesday night!\nSwing by Harrigan’s Cameron Park for our weekly trivia\, on EVERY Wednesday from 7pm in the Sports Bar. \nDoes winning make you hungry? Enjoy an $18 schnitzel with chips\, salad and gravy with Schnitty Night from 5pm. \nCome on down and join us! We can’t wait to know your name. \nBook Now
URL:https://www.harriganscameronpark.com.au/event/trivia-night/2025-12-03/
LOCATION:Harrigan’s Cameron Park\, 70 McKendry Drive\, Cameron Park\, NSW\, 2285\, Australia
CATEGORIES:Weekly Events
ATTACH;FMTTYPE=image/jpeg:https://www.harriganscameronpark.com.au/wp-content/uploads/2024/01/hcp_trivia_night_website_800x600.jpg
END:VEVENT
BEGIN:VEVENT
DTSTART;TZID=Australia/Sydney:20251203T170000
DTEND;TZID=Australia/Sydney:20251203T203000
DTSTAMP:20260421T180322
CREATED:20230913T021055Z
LAST-MODIFIED:20260420T022819Z
UID:10011750-1764781200-1764793800@www.harriganscameronpark.com.au
SUMMARY:Schnitty Night
DESCRIPTION:Wednesday night is Schnitty Night at Harrigan’s Cameron Park. \nJoin us from 5pm for an $18 schnitzel with chips\, salad and your choice of sauce.
URL:https://www.harriganscameronpark.com.au/event/wednesday-schnitzel-night/2025-12-03/
LOCATION:Harrigan’s Cameron Park\, 70 McKendry Drive\, Cameron Park\, NSW\, 2285\, Australia
CATEGORIES:Weekly Dining Specials
ATTACH;FMTTYPE=image/jpeg:https://www.harriganscameronpark.com.au/wp-content/uploads/2026/01/hcp_2026_wednesday_schnitty_night_web_800x600.jpg
END:VEVENT
BEGIN:VEVENT
DTSTART;TZID=Australia/Sydney:20251202T183000
DTEND;TZID=Australia/Sydney:20251202T203000
DTSTAMP:20260421T180322
CREATED:20250812T002839Z
LAST-MODIFIED:20260130T000002Z
UID:10013745-1764700200-1764707400@www.harriganscameronpark.com.au
SUMMARY:Pool Knockout Competition
DESCRIPTION:Think you have what it takes to win our pool competition? \nJoin us every Tuesday night from 6:30pm in the Sports Bar for knockout-style game\, with the winner taking home a $60 venue voucher and second place taking home a $40 venue voucher. \nThe competition will run on our house rules\, which will be on display each week. \nFREE TO ENTER
URL:https://www.harriganscameronpark.com.au/event/pool-comp/2025-12-02/
LOCATION:Harrigan’s Cameron Park\, 70 McKendry Drive\, Cameron Park\, NSW\, 2285\, Australia
CATEGORIES:Weekly Events
ATTACH;FMTTYPE=image/jpeg:https://www.harriganscameronpark.com.au/wp-content/uploads/2025/08/hcp_pool_comp_website_800x600.jpg
END:VEVENT
BEGIN:VEVENT
DTSTART;TZID=Australia/Sydney:20251202T170000
DTEND;TZID=Australia/Sydney:20251202T203000
DTSTAMP:20260421T180322
CREATED:20250527T025530Z
LAST-MODIFIED:20260420T023205Z
UID:10007902-1764694800-1764707400@www.harriganscameronpark.com.au
SUMMARY:Burger Night
DESCRIPTION:Tuesday night is Burger night at Harrigan’s Cameron Park. \nJoin us from 5pm for $20 burgers. Includes any burger from the menu and specials.
URL:https://www.harriganscameronpark.com.au/event/burger-night/2025-12-02/
LOCATION:Harrigan’s Cameron Park\, 70 McKendry Drive\, Cameron Park\, NSW\, 2285\, Australia
CATEGORIES:Weekly Dining Specials
ATTACH;FMTTYPE=image/jpeg:https://www.harriganscameronpark.com.au/wp-content/uploads/2026/01/hcp_2026_tuesday_burger_night_web_800x600.jpg
END:VEVENT
BEGIN:VEVENT
DTSTART;TZID=Australia/Sydney:20251201T170000
DTEND;TZID=Australia/Sydney:20251201T203000
DTSTAMP:20260421T180322
CREATED:20230913T020318Z
LAST-MODIFIED:20260420T020821Z
UID:10007088-1764608400-1764621000@www.harriganscameronpark.com.au
SUMMARY:Kids Eat Free
DESCRIPTION:Kids Eat Free every Monday night at Harrigan’s Cameron Park. \nAvailable from 5pm\, purchase any adult main to redeem.
URL:https://www.harriganscameronpark.com.au/event/kids-eat-free/2025-12-01/
LOCATION:Harrigan’s Cameron Park\, 70 McKendry Drive\, Cameron Park\, NSW\, 2285\, Australia
CATEGORIES:Weekly Dining Specials
ATTACH;FMTTYPE=image/jpeg:https://www.harriganscameronpark.com.au/wp-content/uploads/2026/01/hcp_2026_monday_kids_eat_free_web_800x600.jpg
END:VEVENT
BEGIN:VEVENT
DTSTART;TZID=Australia/Sydney:20251130T170000
DTEND;TZID=Australia/Sydney:20251130T203000
DTSTAMP:20260421T180322
CREATED:20250527T030044Z
LAST-MODIFIED:20260420T023232Z
UID:10008943-1764522000-1764534600@www.harriganscameronpark.com.au
SUMMARY:Curry Night
DESCRIPTION:Sunday night is Curry night at Harrigan’s Cameron Park. \nEnjoy a delicious curry with rice and naan for just $20!
URL:https://www.harriganscameronpark.com.au/event/curry-night/2025-11-30/
LOCATION:Harrigan’s Cameron Park\, 70 McKendry Drive\, Cameron Park\, NSW\, 2285\, Australia
CATEGORIES:Weekly Dining Specials
ATTACH;FMTTYPE=image/jpeg:https://www.harriganscameronpark.com.au/wp-content/uploads/2026/01/hcp_2026_sunday_curry_night_web_800x600.jpg
END:VEVENT
BEGIN:VEVENT
DTSTART;TZID=Australia/Sydney:20251130T140000
DTEND;TZID=Australia/Sydney:20251130T170000
DTSTAMP:20260421T180322
CREATED:20251030T213741Z
LAST-MODIFIED:20251030T213741Z
UID:10011632-1764511200-1764522000@www.harriganscameronpark.com.au
SUMMARY:Michael James
DESCRIPTION:Live music every weekend at Harrigan’s Cameron Park
URL:https://www.harriganscameronpark.com.au/event/michael-james/
LOCATION:NSW
CATEGORIES:Live Music
ATTACH;FMTTYPE=image/png:https://www.harriganscameronpark.com.au/wp-content/uploads/2025/10/Michael-James.png
END:VEVENT
BEGIN:VEVENT
DTSTART;TZID=Australia/Sydney:20251129T203000
DTEND;TZID=Australia/Sydney:20251129T233000
DTSTAMP:20260421T180322
CREATED:20251030T213741Z
LAST-MODIFIED:20251107T023525Z
UID:10011631-1764448200-1764459000@www.harriganscameronpark.com.au
SUMMARY:The Years
DESCRIPTION:Live music every weekend at Harrigan’s Cameron Park \n🤘 The Years – Newcastle’s ultimate six-piece rock cover band\, The Years deliver a rock-through-the-decades extravaganza\, covering hits from the ‘60s to the 2000s. From classics by Pink Floyd\, Fleetwood Mac\, and Queen to Aussie rock legends like Cold Chisel and The Angels\, The Years bring epic sound\, lights\, and a full-on rock party vibe that keeps the dance floor packed. With years of experience performing at pubs\, clubs\, and festivals across Newcastle\, Hunter Valley\, and the Central Coast\, The Years guarantee a night of fun\, nostalgia\, and non-stop energy.\nWhether you’re a fan of mind-blowing guitar solos\, soulful harmonies\, pop-infused energy\, or classic rock hits\, Harrigan’s Cameron Park has the perfect lineup for a weekend of live music\, dancing\, and unforgettable memories.
URL:https://www.harriganscameronpark.com.au/event/the-years-3/
LOCATION:NSW
CATEGORIES:Live Music
ATTACH;FMTTYPE=image/jpeg:https://www.harriganscameronpark.com.au/wp-content/uploads/2023/11/The-Years-1.jpg
END:VEVENT
BEGIN:VEVENT
DTSTART;TZID=Australia/Sydney:20251128T203000
DTEND;TZID=Australia/Sydney:20251128T233000
DTSTAMP:20260421T180322
CREATED:20251030T213741Z
LAST-MODIFIED:20251030T213741Z
UID:10011630-1764361800-1764372600@www.harriganscameronpark.com.au
SUMMARY:DJ Calicious
DESCRIPTION:Live music every weekend at Harrigan’s Cameron Park
URL:https://www.harriganscameronpark.com.au/event/dj-calicious-11/
LOCATION:NSW
CATEGORIES:Live Music
ATTACH;FMTTYPE=image/jpeg:https://www.harriganscameronpark.com.au/wp-content/uploads/2024/12/202501_dj-calicious_web-800x630px.jpg
END:VEVENT
BEGIN:VEVENT
DTSTART;TZID=Australia/Sydney:20251128T200000
DTEND;TZID=Australia/Sydney:20251129T013000
DTSTAMP:20260421T180322
CREATED:20250627T020910Z
LAST-MODIFIED:20260212T025734Z
UID:10010799-1764360000-1764379800@www.harriganscameronpark.com.au
SUMMARY:Sip & Spin
DESCRIPTION:Fridays just got a whole lot better! \nKickstart your weekend every Friday night at Harrigan’s! Sip on delicious cocktails and house spirit specials while listening to the live DJ spin hits to get you on the dancefloor. \n\n2 for $25 Cocktails\, 8pm-10pm\n$7 House Spirits\, 8pm-2am\nLive DJ\, 8:30pm-1:30am
URL:https://www.harriganscameronpark.com.au/event/sip-and-spin/2025-11-28/
LOCATION:NSW
CATEGORIES:Weekly Dining Specials,Weekly Events
ATTACH;FMTTYPE=image/jpeg:https://www.harriganscameronpark.com.au/wp-content/uploads/2026/01/hcp_2026_friday_sip_spin_web_800x600.jpg
END:VEVENT
BEGIN:VEVENT
DTSTART;TZID=Australia/Sydney:20251127T193000
DTEND;TZID=Australia/Sydney:20251127T200000
DTSTAMP:20260421T180322
CREATED:20240226T234549Z
LAST-MODIFIED:20260130T010759Z
UID:10001424-1764271800-1764273600@www.harriganscameronpark.com.au
SUMMARY:Social Club Draw4 Cash
DESCRIPTION:Be Numero Uno & WIN CASH!\nCalling all Harrigan’s Social Club Members! Join us at Harrigan’s Cameron Park every Thursday Night at 7:30pm for your chance to win some COLD HARD CASH! \nJackpot starts at $1\,000 & increases by $100 each week until a Harrigan’s Social Club Member* wins. \nAre you not part of the club? It’s FREE to join! Sign up to the Harrigan’s Social Club HERE. \n*Member must be in the venue at the time of the draw to participate. Read the full T&Cs \nHave a bite or grab a beer while you wait – secure your table now! \nBook Now
URL:https://www.harriganscameronpark.com.au/event/social-club-draw4-cash/2025-11-27/
LOCATION:Harrigan’s Cameron Park\, 70 McKendry Drive\, Cameron Park\, NSW\, 2285\, Australia
CATEGORIES:Weekly Events
ATTACH;FMTTYPE=image/jpeg:https://www.harriganscameronpark.com.au/wp-content/uploads/2024/02/hcp_draw4cash_website_800x600.jpg
END:VEVENT
BEGIN:VEVENT
DTSTART;TZID=Australia/Sydney:20251127T190000
DTEND;TZID=Australia/Sydney:20251127T203000
DTSTAMP:20260421T180322
CREATED:20250130T222006Z
LAST-MODIFIED:20260130T010127Z
UID:10014425-1764270000-1764275400@www.harriganscameronpark.com.au
SUMMARY:Thursday Poker Night: Hosted by the APL
DESCRIPTION:♠️ Thursday Poker Night at Harrigan’s Cameron Park ♠️ \nThink you’ve got the winning hand? Join us every Thursday at 7pm (excluding public holidays) for Poker Night in the Sports Bar\, hosted by the Australian Poker League (APL)! \n💵 Buy-In: $25\n🔄 Buy-Back: $20\n🏆 Prize Pool: Minimum $500 for the winner! \nPlus\, if you’re feeling hungry\, book a table before the game and enjoy $20 Pizza Night alongside the action! Choose the chef’s special or any pizza from our menu—dine in or take it away. \nGather your mates and make it a Thursday tradition at Harrigan’s Cameron Park. See you at the tables! 🃏 \nBook Dinner Upcoming Games
URL:https://www.harriganscameronpark.com.au/event/thursday-poker-night-2/2025-11-27/
LOCATION:Harrigan’s Cameron Park\, 70 McKendry Drive\, Cameron Park\, NSW\, 2285\, Australia
CATEGORIES:Weekly Events
ATTACH;FMTTYPE=image/jpeg:https://www.harriganscameronpark.com.au/wp-content/uploads/2025/01/poker-night_website_800x600px.jpg
END:VEVENT
BEGIN:VEVENT
DTSTART;TZID=Australia/Sydney:20251127T170000
DTEND;TZID=Australia/Sydney:20251127T203000
DTSTAMP:20260421T180322
CREATED:20250527T024721Z
LAST-MODIFIED:20260420T021751Z
UID:10003918-1764262800-1764275400@www.harriganscameronpark.com.au
SUMMARY:Pizza Night
DESCRIPTION:Thursday night is Pizza night at Harrigan’s Cameron Park. \nJoin us from 5pm for a $20 pizza – dine in or takeaway! \nIncludes chef’s special or any pizza from the menu.
URL:https://www.harriganscameronpark.com.au/event/thursday-pizza-night-2/2025-11-27/
LOCATION:Harrigan’s Cameron Park\, 70 McKendry Drive\, Cameron Park\, NSW\, 2285\, Australia
CATEGORIES:Weekly Dining Specials
ATTACH;FMTTYPE=image/jpeg:https://www.harriganscameronpark.com.au/wp-content/uploads/2026/01/hcp_2026_thursday_pizza_night_web_800x600.jpg
END:VEVENT
BEGIN:VEVENT
DTSTART;TZID=Australia/Sydney:20251126T190000
DTEND;TZID=Australia/Sydney:20251126T203000
DTSTAMP:20260421T180322
CREATED:20240131T001940Z
LAST-MODIFIED:20260130T000749Z
UID:10014108-1764183600-1764189000@www.harriganscameronpark.com.au
SUMMARY:Trivia Night
DESCRIPTION:Win your share of $130 in Harrigan’s vouchers every Wednesday night!\nSwing by Harrigan’s Cameron Park for our weekly trivia\, on EVERY Wednesday from 7pm in the Sports Bar. \nDoes winning make you hungry? Enjoy an $18 schnitzel with chips\, salad and gravy with Schnitty Night from 5pm. \nCome on down and join us! We can’t wait to know your name. \nBook Now
URL:https://www.harriganscameronpark.com.au/event/trivia-night/2025-11-26/
LOCATION:Harrigan’s Cameron Park\, 70 McKendry Drive\, Cameron Park\, NSW\, 2285\, Australia
CATEGORIES:Weekly Events
ATTACH;FMTTYPE=image/jpeg:https://www.harriganscameronpark.com.au/wp-content/uploads/2024/01/hcp_trivia_night_website_800x600.jpg
END:VEVENT
END:VCALENDAR