BEGIN:VCALENDAR
VERSION:2.0
PRODID:-//Harrigan&#039;s Cameron Park - ECPv6.15.20//NONSGML v1.0//EN
CALSCALE:GREGORIAN
METHOD:PUBLISH
X-ORIGINAL-URL:https://www.harriganscameronpark.com.au
X-WR-CALDESC:Events for Harrigan&#039;s Cameron Park
REFRESH-INTERVAL;VALUE=DURATION:PT1H
X-Robots-Tag:noindex
X-PUBLISHED-TTL:PT1H
BEGIN:VTIMEZONE
TZID:Australia/Sydney
BEGIN:STANDARD
TZOFFSETFROM:+1100
TZOFFSETTO:+1000
TZNAME:AEST
DTSTART:20250405T160000
END:STANDARD
BEGIN:DAYLIGHT
TZOFFSETFROM:+1000
TZOFFSETTO:+1100
TZNAME:AEDT
DTSTART:20251004T160000
END:DAYLIGHT
BEGIN:STANDARD
TZOFFSETFROM:+1100
TZOFFSETTO:+1000
TZNAME:AEST
DTSTART:20260404T160000
END:STANDARD
BEGIN:DAYLIGHT
TZOFFSETFROM:+1000
TZOFFSETTO:+1100
TZNAME:AEDT
DTSTART:20261003T160000
END:DAYLIGHT
BEGIN:STANDARD
TZOFFSETFROM:+1100
TZOFFSETTO:+1000
TZNAME:AEST
DTSTART:20270403T160000
END:STANDARD
BEGIN:DAYLIGHT
TZOFFSETFROM:+1000
TZOFFSETTO:+1100
TZNAME:AEDT
DTSTART:20271002T160000
END:DAYLIGHT
END:VTIMEZONE
BEGIN:VEVENT
DTSTART;TZID=Australia/Sydney:20260213T113000
DTEND;TZID=Australia/Sydney:20260213T143000
DTSTAMP:20260420T230349
CREATED:20260128T084029Z
LAST-MODIFIED:20260420T023347Z
UID:10012178-1770982200-1770993000@www.harriganscameronpark.com.au
SUMMARY:Lunch Specials
DESCRIPTION:Check out our fantastic range\, including burgers\, salads\, steak\, and fish and chips!
URL:https://www.harriganscameronpark.com.au/event/lunch-specials/2026-02-13/
LOCATION:Harrigan’s Cameron Park\, 70 McKendry Drive\, Cameron Park\, NSW\, 2285\, Australia
CATEGORIES:Weekly Dining Specials
ATTACH;FMTTYPE=image/jpeg:https://www.harriganscameronpark.com.au/wp-content/uploads/2026/01/hcp_2026_weekdays_lunch_specials_web_800x600.jpg
END:VEVENT
BEGIN:VEVENT
DTSTART;TZID=Australia/Sydney:20260213T150000
DTEND;TZID=Australia/Sydney:20260213T170000
DTSTAMP:20260420T230349
CREATED:20260123T013714Z
LAST-MODIFIED:20260212T035040Z
UID:10011705-1770994800-1771002000@www.harriganscameronpark.com.au
SUMMARY:Happy Hour
DESCRIPTION:Enjoy Happy Hour every weekday from 3pm-5pm at Harrigan’s Cameron Park. \nSchooners from just $7!
URL:https://www.harriganscameronpark.com.au/event/happy-hour-3/2026-02-13/
LOCATION:Harrigan’s Cameron Park\, 70 McKendry Drive\, Cameron Park\, NSW\, 2285\, Australia
CATEGORIES:Weekly Dining Specials,Weekly Events
END:VEVENT
BEGIN:VEVENT
DTSTART;TZID=Australia/Sydney:20260213T200000
DTEND;TZID=Australia/Sydney:20260214T013000
DTSTAMP:20260420T230349
CREATED:20250627T020910Z
LAST-MODIFIED:20260212T025734Z
UID:10010810-1771012800-1771032600@www.harriganscameronpark.com.au
SUMMARY:Sip & Spin
DESCRIPTION:Fridays just got a whole lot better! \nKickstart your weekend every Friday night at Harrigan’s! Sip on delicious cocktails and house spirit specials while listening to the live DJ spin hits to get you on the dancefloor. \n\n2 for $25 Cocktails\, 8pm-10pm\n$7 House Spirits\, 8pm-2am\nLive DJ\, 8:30pm-1:30am
URL:https://www.harriganscameronpark.com.au/event/sip-and-spin/2026-02-13/
CATEGORIES:Weekly Dining Specials,Weekly Events
ATTACH;FMTTYPE=image/jpeg:https://www.harriganscameronpark.com.au/wp-content/uploads/2026/01/hcp_2026_friday_sip_spin_web_800x600.jpg
END:VEVENT
BEGIN:VEVENT
DTSTART;TZID=Australia/Sydney:20260213T203000
DTEND;TZID=Australia/Sydney:20260214T013000
DTSTAMP:20260420T230349
CREATED:20260201T224436Z
LAST-MODIFIED:20260201T224436Z
UID:10014714-1771014600-1771032600@www.harriganscameronpark.com.au
SUMMARY:DJ SMASHUP
DESCRIPTION:Live music every weekend at Harrigan’s Cameron Park
URL:https://www.harriganscameronpark.com.au/event/dj-smashup-13/
CATEGORIES:Live Music
ATTACH;FMTTYPE=image/jpeg:https://www.harriganscameronpark.com.au/wp-content/uploads/2024/12/202501_dj-smashup_web-800x630px.jpg
END:VEVENT
BEGIN:VEVENT
DTSTART;TZID=Australia/Sydney:20260214T173000
DTEND;TZID=Australia/Sydney:20260214T210000
DTSTAMP:20260420T230349
CREATED:20260202T043329Z
LAST-MODIFIED:20260204T023406Z
UID:10014723-1771090200-1771102800@www.harriganscameronpark.com.au
SUMMARY:Valentine's Day
DESCRIPTION:Seek romance and see where the night takes you!\nWe’re serving a special Valentine’s Day menu perfect for couples who love great food and great atmosphere. \nEnjoy an intimate dinner then turn up the night with cocktails\, premium spirits and live entertainment. \nCHECK OUT OUR MENU \nA great night out — together. \nBook Now
URL:https://www.harriganscameronpark.com.au/event/valentines-day-2026/
LOCATION:Harrigan’s Cameron Park\, 70 McKendry Drive\, Cameron Park\, NSW\, 2285\, Australia
CATEGORIES:Special Events
ATTACH;FMTTYPE=image/jpeg:https://www.harriganscameronpark.com.au/wp-content/uploads/2026/02/HCP2026_010_valentines_day_website_800x600.jpg
END:VEVENT
BEGIN:VEVENT
DTSTART;TZID=Australia/Sydney:20260214T203000
DTEND;TZID=Australia/Sydney:20260214T233000
DTSTAMP:20260420T230349
CREATED:20260201T224514Z
LAST-MODIFIED:20260206T024906Z
UID:10014715-1771101000-1771111800@www.harriganscameronpark.com.au
SUMMARY:ROCK RHAPSODY
DESCRIPTION:Rock Rhapsody\nRock Rhapsody are back at Harrigan’s Cameron Park on 14 February with a HUGE 3-hour live show. \nFour seasoned pros with decades of rock royalty bringing roaring vocals\, massive guitars\, big lights and non-stop anthems from 70s hard rock\, 80s stadium hits\, iconic 90s classics\, and an incredible Queen tribute. \nCome and watch them recreate the songs you know and love faithfully\, loudly\, and with serious stage presence. \n🎸 3-hour live set\n🎤 Huge sound and production\n🍻 Cold drinks flowing\n🔥 Big energy\, bigger atmosphere \nEntry is FREE and bookings are not required\, but we welcome you to book for dinner and stick around for the ROCK! \nBook Now
URL:https://www.harriganscameronpark.com.au/event/rock-rhapsody-9/
CATEGORIES:Live Music
ATTACH;FMTTYPE=image/jpeg:https://www.harriganscameronpark.com.au/wp-content/uploads/2024/03/Rock-Rhapsody-I53Udh.tmp_.jpg
END:VEVENT
BEGIN:VEVENT
DTSTART;TZID=Australia/Sydney:20260215T140000
DTEND;TZID=Australia/Sydney:20260215T170000
DTSTAMP:20260420T230349
CREATED:20260201T224648Z
LAST-MODIFIED:20260201T224648Z
UID:10014716-1771164000-1771174800@www.harriganscameronpark.com.au
SUMMARY:Cory Jones
DESCRIPTION:Live music every weekend at Harrigan’s Cameron Park
URL:https://www.harriganscameronpark.com.au/event/cory-jones-4/
CATEGORIES:Live Music
ATTACH;FMTTYPE=image/jpeg:https://www.harriganscameronpark.com.au/wp-content/uploads/2026/02/Cory-Jones3.jpg
END:VEVENT
BEGIN:VEVENT
DTSTART;TZID=Australia/Sydney:20260215T170000
DTEND;TZID=Australia/Sydney:20260215T203000
DTSTAMP:20260420T230349
CREATED:20250527T030044Z
LAST-MODIFIED:20260420T023232Z
UID:10008954-1771174800-1771187400@www.harriganscameronpark.com.au
SUMMARY:Curry Night
DESCRIPTION:Sunday night is Curry night at Harrigan’s Cameron Park. \nEnjoy a delicious curry with rice and naan for just $20!
URL:https://www.harriganscameronpark.com.au/event/curry-night/2026-02-15/
LOCATION:Harrigan’s Cameron Park\, 70 McKendry Drive\, Cameron Park\, NSW\, 2285\, Australia
CATEGORIES:Weekly Dining Specials
ATTACH;FMTTYPE=image/jpeg:https://www.harriganscameronpark.com.au/wp-content/uploads/2026/01/hcp_2026_sunday_curry_night_web_800x600.jpg
END:VEVENT
BEGIN:VEVENT
DTSTART;TZID=Australia/Sydney:20260216T113000
DTEND;TZID=Australia/Sydney:20260216T143000
DTSTAMP:20260420T230349
CREATED:20260128T084029Z
LAST-MODIFIED:20260420T023347Z
UID:10012179-1771241400-1771252200@www.harriganscameronpark.com.au
SUMMARY:Lunch Specials
DESCRIPTION:Check out our fantastic range\, including burgers\, salads\, steak\, and fish and chips!
URL:https://www.harriganscameronpark.com.au/event/lunch-specials/2026-02-16/
LOCATION:Harrigan’s Cameron Park\, 70 McKendry Drive\, Cameron Park\, NSW\, 2285\, Australia
CATEGORIES:Weekly Dining Specials
ATTACH;FMTTYPE=image/jpeg:https://www.harriganscameronpark.com.au/wp-content/uploads/2026/01/hcp_2026_weekdays_lunch_specials_web_800x600.jpg
END:VEVENT
BEGIN:VEVENT
DTSTART;TZID=Australia/Sydney:20260216T150000
DTEND;TZID=Australia/Sydney:20260216T170000
DTSTAMP:20260420T230349
CREATED:20260123T014049Z
LAST-MODIFIED:20260212T035151Z
UID:10011711-1771254000-1771261200@www.harriganscameronpark.com.au
SUMMARY:Happy Hour
DESCRIPTION:Enjoy Happy Hour every weekday from 3pm-5pm at Harrigan’s Cameron Park. \nSchooners from just $7!
URL:https://www.harriganscameronpark.com.au/event/happy-hour-4/2026-02-16/
LOCATION:Harrigan’s Cameron Park\, 70 McKendry Drive\, Cameron Park\, NSW\, 2285\, Australia
CATEGORIES:Weekly Dining Specials,Weekly Events
END:VEVENT
BEGIN:VEVENT
DTSTART;TZID=Australia/Sydney:20260216T170000
DTEND;TZID=Australia/Sydney:20260216T203000
DTSTAMP:20260420T230349
CREATED:20230913T020318Z
LAST-MODIFIED:20260420T020821Z
UID:10007099-1771261200-1771273800@www.harriganscameronpark.com.au
SUMMARY:Kids Eat Free
DESCRIPTION:Kids Eat Free every Monday night at Harrigan’s Cameron Park. \nAvailable from 5pm\, purchase any adult main to redeem.
URL:https://www.harriganscameronpark.com.au/event/kids-eat-free/2026-02-16/
LOCATION:Harrigan’s Cameron Park\, 70 McKendry Drive\, Cameron Park\, NSW\, 2285\, Australia
CATEGORIES:Weekly Dining Specials
ATTACH;FMTTYPE=image/jpeg:https://www.harriganscameronpark.com.au/wp-content/uploads/2026/01/hcp_2026_monday_kids_eat_free_web_800x600.jpg
END:VEVENT
BEGIN:VEVENT
DTSTART;TZID=Australia/Sydney:20260216T170000
DTEND;TZID=Australia/Sydney:20260216T203000
DTSTAMP:20260420T230349
CREATED:20250527T025805Z
LAST-MODIFIED:20260420T020941Z
UID:10013473-1771261200-1771273800@www.harriganscameronpark.com.au
SUMMARY:Steak Night
DESCRIPTION:Monday night is steak night at Harrigan’s Cameron Park. Enjoy a 200g rump steak with two sides and your choice of sauce for just $25! \nAlso on Monday nights\, KIDS EAT FREE with the purchase of any adult main.
URL:https://www.harriganscameronpark.com.au/event/steak-night/2026-02-16/
LOCATION:Harrigan’s Cameron Park\, 70 McKendry Drive\, Cameron Park\, NSW\, 2285\, Australia
CATEGORIES:Weekly Dining Specials
ATTACH;FMTTYPE=image/jpeg:https://www.harriganscameronpark.com.au/wp-content/uploads/2026/01/hcp_2026_monday_steak_night_web_800x600.jpg
END:VEVENT
BEGIN:VEVENT
DTSTART;TZID=Australia/Sydney:20260217T113000
DTEND;TZID=Australia/Sydney:20260217T143000
DTSTAMP:20260420T230349
CREATED:20260128T084029Z
LAST-MODIFIED:20260420T023347Z
UID:10012180-1771327800-1771338600@www.harriganscameronpark.com.au
SUMMARY:Lunch Specials
DESCRIPTION:Check out our fantastic range\, including burgers\, salads\, steak\, and fish and chips!
URL:https://www.harriganscameronpark.com.au/event/lunch-specials/2026-02-17/
LOCATION:Harrigan’s Cameron Park\, 70 McKendry Drive\, Cameron Park\, NSW\, 2285\, Australia
CATEGORIES:Weekly Dining Specials
ATTACH;FMTTYPE=image/jpeg:https://www.harriganscameronpark.com.au/wp-content/uploads/2026/01/hcp_2026_weekdays_lunch_specials_web_800x600.jpg
END:VEVENT
BEGIN:VEVENT
DTSTART;TZID=Australia/Sydney:20260217T150000
DTEND;TZID=Australia/Sydney:20260217T170000
DTSTAMP:20260420T230349
CREATED:20260123T014049Z
LAST-MODIFIED:20260212T035151Z
UID:10011712-1771340400-1771347600@www.harriganscameronpark.com.au
SUMMARY:Happy Hour
DESCRIPTION:Enjoy Happy Hour every weekday from 3pm-5pm at Harrigan’s Cameron Park. \nSchooners from just $7!
URL:https://www.harriganscameronpark.com.au/event/happy-hour-4/2026-02-17/
LOCATION:Harrigan’s Cameron Park\, 70 McKendry Drive\, Cameron Park\, NSW\, 2285\, Australia
CATEGORIES:Weekly Dining Specials,Weekly Events
END:VEVENT
BEGIN:VEVENT
DTSTART;TZID=Australia/Sydney:20260217T170000
DTEND;TZID=Australia/Sydney:20260217T203000
DTSTAMP:20260420T230349
CREATED:20250527T025530Z
LAST-MODIFIED:20260420T023205Z
UID:10007913-1771347600-1771360200@www.harriganscameronpark.com.au
SUMMARY:Burger Night
DESCRIPTION:Tuesday night is Burger night at Harrigan’s Cameron Park. \nJoin us from 5pm for $20 burgers. Includes any burger from the menu and specials.
URL:https://www.harriganscameronpark.com.au/event/burger-night/2026-02-17/
LOCATION:Harrigan’s Cameron Park\, 70 McKendry Drive\, Cameron Park\, NSW\, 2285\, Australia
CATEGORIES:Weekly Dining Specials
ATTACH;FMTTYPE=image/jpeg:https://www.harriganscameronpark.com.au/wp-content/uploads/2026/01/hcp_2026_tuesday_burger_night_web_800x600.jpg
END:VEVENT
BEGIN:VEVENT
DTSTART;TZID=Australia/Sydney:20260217T183000
DTEND;TZID=Australia/Sydney:20260217T203000
DTSTAMP:20260420T230349
CREATED:20250812T002839Z
LAST-MODIFIED:20260130T000002Z
UID:10013756-1771353000-1771360200@www.harriganscameronpark.com.au
SUMMARY:Pool Knockout Competition
DESCRIPTION:Think you have what it takes to win our pool competition? \nJoin us every Tuesday night from 6:30pm in the Sports Bar for knockout-style game\, with the winner taking home a $60 venue voucher and second place taking home a $40 venue voucher. \nThe competition will run on our house rules\, which will be on display each week. \nFREE TO ENTER
URL:https://www.harriganscameronpark.com.au/event/pool-comp/2026-02-17/
LOCATION:Harrigan’s Cameron Park\, 70 McKendry Drive\, Cameron Park\, NSW\, 2285\, Australia
CATEGORIES:Weekly Events
ATTACH;FMTTYPE=image/jpeg:https://www.harriganscameronpark.com.au/wp-content/uploads/2025/08/hcp_pool_comp_website_800x600.jpg
END:VEVENT
BEGIN:VEVENT
DTSTART;TZID=Australia/Sydney:20260218T113000
DTEND;TZID=Australia/Sydney:20260218T143000
DTSTAMP:20260420T230349
CREATED:20260128T084029Z
LAST-MODIFIED:20260420T023347Z
UID:10012181-1771414200-1771425000@www.harriganscameronpark.com.au
SUMMARY:Lunch Specials
DESCRIPTION:Check out our fantastic range\, including burgers\, salads\, steak\, and fish and chips!
URL:https://www.harriganscameronpark.com.au/event/lunch-specials/2026-02-18/
LOCATION:Harrigan’s Cameron Park\, 70 McKendry Drive\, Cameron Park\, NSW\, 2285\, Australia
CATEGORIES:Weekly Dining Specials
ATTACH;FMTTYPE=image/jpeg:https://www.harriganscameronpark.com.au/wp-content/uploads/2026/01/hcp_2026_weekdays_lunch_specials_web_800x600.jpg
END:VEVENT
BEGIN:VEVENT
DTSTART;TZID=Australia/Sydney:20260218T150000
DTEND;TZID=Australia/Sydney:20260218T170000
DTSTAMP:20260420T230349
CREATED:20260123T014049Z
LAST-MODIFIED:20260212T035151Z
UID:10011713-1771426800-1771434000@www.harriganscameronpark.com.au
SUMMARY:Happy Hour
DESCRIPTION:Enjoy Happy Hour every weekday from 3pm-5pm at Harrigan’s Cameron Park. \nSchooners from just $7!
URL:https://www.harriganscameronpark.com.au/event/happy-hour-4/2026-02-18/
LOCATION:Harrigan’s Cameron Park\, 70 McKendry Drive\, Cameron Park\, NSW\, 2285\, Australia
CATEGORIES:Weekly Dining Specials,Weekly Events
END:VEVENT
BEGIN:VEVENT
DTSTART;TZID=Australia/Sydney:20260218T170000
DTEND;TZID=Australia/Sydney:20260218T203000
DTSTAMP:20260420T230349
CREATED:20230913T021055Z
LAST-MODIFIED:20260420T022819Z
UID:10011761-1771434000-1771446600@www.harriganscameronpark.com.au
SUMMARY:Schnitty Night
DESCRIPTION:Wednesday night is Schnitty Night at Harrigan’s Cameron Park. \nJoin us from 5pm for an $18 schnitzel with chips\, salad and your choice of sauce.
URL:https://www.harriganscameronpark.com.au/event/wednesday-schnitzel-night/2026-02-18/
LOCATION:Harrigan’s Cameron Park\, 70 McKendry Drive\, Cameron Park\, NSW\, 2285\, Australia
CATEGORIES:Weekly Dining Specials
ATTACH;FMTTYPE=image/jpeg:https://www.harriganscameronpark.com.au/wp-content/uploads/2026/01/hcp_2026_wednesday_schnitty_night_web_800x600.jpg
END:VEVENT
BEGIN:VEVENT
DTSTART;TZID=Australia/Sydney:20260218T190000
DTEND;TZID=Australia/Sydney:20260218T203000
DTSTAMP:20260420T230349
CREATED:20240131T001940Z
LAST-MODIFIED:20260130T000749Z
UID:10014120-1771441200-1771446600@www.harriganscameronpark.com.au
SUMMARY:Trivia Night
DESCRIPTION:Win your share of $130 in Harrigan’s vouchers every Wednesday night!\nSwing by Harrigan’s Cameron Park for our weekly trivia\, on EVERY Wednesday from 7pm in the Sports Bar. \nDoes winning make you hungry? Enjoy an $18 schnitzel with chips\, salad and gravy with Schnitty Night from 5pm. \nCome on down and join us! We can’t wait to know your name. \nBook Now
URL:https://www.harriganscameronpark.com.au/event/trivia-night/2026-02-18/
LOCATION:Harrigan’s Cameron Park\, 70 McKendry Drive\, Cameron Park\, NSW\, 2285\, Australia
CATEGORIES:Weekly Events
ATTACH;FMTTYPE=image/jpeg:https://www.harriganscameronpark.com.au/wp-content/uploads/2024/01/hcp_trivia_night_website_800x600.jpg
END:VEVENT
BEGIN:VEVENT
DTSTART;TZID=Australia/Sydney:20260219T113000
DTEND;TZID=Australia/Sydney:20260219T143000
DTSTAMP:20260420T230349
CREATED:20260128T084029Z
LAST-MODIFIED:20260420T023347Z
UID:10012182-1771500600-1771511400@www.harriganscameronpark.com.au
SUMMARY:Lunch Specials
DESCRIPTION:Check out our fantastic range\, including burgers\, salads\, steak\, and fish and chips!
URL:https://www.harriganscameronpark.com.au/event/lunch-specials/2026-02-19/
LOCATION:Harrigan’s Cameron Park\, 70 McKendry Drive\, Cameron Park\, NSW\, 2285\, Australia
CATEGORIES:Weekly Dining Specials
ATTACH;FMTTYPE=image/jpeg:https://www.harriganscameronpark.com.au/wp-content/uploads/2026/01/hcp_2026_weekdays_lunch_specials_web_800x600.jpg
END:VEVENT
BEGIN:VEVENT
DTSTART;TZID=Australia/Sydney:20260219T150000
DTEND;TZID=Australia/Sydney:20260219T170000
DTSTAMP:20260420T230349
CREATED:20260123T014049Z
LAST-MODIFIED:20260212T035151Z
UID:10011714-1771513200-1771520400@www.harriganscameronpark.com.au
SUMMARY:Happy Hour
DESCRIPTION:Enjoy Happy Hour every weekday from 3pm-5pm at Harrigan’s Cameron Park. \nSchooners from just $7!
URL:https://www.harriganscameronpark.com.au/event/happy-hour-4/2026-02-19/
LOCATION:Harrigan’s Cameron Park\, 70 McKendry Drive\, Cameron Park\, NSW\, 2285\, Australia
CATEGORIES:Weekly Dining Specials,Weekly Events
END:VEVENT
BEGIN:VEVENT
DTSTART;TZID=Australia/Sydney:20260219T170000
DTEND;TZID=Australia/Sydney:20260219T203000
DTSTAMP:20260420T230349
CREATED:20250527T024721Z
LAST-MODIFIED:20260420T021751Z
UID:10003930-1771520400-1771533000@www.harriganscameronpark.com.au
SUMMARY:Pizza Night
DESCRIPTION:Thursday night is Pizza night at Harrigan’s Cameron Park. \nJoin us from 5pm for a $20 pizza – dine in or takeaway! \nIncludes chef’s special or any pizza from the menu.
URL:https://www.harriganscameronpark.com.au/event/thursday-pizza-night-2/2026-02-19/
LOCATION:Harrigan’s Cameron Park\, 70 McKendry Drive\, Cameron Park\, NSW\, 2285\, Australia
CATEGORIES:Weekly Dining Specials
ATTACH;FMTTYPE=image/jpeg:https://www.harriganscameronpark.com.au/wp-content/uploads/2026/01/hcp_2026_thursday_pizza_night_web_800x600.jpg
END:VEVENT
BEGIN:VEVENT
DTSTART;TZID=Australia/Sydney:20260219T190000
DTEND;TZID=Australia/Sydney:20260219T203000
DTSTAMP:20260420T230349
CREATED:20250130T222006Z
LAST-MODIFIED:20260130T010127Z
UID:10014437-1771527600-1771533000@www.harriganscameronpark.com.au
SUMMARY:Thursday Poker Night: Hosted by the APL
DESCRIPTION:♠️ Thursday Poker Night at Harrigan’s Cameron Park ♠️ \nThink you’ve got the winning hand? Join us every Thursday at 7pm (excluding public holidays) for Poker Night in the Sports Bar\, hosted by the Australian Poker League (APL)! \n💵 Buy-In: $25\n🔄 Buy-Back: $20\n🏆 Prize Pool: Minimum $500 for the winner! \nPlus\, if you’re feeling hungry\, book a table before the game and enjoy $20 Pizza Night alongside the action! Choose the chef’s special or any pizza from our menu—dine in or take it away. \nGather your mates and make it a Thursday tradition at Harrigan’s Cameron Park. See you at the tables! 🃏 \nBook Dinner Upcoming Games
URL:https://www.harriganscameronpark.com.au/event/thursday-poker-night-2/2026-02-19/
LOCATION:Harrigan’s Cameron Park\, 70 McKendry Drive\, Cameron Park\, NSW\, 2285\, Australia
CATEGORIES:Weekly Events
ATTACH;FMTTYPE=image/jpeg:https://www.harriganscameronpark.com.au/wp-content/uploads/2025/01/poker-night_website_800x600px.jpg
END:VEVENT
BEGIN:VEVENT
DTSTART;TZID=Australia/Sydney:20260219T193000
DTEND;TZID=Australia/Sydney:20260219T200000
DTSTAMP:20260420T230349
CREATED:20240226T234549Z
LAST-MODIFIED:20260130T010759Z
UID:10001436-1771529400-1771531200@www.harriganscameronpark.com.au
SUMMARY:Social Club Draw4 Cash
DESCRIPTION:Be Numero Uno & WIN CASH!\nCalling all Harrigan’s Social Club Members! Join us at Harrigan’s Cameron Park every Thursday Night at 7:30pm for your chance to win some COLD HARD CASH! \nJackpot starts at $1\,000 & increases by $100 each week until a Harrigan’s Social Club Member* wins. \nAre you not part of the club? It’s FREE to join! Sign up to the Harrigan’s Social Club HERE. \n*Member must be in the venue at the time of the draw to participate. Read the full T&Cs \nHave a bite or grab a beer while you wait – secure your table now! \nBook Now
URL:https://www.harriganscameronpark.com.au/event/social-club-draw4-cash/2026-02-19/
LOCATION:Harrigan’s Cameron Park\, 70 McKendry Drive\, Cameron Park\, NSW\, 2285\, Australia
CATEGORIES:Weekly Events
ATTACH;FMTTYPE=image/jpeg:https://www.harriganscameronpark.com.au/wp-content/uploads/2024/02/hcp_draw4cash_website_800x600.jpg
END:VEVENT
BEGIN:VEVENT
DTSTART;TZID=Australia/Sydney:20260220T113000
DTEND;TZID=Australia/Sydney:20260220T143000
DTSTAMP:20260420T230349
CREATED:20260128T084029Z
LAST-MODIFIED:20260420T023347Z
UID:10012183-1771587000-1771597800@www.harriganscameronpark.com.au
SUMMARY:Lunch Specials
DESCRIPTION:Check out our fantastic range\, including burgers\, salads\, steak\, and fish and chips!
URL:https://www.harriganscameronpark.com.au/event/lunch-specials/2026-02-20/
LOCATION:Harrigan’s Cameron Park\, 70 McKendry Drive\, Cameron Park\, NSW\, 2285\, Australia
CATEGORIES:Weekly Dining Specials
ATTACH;FMTTYPE=image/jpeg:https://www.harriganscameronpark.com.au/wp-content/uploads/2026/01/hcp_2026_weekdays_lunch_specials_web_800x600.jpg
END:VEVENT
BEGIN:VEVENT
DTSTART;TZID=Australia/Sydney:20260220T150000
DTEND;TZID=Australia/Sydney:20260220T170000
DTSTAMP:20260420T230349
CREATED:20260123T014049Z
LAST-MODIFIED:20260212T035151Z
UID:10011715-1771599600-1771606800@www.harriganscameronpark.com.au
SUMMARY:Happy Hour
DESCRIPTION:Enjoy Happy Hour every weekday from 3pm-5pm at Harrigan’s Cameron Park. \nSchooners from just $7!
URL:https://www.harriganscameronpark.com.au/event/happy-hour-4/2026-02-20/
LOCATION:Harrigan’s Cameron Park\, 70 McKendry Drive\, Cameron Park\, NSW\, 2285\, Australia
CATEGORIES:Weekly Dining Specials,Weekly Events
END:VEVENT
BEGIN:VEVENT
DTSTART;TZID=Australia/Sydney:20260220T200000
DTEND;TZID=Australia/Sydney:20260221T013000
DTSTAMP:20260420T230349
CREATED:20250627T020910Z
LAST-MODIFIED:20260212T025734Z
UID:10010811-1771617600-1771637400@www.harriganscameronpark.com.au
SUMMARY:Sip & Spin
DESCRIPTION:Fridays just got a whole lot better! \nKickstart your weekend every Friday night at Harrigan’s! Sip on delicious cocktails and house spirit specials while listening to the live DJ spin hits to get you on the dancefloor. \n\n2 for $25 Cocktails\, 8pm-10pm\n$7 House Spirits\, 8pm-2am\nLive DJ\, 8:30pm-1:30am
URL:https://www.harriganscameronpark.com.au/event/sip-and-spin/2026-02-20/
CATEGORIES:Weekly Dining Specials,Weekly Events
ATTACH;FMTTYPE=image/jpeg:https://www.harriganscameronpark.com.au/wp-content/uploads/2026/01/hcp_2026_friday_sip_spin_web_800x600.jpg
END:VEVENT
BEGIN:VEVENT
DTSTART;TZID=Australia/Sydney:20260220T203000
DTEND;TZID=Australia/Sydney:20260221T013000
DTSTAMP:20260420T230349
CREATED:20260201T224717Z
LAST-MODIFIED:20260201T224717Z
UID:10014717-1771619400-1771637400@www.harriganscameronpark.com.au
SUMMARY:DJ BOSS
DESCRIPTION:Live music every weekend at Harrigan’s Cameron Park
URL:https://www.harriganscameronpark.com.au/event/dj-boss-4/
CATEGORIES:Live Music
ATTACH;FMTTYPE=image/jpeg:https://www.harriganscameronpark.com.au/wp-content/uploads/2025/10/DJ-Boss.jpeg
END:VEVENT
BEGIN:VEVENT
DTSTART;TZID=Australia/Sydney:20260221T203000
DTEND;TZID=Australia/Sydney:20260221T233000
DTSTAMP:20260420T230349
CREATED:20260201T224808Z
LAST-MODIFIED:20260201T224808Z
UID:10014718-1771705800-1771716600@www.harriganscameronpark.com.au
SUMMARY:Felix Quinn
DESCRIPTION:Live music every weekend at Harrigan’s Cameron Park. \nThe Felix Quinn Band is a high-energy four-piece covers band guaranteed to get you singing\, dancing\, and smiling all night. With a diverse setlist spanning soul\, RnB\, rock\, pop\, and timeless classics\, they deliver fresh takes on your favourite hits. \nFronted by powerhouse vocalist Quinn\, whose dynamic range moves seamlessly from gritty soul to sweet falsetto\, the band’s sound is elevated by a talented lineup: Felix on bass\, Mark on guitar\, keys\, and harmonies\, and Tyson driving the rhythm section. \nTogether\, their chemistry\, musicianship\, and infectious energy create an electrifying live show that leaves audiences wanting more.
URL:https://www.harriganscameronpark.com.au/event/felix-quinn-10/
CATEGORIES:Live Music
ATTACH;FMTTYPE=image/jpeg:https://www.harriganscameronpark.com.au/wp-content/uploads/2025/01/HCP_live_music_web_felixquinn.jpg
END:VEVENT
END:VCALENDAR