BEGIN:VCALENDAR
VERSION:2.0
PRODID:-//Harrigan&#039;s Cameron Park - ECPv6.15.20//NONSGML v1.0//EN
CALSCALE:GREGORIAN
METHOD:PUBLISH
X-ORIGINAL-URL:https://www.harriganscameronpark.com.au
X-WR-CALDESC:Events for Harrigan&#039;s Cameron Park
REFRESH-INTERVAL;VALUE=DURATION:PT1H
X-Robots-Tag:noindex
X-PUBLISHED-TTL:PT1H
BEGIN:VTIMEZONE
TZID:Australia/Sydney
BEGIN:STANDARD
TZOFFSETFROM:+1100
TZOFFSETTO:+1000
TZNAME:AEST
DTSTART:20240406T160000
END:STANDARD
BEGIN:DAYLIGHT
TZOFFSETFROM:+1000
TZOFFSETTO:+1100
TZNAME:AEDT
DTSTART:20241005T160000
END:DAYLIGHT
BEGIN:STANDARD
TZOFFSETFROM:+1100
TZOFFSETTO:+1000
TZNAME:AEST
DTSTART:20250405T160000
END:STANDARD
BEGIN:DAYLIGHT
TZOFFSETFROM:+1000
TZOFFSETTO:+1100
TZNAME:AEDT
DTSTART:20251004T160000
END:DAYLIGHT
BEGIN:STANDARD
TZOFFSETFROM:+1100
TZOFFSETTO:+1000
TZNAME:AEST
DTSTART:20260404T160000
END:STANDARD
BEGIN:DAYLIGHT
TZOFFSETFROM:+1000
TZOFFSETTO:+1100
TZNAME:AEDT
DTSTART:20261003T160000
END:DAYLIGHT
BEGIN:STANDARD
TZOFFSETFROM:+1100
TZOFFSETTO:+1000
TZNAME:AEST
DTSTART:20270403T160000
END:STANDARD
BEGIN:DAYLIGHT
TZOFFSETFROM:+1000
TZOFFSETTO:+1100
TZNAME:AEDT
DTSTART:20271002T160000
END:DAYLIGHT
END:VTIMEZONE
BEGIN:VEVENT
DTSTART;TZID=Australia/Sydney:20250605T170000
DTEND;TZID=Australia/Sydney:20250605T203000
DTSTAMP:20260420T115415
CREATED:20250527T024721Z
LAST-MODIFIED:20260212T030151Z
UID:2664-1749142800-1749155400@www.harriganscameronpark.com.au
SUMMARY:Pizza Night
DESCRIPTION:Thursday night is Pizza night at Harrigan’s Cameron Park. \nJoin us from 5pm for a $20 pizza – dine in or takeaway! \nIncludes chef’s special or any pizza from the menu.
URL:https://www.harriganscameronpark.com.au/event/thursday-pizza-night-2/
LOCATION:Harrigan’s Cameron Park\, 70 McKendry Drive\, Cameron Park\, NSW\, 2285\, Australia
CATEGORIES:Weekly Dining Specials
ATTACH;FMTTYPE=image/jpeg:https://www.harriganscameronpark.com.au/wp-content/uploads/2026/01/hcp_2026_thursday_pizza_night_web_800x600.jpg
END:VEVENT
BEGIN:VEVENT
DTSTART;TZID=Australia/Sydney:20260128T113000
DTEND;TZID=Australia/Sydney:20260128T143000
DTSTAMP:20260420T115415
CREATED:20260128T084029Z
LAST-MODIFIED:20260212T024935Z
UID:3353-1769599800-1769610600@www.harriganscameronpark.com.au
SUMMARY:Lunch Specials
DESCRIPTION:Check out our fantastic range\, including burgers\, salads\, steak\, and fish & chips!
URL:https://www.harriganscameronpark.com.au/event/lunch-specials/
LOCATION:Harrigan’s Cameron Park\, 70 McKendry Drive\, Cameron Park\, NSW\, 2285\, Australia
CATEGORIES:Weekly Dining Specials
ATTACH;FMTTYPE=image/jpeg:https://www.harriganscameronpark.com.au/wp-content/uploads/2026/01/hcp_2026_weekdays_lunch_specials_web_800x600.jpg
END:VEVENT
BEGIN:VEVENT
DTSTART;TZID=Australia/Sydney:20260223T150000
DTEND;TZID=Australia/Sydney:20260223T170000
DTSTAMP:20260420T115415
CREATED:20260123T014703Z
LAST-MODIFIED:20260324T043005Z
UID:3335-1771858800-1771866000@www.harriganscameronpark.com.au
SUMMARY:Happy Hour
DESCRIPTION:Enjoy Happy Hour every weekday from 3pm-5pm at Harrigan’s Cameron Park. \nSchooners from just $7!
URL:https://www.harriganscameronpark.com.au/event/happy-hour-5/
LOCATION:Harrigan’s Cameron Park\, 70 McKendry Drive\, Cameron Park\, NSW\, 2285\, Australia
CATEGORIES:Weekly Dining Specials,Weekly Events
ATTACH;FMTTYPE=image/jpeg:https://www.harriganscameronpark.com.au/wp-content/uploads/2026/01/hcp_2026_weekday_happy_hour_web_800x600.jpg
END:VEVENT
BEGIN:VEVENT
DTSTART;TZID=Australia/Sydney:20250704T200000
DTEND;TZID=Australia/Sydney:20250705T013000
DTSTAMP:20260420T115415
CREATED:20250627T020910Z
LAST-MODIFIED:20260212T025734Z
UID:2757-1751659200-1751679000@www.harriganscameronpark.com.au
SUMMARY:Sip & Spin
DESCRIPTION:Fridays just got a whole lot better! \nKickstart your weekend every Friday night at Harrigan’s! Sip on delicious cocktails and house spirit specials while listening to the live DJ spin hits to get you on the dancefloor. \n\n2 for $25 Cocktails\, 8pm-10pm\n$7 House Spirits\, 8pm-2am\nLive DJ\, 8:30pm-1:30am
URL:https://www.harriganscameronpark.com.au/event/sip-and-spin/
LOCATION:NSW
CATEGORIES:Weekly Dining Specials,Weekly Events
ATTACH;FMTTYPE=image/jpeg:https://www.harriganscameronpark.com.au/wp-content/uploads/2026/01/hcp_2026_friday_sip_spin_web_800x600.jpg
END:VEVENT
BEGIN:VEVENT
DTSTART;TZID=Australia/Sydney:20250601T170000
DTEND;TZID=Australia/Sydney:20250601T203000
DTSTAMP:20260420T115415
CREATED:20250527T030044Z
LAST-MODIFIED:20260212T034600Z
UID:2676-1748797200-1748809800@www.harriganscameronpark.com.au
SUMMARY:Curry Night
DESCRIPTION:Sunday night is Curry night at Harrigan’s Cameron Park. \nEnjoy a delicious curry with rice and naan for just $20!
URL:https://www.harriganscameronpark.com.au/event/curry-night/
LOCATION:Harrigan’s Cameron Park\, 70 McKendry Drive\, Cameron Park\, NSW\, 2285\, Australia
CATEGORIES:Weekly Dining Specials
ATTACH;FMTTYPE=image/jpeg:https://www.harriganscameronpark.com.au/wp-content/uploads/2026/01/hcp_2026_sunday_curry_night_web_800x600.jpg
END:VEVENT
BEGIN:VEVENT
DTSTART;TZID=Australia/Sydney:20260128T113000
DTEND;TZID=Australia/Sydney:20260128T143000
DTSTAMP:20260420T115415
CREATED:20260128T084029Z
LAST-MODIFIED:20260212T024935Z
UID:3353-1769599800-1769610600@www.harriganscameronpark.com.au
SUMMARY:Lunch Specials
DESCRIPTION:Check out our fantastic range\, including burgers\, salads\, steak\, and fish & chips!
URL:https://www.harriganscameronpark.com.au/event/lunch-specials/
LOCATION:Harrigan’s Cameron Park\, 70 McKendry Drive\, Cameron Park\, NSW\, 2285\, Australia
CATEGORIES:Weekly Dining Specials
ATTACH;FMTTYPE=image/jpeg:https://www.harriganscameronpark.com.au/wp-content/uploads/2026/01/hcp_2026_weekdays_lunch_specials_web_800x600.jpg
END:VEVENT
BEGIN:VEVENT
DTSTART;TZID=Australia/Sydney:20260223T150000
DTEND;TZID=Australia/Sydney:20260223T170000
DTSTAMP:20260420T115415
CREATED:20260123T014703Z
LAST-MODIFIED:20260324T043005Z
UID:3335-1771858800-1771866000@www.harriganscameronpark.com.au
SUMMARY:Happy Hour
DESCRIPTION:Enjoy Happy Hour every weekday from 3pm-5pm at Harrigan’s Cameron Park. \nSchooners from just $7!
URL:https://www.harriganscameronpark.com.au/event/happy-hour-5/
LOCATION:Harrigan’s Cameron Park\, 70 McKendry Drive\, Cameron Park\, NSW\, 2285\, Australia
CATEGORIES:Weekly Dining Specials,Weekly Events
ATTACH;FMTTYPE=image/jpeg:https://www.harriganscameronpark.com.au/wp-content/uploads/2026/01/hcp_2026_weekday_happy_hour_web_800x600.jpg
END:VEVENT
BEGIN:VEVENT
DTSTART;TZID=Australia/Sydney:20250602T170000
DTEND;TZID=Australia/Sydney:20250602T203000
DTSTAMP:20260420T115415
CREATED:20230913T020318Z
LAST-MODIFIED:20260212T033340Z
UID:572-1748883600-1748896200@www.harriganscameronpark.com.au
SUMMARY:Kids Eat Free
DESCRIPTION:Kids Eat Free every Monday night at Harrigan’s Cameron Park. \nAvailable from 5pm\, purchase any adult main to redeem.
URL:https://www.harriganscameronpark.com.au/event/kids-eat-free/
LOCATION:Harrigan’s Cameron Park\, 70 McKendry Drive\, Cameron Park\, NSW\, 2285\, Australia
CATEGORIES:Weekly Dining Specials
ATTACH;FMTTYPE=image/jpeg:https://www.harriganscameronpark.com.au/wp-content/uploads/2026/01/hcp_2026_monday_kids_eat_free_web_800x600.jpg
END:VEVENT
BEGIN:VEVENT
DTSTART;TZID=Australia/Sydney:20260126T170000
DTEND;TZID=Australia/Sydney:20260126T203000
DTSTAMP:20260420T115415
CREATED:20250527T025805Z
LAST-MODIFIED:20260212T025009Z
UID:2674-1769446800-1769459400@www.harriganscameronpark.com.au
SUMMARY:Steak Night
DESCRIPTION:Monday night is steak night at Harrigan’s Cameron Park. Enjoy a 200g rump steak with two sides and your choice of sauce for just $25! \nAlso on Monday nights\, KIDS EAT FREE with the purchase of any adult main.
URL:https://www.harriganscameronpark.com.au/event/steak-night/
LOCATION:Harrigan’s Cameron Park\, 70 McKendry Drive\, Cameron Park\, NSW\, 2285\, Australia
CATEGORIES:Weekly Dining Specials
ATTACH;FMTTYPE=image/jpeg:https://www.harriganscameronpark.com.au/wp-content/uploads/2026/01/hcp_2026_monday_steak_night_web_800x600.jpg
END:VEVENT
BEGIN:VEVENT
DTSTART;TZID=Australia/Sydney:20260128T113000
DTEND;TZID=Australia/Sydney:20260128T143000
DTSTAMP:20260420T115415
CREATED:20260128T084029Z
LAST-MODIFIED:20260212T024935Z
UID:3353-1769599800-1769610600@www.harriganscameronpark.com.au
SUMMARY:Lunch Specials
DESCRIPTION:Check out our fantastic range\, including burgers\, salads\, steak\, and fish & chips!
URL:https://www.harriganscameronpark.com.au/event/lunch-specials/
LOCATION:Harrigan’s Cameron Park\, 70 McKendry Drive\, Cameron Park\, NSW\, 2285\, Australia
CATEGORIES:Weekly Dining Specials
ATTACH;FMTTYPE=image/jpeg:https://www.harriganscameronpark.com.au/wp-content/uploads/2026/01/hcp_2026_weekdays_lunch_specials_web_800x600.jpg
END:VEVENT
BEGIN:VEVENT
DTSTART;TZID=Australia/Sydney:20260223T150000
DTEND;TZID=Australia/Sydney:20260223T170000
DTSTAMP:20260420T115415
CREATED:20260123T014703Z
LAST-MODIFIED:20260324T043005Z
UID:3335-1771858800-1771866000@www.harriganscameronpark.com.au
SUMMARY:Happy Hour
DESCRIPTION:Enjoy Happy Hour every weekday from 3pm-5pm at Harrigan’s Cameron Park. \nSchooners from just $7!
URL:https://www.harriganscameronpark.com.au/event/happy-hour-5/
LOCATION:Harrigan’s Cameron Park\, 70 McKendry Drive\, Cameron Park\, NSW\, 2285\, Australia
CATEGORIES:Weekly Dining Specials,Weekly Events
ATTACH;FMTTYPE=image/jpeg:https://www.harriganscameronpark.com.au/wp-content/uploads/2026/01/hcp_2026_weekday_happy_hour_web_800x600.jpg
END:VEVENT
BEGIN:VEVENT
DTSTART;TZID=Australia/Sydney:20250603T170000
DTEND;TZID=Australia/Sydney:20250603T203000
DTSTAMP:20260420T115415
CREATED:20250527T025530Z
LAST-MODIFIED:20260212T032811Z
UID:2668-1748970000-1748982600@www.harriganscameronpark.com.au
SUMMARY:Burger Night
DESCRIPTION:Tuesday night is Burger night at Harrigan’s Cameron Park. \nJoin us from 5pm for $20 burgers. Includes any burger from the menu and specials.
URL:https://www.harriganscameronpark.com.au/event/burger-night/
LOCATION:Harrigan’s Cameron Park\, 70 McKendry Drive\, Cameron Park\, NSW\, 2285\, Australia
CATEGORIES:Weekly Dining Specials
ATTACH;FMTTYPE=image/jpeg:https://www.harriganscameronpark.com.au/wp-content/uploads/2026/01/hcp_2026_tuesday_burger_night_web_800x600.jpg
END:VEVENT
BEGIN:VEVENT
DTSTART;TZID=Australia/Sydney:20260128T113000
DTEND;TZID=Australia/Sydney:20260128T143000
DTSTAMP:20260420T115415
CREATED:20260128T084029Z
LAST-MODIFIED:20260212T024935Z
UID:3353-1769599800-1769610600@www.harriganscameronpark.com.au
SUMMARY:Lunch Specials
DESCRIPTION:Check out our fantastic range\, including burgers\, salads\, steak\, and fish & chips!
URL:https://www.harriganscameronpark.com.au/event/lunch-specials/
LOCATION:Harrigan’s Cameron Park\, 70 McKendry Drive\, Cameron Park\, NSW\, 2285\, Australia
CATEGORIES:Weekly Dining Specials
ATTACH;FMTTYPE=image/jpeg:https://www.harriganscameronpark.com.au/wp-content/uploads/2026/01/hcp_2026_weekdays_lunch_specials_web_800x600.jpg
END:VEVENT
BEGIN:VEVENT
DTSTART;TZID=Australia/Sydney:20260223T150000
DTEND;TZID=Australia/Sydney:20260223T170000
DTSTAMP:20260420T115415
CREATED:20260123T014703Z
LAST-MODIFIED:20260324T043005Z
UID:3335-1771858800-1771866000@www.harriganscameronpark.com.au
SUMMARY:Happy Hour
DESCRIPTION:Enjoy Happy Hour every weekday from 3pm-5pm at Harrigan’s Cameron Park. \nSchooners from just $7!
URL:https://www.harriganscameronpark.com.au/event/happy-hour-5/
LOCATION:Harrigan’s Cameron Park\, 70 McKendry Drive\, Cameron Park\, NSW\, 2285\, Australia
CATEGORIES:Weekly Dining Specials,Weekly Events
ATTACH;FMTTYPE=image/jpeg:https://www.harriganscameronpark.com.au/wp-content/uploads/2026/01/hcp_2026_weekday_happy_hour_web_800x600.jpg
END:VEVENT
BEGIN:VEVENT
DTSTART;TZID=Australia/Sydney:20260128T113000
DTEND;TZID=Australia/Sydney:20260128T143000
DTSTAMP:20260420T115415
CREATED:20260128T084029Z
LAST-MODIFIED:20260212T024935Z
UID:3353-1769599800-1769610600@www.harriganscameronpark.com.au
SUMMARY:Lunch Specials
DESCRIPTION:Check out our fantastic range\, including burgers\, salads\, steak\, and fish & chips!
URL:https://www.harriganscameronpark.com.au/event/lunch-specials/
LOCATION:Harrigan’s Cameron Park\, 70 McKendry Drive\, Cameron Park\, NSW\, 2285\, Australia
CATEGORIES:Weekly Dining Specials
ATTACH;FMTTYPE=image/jpeg:https://www.harriganscameronpark.com.au/wp-content/uploads/2026/01/hcp_2026_weekdays_lunch_specials_web_800x600.jpg
END:VEVENT
BEGIN:VEVENT
DTSTART;TZID=Australia/Sydney:20260223T150000
DTEND;TZID=Australia/Sydney:20260223T170000
DTSTAMP:20260420T115415
CREATED:20260123T014703Z
LAST-MODIFIED:20260324T043005Z
UID:3335-1771858800-1771866000@www.harriganscameronpark.com.au
SUMMARY:Happy Hour
DESCRIPTION:Enjoy Happy Hour every weekday from 3pm-5pm at Harrigan’s Cameron Park. \nSchooners from just $7!
URL:https://www.harriganscameronpark.com.au/event/happy-hour-5/
LOCATION:Harrigan’s Cameron Park\, 70 McKendry Drive\, Cameron Park\, NSW\, 2285\, Australia
CATEGORIES:Weekly Dining Specials,Weekly Events
ATTACH;FMTTYPE=image/jpeg:https://www.harriganscameronpark.com.au/wp-content/uploads/2026/01/hcp_2026_weekday_happy_hour_web_800x600.jpg
END:VEVENT
BEGIN:VEVENT
DTSTART;TZID=Australia/Sydney:20250605T170000
DTEND;TZID=Australia/Sydney:20250605T203000
DTSTAMP:20260420T115415
CREATED:20250527T024721Z
LAST-MODIFIED:20260212T030151Z
UID:2664-1749142800-1749155400@www.harriganscameronpark.com.au
SUMMARY:Pizza Night
DESCRIPTION:Thursday night is Pizza night at Harrigan’s Cameron Park. \nJoin us from 5pm for a $20 pizza – dine in or takeaway! \nIncludes chef’s special or any pizza from the menu.
URL:https://www.harriganscameronpark.com.au/event/thursday-pizza-night-2/
LOCATION:Harrigan’s Cameron Park\, 70 McKendry Drive\, Cameron Park\, NSW\, 2285\, Australia
CATEGORIES:Weekly Dining Specials
ATTACH;FMTTYPE=image/jpeg:https://www.harriganscameronpark.com.au/wp-content/uploads/2026/01/hcp_2026_thursday_pizza_night_web_800x600.jpg
END:VEVENT
BEGIN:VEVENT
DTSTART;TZID=Australia/Sydney:20260128T113000
DTEND;TZID=Australia/Sydney:20260128T143000
DTSTAMP:20260420T115415
CREATED:20260128T084029Z
LAST-MODIFIED:20260212T024935Z
UID:3353-1769599800-1769610600@www.harriganscameronpark.com.au
SUMMARY:Lunch Specials
DESCRIPTION:Check out our fantastic range\, including burgers\, salads\, steak\, and fish & chips!
URL:https://www.harriganscameronpark.com.au/event/lunch-specials/
LOCATION:Harrigan’s Cameron Park\, 70 McKendry Drive\, Cameron Park\, NSW\, 2285\, Australia
CATEGORIES:Weekly Dining Specials
ATTACH;FMTTYPE=image/jpeg:https://www.harriganscameronpark.com.au/wp-content/uploads/2026/01/hcp_2026_weekdays_lunch_specials_web_800x600.jpg
END:VEVENT
BEGIN:VEVENT
DTSTART;TZID=Australia/Sydney:20260223T150000
DTEND;TZID=Australia/Sydney:20260223T170000
DTSTAMP:20260420T115415
CREATED:20260123T014703Z
LAST-MODIFIED:20260324T043005Z
UID:3335-1771858800-1771866000@www.harriganscameronpark.com.au
SUMMARY:Happy Hour
DESCRIPTION:Enjoy Happy Hour every weekday from 3pm-5pm at Harrigan’s Cameron Park. \nSchooners from just $7!
URL:https://www.harriganscameronpark.com.au/event/happy-hour-5/
LOCATION:Harrigan’s Cameron Park\, 70 McKendry Drive\, Cameron Park\, NSW\, 2285\, Australia
CATEGORIES:Weekly Dining Specials,Weekly Events
ATTACH;FMTTYPE=image/jpeg:https://www.harriganscameronpark.com.au/wp-content/uploads/2026/01/hcp_2026_weekday_happy_hour_web_800x600.jpg
END:VEVENT
BEGIN:VEVENT
DTSTART;TZID=Australia/Sydney:20250704T200000
DTEND;TZID=Australia/Sydney:20250705T013000
DTSTAMP:20260420T115415
CREATED:20250627T020910Z
LAST-MODIFIED:20260212T025734Z
UID:2757-1751659200-1751679000@www.harriganscameronpark.com.au
SUMMARY:Sip & Spin
DESCRIPTION:Fridays just got a whole lot better! \nKickstart your weekend every Friday night at Harrigan’s! Sip on delicious cocktails and house spirit specials while listening to the live DJ spin hits to get you on the dancefloor. \n\n2 for $25 Cocktails\, 8pm-10pm\n$7 House Spirits\, 8pm-2am\nLive DJ\, 8:30pm-1:30am
URL:https://www.harriganscameronpark.com.au/event/sip-and-spin/
LOCATION:NSW
CATEGORIES:Weekly Dining Specials,Weekly Events
ATTACH;FMTTYPE=image/jpeg:https://www.harriganscameronpark.com.au/wp-content/uploads/2026/01/hcp_2026_friday_sip_spin_web_800x600.jpg
END:VEVENT
BEGIN:VEVENT
DTSTART;TZID=Australia/Sydney:20250601T170000
DTEND;TZID=Australia/Sydney:20250601T203000
DTSTAMP:20260420T115415
CREATED:20250527T030044Z
LAST-MODIFIED:20260212T034600Z
UID:2676-1748797200-1748809800@www.harriganscameronpark.com.au
SUMMARY:Curry Night
DESCRIPTION:Sunday night is Curry night at Harrigan’s Cameron Park. \nEnjoy a delicious curry with rice and naan for just $20!
URL:https://www.harriganscameronpark.com.au/event/curry-night/
LOCATION:Harrigan’s Cameron Park\, 70 McKendry Drive\, Cameron Park\, NSW\, 2285\, Australia
CATEGORIES:Weekly Dining Specials
ATTACH;FMTTYPE=image/jpeg:https://www.harriganscameronpark.com.au/wp-content/uploads/2026/01/hcp_2026_sunday_curry_night_web_800x600.jpg
END:VEVENT
BEGIN:VEVENT
DTSTART;TZID=Australia/Sydney:20260128T113000
DTEND;TZID=Australia/Sydney:20260128T143000
DTSTAMP:20260420T115415
CREATED:20260128T084029Z
LAST-MODIFIED:20260212T024935Z
UID:3353-1769599800-1769610600@www.harriganscameronpark.com.au
SUMMARY:Lunch Specials
DESCRIPTION:Check out our fantastic range\, including burgers\, salads\, steak\, and fish & chips!
URL:https://www.harriganscameronpark.com.au/event/lunch-specials/
LOCATION:Harrigan’s Cameron Park\, 70 McKendry Drive\, Cameron Park\, NSW\, 2285\, Australia
CATEGORIES:Weekly Dining Specials
ATTACH;FMTTYPE=image/jpeg:https://www.harriganscameronpark.com.au/wp-content/uploads/2026/01/hcp_2026_weekdays_lunch_specials_web_800x600.jpg
END:VEVENT
BEGIN:VEVENT
DTSTART;TZID=Australia/Sydney:20260223T150000
DTEND;TZID=Australia/Sydney:20260223T170000
DTSTAMP:20260420T115415
CREATED:20260123T014703Z
LAST-MODIFIED:20260324T043005Z
UID:3335-1771858800-1771866000@www.harriganscameronpark.com.au
SUMMARY:Happy Hour
DESCRIPTION:Enjoy Happy Hour every weekday from 3pm-5pm at Harrigan’s Cameron Park. \nSchooners from just $7!
URL:https://www.harriganscameronpark.com.au/event/happy-hour-5/
LOCATION:Harrigan’s Cameron Park\, 70 McKendry Drive\, Cameron Park\, NSW\, 2285\, Australia
CATEGORIES:Weekly Dining Specials,Weekly Events
ATTACH;FMTTYPE=image/jpeg:https://www.harriganscameronpark.com.au/wp-content/uploads/2026/01/hcp_2026_weekday_happy_hour_web_800x600.jpg
END:VEVENT
BEGIN:VEVENT
DTSTART;TZID=Australia/Sydney:20250602T170000
DTEND;TZID=Australia/Sydney:20250602T203000
DTSTAMP:20260420T115415
CREATED:20230913T020318Z
LAST-MODIFIED:20260212T033340Z
UID:572-1748883600-1748896200@www.harriganscameronpark.com.au
SUMMARY:Kids Eat Free
DESCRIPTION:Kids Eat Free every Monday night at Harrigan’s Cameron Park. \nAvailable from 5pm\, purchase any adult main to redeem.
URL:https://www.harriganscameronpark.com.au/event/kids-eat-free/
LOCATION:Harrigan’s Cameron Park\, 70 McKendry Drive\, Cameron Park\, NSW\, 2285\, Australia
CATEGORIES:Weekly Dining Specials
ATTACH;FMTTYPE=image/jpeg:https://www.harriganscameronpark.com.au/wp-content/uploads/2026/01/hcp_2026_monday_kids_eat_free_web_800x600.jpg
END:VEVENT
BEGIN:VEVENT
DTSTART;TZID=Australia/Sydney:20260126T170000
DTEND;TZID=Australia/Sydney:20260126T203000
DTSTAMP:20260420T115415
CREATED:20250527T025805Z
LAST-MODIFIED:20260212T025009Z
UID:2674-1769446800-1769459400@www.harriganscameronpark.com.au
SUMMARY:Steak Night
DESCRIPTION:Monday night is steak night at Harrigan’s Cameron Park. Enjoy a 200g rump steak with two sides and your choice of sauce for just $25! \nAlso on Monday nights\, KIDS EAT FREE with the purchase of any adult main.
URL:https://www.harriganscameronpark.com.au/event/steak-night/
LOCATION:Harrigan’s Cameron Park\, 70 McKendry Drive\, Cameron Park\, NSW\, 2285\, Australia
CATEGORIES:Weekly Dining Specials
ATTACH;FMTTYPE=image/jpeg:https://www.harriganscameronpark.com.au/wp-content/uploads/2026/01/hcp_2026_monday_steak_night_web_800x600.jpg
END:VEVENT
BEGIN:VEVENT
DTSTART;TZID=Australia/Sydney:20260128T113000
DTEND;TZID=Australia/Sydney:20260128T143000
DTSTAMP:20260420T115415
CREATED:20260128T084029Z
LAST-MODIFIED:20260212T024935Z
UID:3353-1769599800-1769610600@www.harriganscameronpark.com.au
SUMMARY:Lunch Specials
DESCRIPTION:Check out our fantastic range\, including burgers\, salads\, steak\, and fish & chips!
URL:https://www.harriganscameronpark.com.au/event/lunch-specials/
LOCATION:Harrigan’s Cameron Park\, 70 McKendry Drive\, Cameron Park\, NSW\, 2285\, Australia
CATEGORIES:Weekly Dining Specials
ATTACH;FMTTYPE=image/jpeg:https://www.harriganscameronpark.com.au/wp-content/uploads/2026/01/hcp_2026_weekdays_lunch_specials_web_800x600.jpg
END:VEVENT
BEGIN:VEVENT
DTSTART;TZID=Australia/Sydney:20260223T150000
DTEND;TZID=Australia/Sydney:20260223T170000
DTSTAMP:20260420T115415
CREATED:20260123T014703Z
LAST-MODIFIED:20260324T043005Z
UID:3335-1771858800-1771866000@www.harriganscameronpark.com.au
SUMMARY:Happy Hour
DESCRIPTION:Enjoy Happy Hour every weekday from 3pm-5pm at Harrigan’s Cameron Park. \nSchooners from just $7!
URL:https://www.harriganscameronpark.com.au/event/happy-hour-5/
LOCATION:Harrigan’s Cameron Park\, 70 McKendry Drive\, Cameron Park\, NSW\, 2285\, Australia
CATEGORIES:Weekly Dining Specials,Weekly Events
ATTACH;FMTTYPE=image/jpeg:https://www.harriganscameronpark.com.au/wp-content/uploads/2026/01/hcp_2026_weekday_happy_hour_web_800x600.jpg
END:VEVENT
BEGIN:VEVENT
DTSTART;TZID=Australia/Sydney:20250603T170000
DTEND;TZID=Australia/Sydney:20250603T203000
DTSTAMP:20260420T115416
CREATED:20250527T025530Z
LAST-MODIFIED:20260212T032811Z
UID:2668-1748970000-1748982600@www.harriganscameronpark.com.au
SUMMARY:Burger Night
DESCRIPTION:Tuesday night is Burger night at Harrigan’s Cameron Park. \nJoin us from 5pm for $20 burgers. Includes any burger from the menu and specials.
URL:https://www.harriganscameronpark.com.au/event/burger-night/
LOCATION:Harrigan’s Cameron Park\, 70 McKendry Drive\, Cameron Park\, NSW\, 2285\, Australia
CATEGORIES:Weekly Dining Specials
ATTACH;FMTTYPE=image/jpeg:https://www.harriganscameronpark.com.au/wp-content/uploads/2026/01/hcp_2026_tuesday_burger_night_web_800x600.jpg
END:VEVENT
BEGIN:VEVENT
DTSTART;TZID=Australia/Sydney:20260128T113000
DTEND;TZID=Australia/Sydney:20260128T143000
DTSTAMP:20260420T115416
CREATED:20260128T084029Z
LAST-MODIFIED:20260212T024935Z
UID:3353-1769599800-1769610600@www.harriganscameronpark.com.au
SUMMARY:Lunch Specials
DESCRIPTION:Check out our fantastic range\, including burgers\, salads\, steak\, and fish & chips!
URL:https://www.harriganscameronpark.com.au/event/lunch-specials/
LOCATION:Harrigan’s Cameron Park\, 70 McKendry Drive\, Cameron Park\, NSW\, 2285\, Australia
CATEGORIES:Weekly Dining Specials
ATTACH;FMTTYPE=image/jpeg:https://www.harriganscameronpark.com.au/wp-content/uploads/2026/01/hcp_2026_weekdays_lunch_specials_web_800x600.jpg
END:VEVENT
BEGIN:VEVENT
DTSTART;TZID=Australia/Sydney:20260223T150000
DTEND;TZID=Australia/Sydney:20260223T170000
DTSTAMP:20260420T115416
CREATED:20260123T014703Z
LAST-MODIFIED:20260324T043005Z
UID:3335-1771858800-1771866000@www.harriganscameronpark.com.au
SUMMARY:Happy Hour
DESCRIPTION:Enjoy Happy Hour every weekday from 3pm-5pm at Harrigan’s Cameron Park. \nSchooners from just $7!
URL:https://www.harriganscameronpark.com.au/event/happy-hour-5/
LOCATION:Harrigan’s Cameron Park\, 70 McKendry Drive\, Cameron Park\, NSW\, 2285\, Australia
CATEGORIES:Weekly Dining Specials,Weekly Events
ATTACH;FMTTYPE=image/jpeg:https://www.harriganscameronpark.com.au/wp-content/uploads/2026/01/hcp_2026_weekday_happy_hour_web_800x600.jpg
END:VEVENT
END:VCALENDAR