BEGIN:VCALENDAR
VERSION:2.0
PRODID:-//Harrigan&#039;s Cameron Park - ECPv6.15.20//NONSGML v1.0//EN
CALSCALE:GREGORIAN
METHOD:PUBLISH
X-ORIGINAL-URL:https://www.harriganscameronpark.com.au
X-WR-CALDESC:Events for Harrigan&#039;s Cameron Park
REFRESH-INTERVAL;VALUE=DURATION:PT1H
X-Robots-Tag:noindex
X-PUBLISHED-TTL:PT1H
BEGIN:VTIMEZONE
TZID:Australia/Sydney
BEGIN:STANDARD
TZOFFSETFROM:+1100
TZOFFSETTO:+1000
TZNAME:AEST
DTSTART:20250405T160000
END:STANDARD
BEGIN:DAYLIGHT
TZOFFSETFROM:+1000
TZOFFSETTO:+1100
TZNAME:AEDT
DTSTART:20251004T160000
END:DAYLIGHT
BEGIN:STANDARD
TZOFFSETFROM:+1100
TZOFFSETTO:+1000
TZNAME:AEST
DTSTART:20260404T160000
END:STANDARD
BEGIN:DAYLIGHT
TZOFFSETFROM:+1000
TZOFFSETTO:+1100
TZNAME:AEDT
DTSTART:20261003T160000
END:DAYLIGHT
BEGIN:STANDARD
TZOFFSETFROM:+1100
TZOFFSETTO:+1000
TZNAME:AEST
DTSTART:20270403T160000
END:STANDARD
BEGIN:DAYLIGHT
TZOFFSETFROM:+1000
TZOFFSETTO:+1100
TZNAME:AEDT
DTSTART:20271002T160000
END:DAYLIGHT
END:VTIMEZONE
BEGIN:VEVENT
DTSTART;TZID=Australia/Sydney:20260506T190000
DTEND;TZID=Australia/Sydney:20260506T223000
DTSTAMP:20260424T013346
CREATED:20260422T015757Z
LAST-MODIFIED:20260423T013105Z
UID:10017801-1778094000-1778106600@www.harriganscameronpark.com.au
SUMMARY:Tszyu vs Diaz
DESCRIPTION:Tszyu vs Diaz\nThis is a MASSIVE one for the city 🥊 \nOn Wednesday 6 May\, Newcastle Entertainment Centre will host Nikita Tszyu against undefeated Spanish contender Oscar Diaz. We’re showing every round LIVE & LOUD! \nFrom 7pm\, we’ll have the fight on the big screens with full sound\, cold beers on tap and the kitchen firing. \nWith the Tszyu legacy strong in Newcastle\, expect a huge atmosphere from the first bell to the final round. \nCome down and be a part of the big fight energy!
URL:https://www.harriganscameronpark.com.au/event/tszyu-vs-diaz/
LOCATION:Harrigan’s Cameron Park\, 70 McKendry Drive\, Cameron Park\, NSW\, 2285\, Australia
CATEGORIES:Live Sports,Special Events
ATTACH;FMTTYPE=image/jpeg:https://www.harriganscameronpark.com.au/wp-content/uploads/2026/04/HCP2026_052_tszyu_diaz_website_800x600.jpg
END:VEVENT
BEGIN:VEVENT
DTSTART;TZID=Australia/Sydney:20260510T110000
DTEND;TZID=Australia/Sydney:20260510T213000
DTSTAMP:20260424T013346
CREATED:20260420T015414Z
LAST-MODIFIED:20260423T020152Z
UID:10016142-1778410800-1778448600@www.harriganscameronpark.com.au
SUMMARY:Mother's Day
DESCRIPTION:💐 Mother’s Day at Harrigan’s Cameron Park 💐\n📅 Sunday 10 May\n🍽 Lunch from 11am | Dinner from 5pm \nCelebrate Mum with a day she truly deserves 💖 \nJoin us for a relaxed and memorable Mother’s Day filled with great food\, family time\, and special touches just for Mum. From the moment she arrives\, she’ll be treated to a complimentary glass of champagne\, plus a few extra surprises to make her feel extra loved. \nWHAT’S ON:\n🥂 Champagne for Mum on arrival\n🎁 Lucky door hamper giveaways – one at lunch and one at dinner\n🍪 Homemade cookies for Mum – a sweet little gift from us\n👨‍👩‍👧‍👦 Undercover playground to keep the kids entertained \nWhether you’re planning a long lunch or a cosy dinner\, Harrigan’s Cameron Park is the perfect place to gather the family and celebrate. \n💝 Spots will fill fast – book now to make Mum’s day extra special! \nBook Now
URL:https://www.harriganscameronpark.com.au/event/mothers-day-2/
LOCATION:NSW
CATEGORIES:Special Events
ATTACH;FMTTYPE=image/jpeg:https://www.harriganscameronpark.com.au/wp-content/uploads/2026/04/CP2026_050_mothers_day_website_800x600px.jpg
END:VEVENT
END:VCALENDAR