BEGIN:VCALENDAR
VERSION:2.0
PRODID:-//Harrigan&#039;s Cameron Park - ECPv6.2.2//NONSGML v1.0//EN
CALSCALE:GREGORIAN
METHOD:PUBLISH
X-ORIGINAL-URL:https://www.harriganscameronpark.com.au
X-WR-CALDESC:Events for Harrigan&#039;s Cameron Park
REFRESH-INTERVAL;VALUE=DURATION:PT1H
X-Robots-Tag:noindex
X-PUBLISHED-TTL:PT1H
BEGIN:VTIMEZONE
TZID:Australia/Sydney
BEGIN:STANDARD
TZOFFSETFROM:+1100
TZOFFSETTO:+1000
TZNAME:AEST
DTSTART:20240406T160000
END:STANDARD
BEGIN:DAYLIGHT
TZOFFSETFROM:+1000
TZOFFSETTO:+1100
TZNAME:AEDT
DTSTART:20241005T160000
END:DAYLIGHT
END:VTIMEZONE
BEGIN:VEVENT
DTSTART;VALUE=DATE:20240921
DTEND;VALUE=DATE:20240923
DTSTAMP:20260420T011857
CREATED:20240815T054441Z
LAST-MODIFIED:20240823T010918Z
UID:10002234-1726876800-1727049599@www.harriganscameronpark.com.au
SUMMARY:First Birthday 2-Day Extravaganza
DESCRIPTION:Join us this September to celebrate 12 months of your new local!  \nHarrigan’s Cameron Park team would love to invite you to our First Birthday 2-Day Extravaganza.  \nWhether you’re a regular or yet to visit us\, we can’t wait to celebrate this milestone with you! \nWith doors opening at 10am\, visit us to enjoy:\n– Kids’ face painting from 12pm-2pm Saturday\n– The best cold treats from Cherry Hwy Gelato\n– Our limited-edition Special Birthday Cake Cocktail\n– Cupcakes for kids when you book your table on either day \nPlus\, it wouldn’t be a party without some music!  \nStarting at 2pm each day\, we are bringing some of our favourite acts back to help us celebrate! \nSaturday:\n– Bobby C 2pm-5pm\n– Crowd favourites Tré Soul & Live DJ from 8pm\nSunday: CrocQ Duo 2pm-5pm \nBook your table now to become part of our history!  \n  \nBook Now
URL:https://www.harriganscameronpark.com.au/event/first-birthday/
LOCATION:Harrigan’s Cameron Park\, 70 McKendry Drive\, Cameron Park\, NSW\, 2285\, Australia
CATEGORIES:Special Events
ATTACH;FMTTYPE=image/jpeg:https://www.harriganscameronpark.com.au/wp-content/uploads/2024/08/CP2024_115_first-birthday-weekend_web_800x630px.jpg
END:VEVENT
END:VCALENDAR