BEGIN:VCALENDAR
VERSION:2.0
PRODID:-//Harrigan&#039;s Cameron Park - ECPv6.2.2//NONSGML v1.0//EN
CALSCALE:GREGORIAN
METHOD:PUBLISH
X-ORIGINAL-URL:https://www.harriganscameronpark.com.au
X-WR-CALDESC:Events for Harrigan&#039;s Cameron Park
REFRESH-INTERVAL;VALUE=DURATION:PT1H
X-Robots-Tag:noindex
X-PUBLISHED-TTL:PT1H
BEGIN:VTIMEZONE
TZID:Australia/Sydney
BEGIN:STANDARD
TZOFFSETFROM:+1100
TZOFFSETTO:+1000
TZNAME:AEST
DTSTART:20240406T160000
END:STANDARD
BEGIN:DAYLIGHT
TZOFFSETFROM:+1000
TZOFFSETTO:+1100
TZNAME:AEDT
DTSTART:20241005T160000
END:DAYLIGHT
END:VTIMEZONE
BEGIN:VEVENT
DTSTART;TZID=Australia/Sydney:20240912T193000
DTEND;TZID=Australia/Sydney:20240912T230000
DTSTAMP:20260420T011832
CREATED:20240716T043011Z
LAST-MODIFIED:20240716T043109Z
UID:10002214-1726169400-1726182000@www.harriganscameronpark.com.au
SUMMARY:2024 Comedy Night
DESCRIPTION:Enjoy a night of laughter and good times at Harrigan’s Cameron Park Comedy Night. \nHeadlined by Luke Heggie\, hosted by Cam James\, and featuring the talents of Bec Melrose and Elliot Stewart\, this is an event you won’t want to miss! \nThursday 12th September at 7:30 pm in the Main Terrace. \n$25* per person. Purchase your tickets online now. \n \n*Plus booking fee. Over 18’s only. \n___________________________________________________________________________ \nAbout the Talent \nHeadliner: Luke Heggie\nComic favourite Luke Heggie is known for his dry deadpan style and the ability to deliver a brand-new killer comedy show year after year. He gigs relentlessly 6 or 7 nights a week and tours the biggest comedy and arts festivals in Australia and New Zealand to sell-out crowds and rave reviews. \nHost: Cam James\nCam James has won countless rave reviews for his unique “rockstar without a band” comedy style; blending songs as catchy as they are funny\, painfully true stories and sharp improvisation.  \nSupport Act 1: Bec Melrose\nAfter taking out RAW Comedy in 2018\, Bec has delighted audiences with her razor-sharp wit\, concealing a socially conscious edge. Her debut solo hour opened to sell-out crowds\, earning Bec a nomination for Best Comedy.  \nSupport Act 2: Elliot Stewart\nNewcastle Local Elliott Stewart is a regular at the Comedy Store and Newcastle Comedy Club.  Elliott rattles off rapid-fire punch lines which will tickle your funny bone long after the show’s end! \n  \nBook Now
URL:https://www.harriganscameronpark.com.au/event/2024-comedy-night/
LOCATION:Harrigan’s Cameron Park\, 70 McKendry Drive\, Cameron Park\, NSW\, 2285\, Australia
CATEGORIES:Special Events
ATTACH;FMTTYPE=image/jpeg:https://www.harriganscameronpark.com.au/wp-content/uploads/2024/07/CP2024_105_comedy-night_web_800x630px.jpg
END:VEVENT
END:VCALENDAR