BEGIN:VCALENDAR
VERSION:2.0
PRODID:-//Harrigan&#039;s Cameron Park - ECPv6.2.2//NONSGML v1.0//EN
CALSCALE:GREGORIAN
METHOD:PUBLISH
X-ORIGINAL-URL:https://www.harriganscameronpark.com.au
X-WR-CALDESC:Events for Harrigan&#039;s Cameron Park
REFRESH-INTERVAL;VALUE=DURATION:PT1H
X-Robots-Tag:noindex
X-PUBLISHED-TTL:PT1H
BEGIN:VTIMEZONE
TZID:Australia/Sydney
BEGIN:STANDARD
TZOFFSETFROM:+1100
TZOFFSETTO:+1000
TZNAME:AEST
DTSTART:20240406T160000
END:STANDARD
BEGIN:DAYLIGHT
TZOFFSETFROM:+1000
TZOFFSETTO:+1100
TZNAME:AEDT
DTSTART:20241005T160000
END:DAYLIGHT
END:VTIMEZONE
BEGIN:VEVENT
DTSTART;TZID=Australia/Sydney:20240901T090000
DTEND;TZID=Australia/Sydney:20240901T203000
DTSTAMP:20260420T011811
CREATED:20240729T042623Z
LAST-MODIFIED:20240729T042623Z
UID:10002231-1725181200-1725222600@www.harriganscameronpark.com.au
SUMMARY:Father's Day
DESCRIPTION:Book your table for Father’s Day 2024 & WIN! \nThis Father’s Day\, Sunday September 1\, spoil Dad with a delicious meal & a schooner of Guinness at Harrigan’s Cameron Park. \nWith doors opening at 9am and the bar opening at 10am\, we’re serving:\n– Brunch from 9am\n– Lunch from 11:30am\n– Dinner from 5:30pm \nBook your table by August 29 and you’ll go into the draw to win a Matador Catalyst Smoker\, valued at $300! \nPLUS\, heaps of games & giveaways on the day! \nBook your table now for your chance to win! \n  \nBook Now
URL:https://www.harriganscameronpark.com.au/event/fathers-day-2024/
LOCATION:Harrigan’s Cameron Park\, 70 McKendry Drive\, Cameron Park\, NSW\, 2285\, Australia
CATEGORIES:Special Events
ATTACH;FMTTYPE=image/jpeg:https://www.harriganscameronpark.com.au/wp-content/uploads/2024/07/CP2024_104_fathers-day_web_800x630px.jpg
END:VEVENT
END:VCALENDAR