BEGIN:VCALENDAR
VERSION:2.0
PRODID:-//Harrigan&#039;s Cameron Park - ECPv6.2.2//NONSGML v1.0//EN
CALSCALE:GREGORIAN
METHOD:PUBLISH
X-ORIGINAL-URL:https://www.harriganscameronpark.com.au
X-WR-CALDESC:Events for Harrigan&#039;s Cameron Park
REFRESH-INTERVAL;VALUE=DURATION:PT1H
X-Robots-Tag:noindex
X-PUBLISHED-TTL:PT1H
BEGIN:VTIMEZONE
TZID:Australia/Sydney
BEGIN:STANDARD
TZOFFSETFROM:+1100
TZOFFSETTO:+1000
TZNAME:AEST
DTSTART:20240406T160000
END:STANDARD
BEGIN:DAYLIGHT
TZOFFSETFROM:+1000
TZOFFSETTO:+1100
TZNAME:AEDT
DTSTART:20241005T160000
END:DAYLIGHT
END:VTIMEZONE
BEGIN:VEVENT
DTSTART;TZID=Australia/Sydney:20240823T180000
DTEND;TZID=Australia/Sydney:20240823T200000
DTSTAMP:20260420T022834
CREATED:20240814T032701Z
LAST-MODIFIED:20240814T032701Z
UID:10002233-1724436000-1724443200@www.harriganscameronpark.com.au
SUMMARY:Flanno for a Farmer
DESCRIPTION:Helping Aussie Farmers \nOur Aussie farmers are pretty tough\, but just because they can handle a lot doesn’t mean they should have to do it alone. \nWe always need our farmers\, and with 1 farmer committing suicide every 10 days\, it’s time to recognise they need us too. \nChuck on your flanno and head to Harrigan’s Cameron Park on August 23 from 6pm-8pm to show your support. \nBring your cash on the day\, or donate at flannoforafarmer.com.au \nWith games and heaps of merch to giveaway on the day thanks to our mates at Travla Beer\, grab your mates and book a table for this great cause.  \nBook Now  Donate \nPhonic Duo playing live from 8:30pm
URL:https://www.harriganscameronpark.com.au/event/flanno-for-a-farmer/
LOCATION:Harrigan’s Cameron Park\, 70 McKendry Drive\, Cameron Park\, NSW\, 2285\, Australia
CATEGORIES:Special Events
ATTACH;FMTTYPE=image/jpeg:https://www.harriganscameronpark.com.au/wp-content/uploads/2024/08/CP2024_120_flanno_for_a_farmer_web_800x630px.jpg
END:VEVENT
BEGIN:VEVENT
DTSTART;TZID=Australia/Sydney:20240823T200000
DTEND;TZID=Australia/Sydney:20240823T220000
DTSTAMP:20260420T022834
CREATED:20240701T011130Z
LAST-MODIFIED:20240828T015305Z
UID:10002160-1724443200-1724450400@www.harriganscameronpark.com.au
SUMMARY:2 for $25 Cocktails
DESCRIPTION:Run don’t walk to Harrigan’s Cameron Park this Friday night for 2 for $25 Cocktails! \nRunning for a limited time only\, you’ll find Newcastle’s best value Cocktails at your newest local. \nBest shared with friends\, mix or match from our extensive cocktail list: \n\n\n\nClassic Margarita\nFrench Martini\nEspresso Martini\nCosmopolitan\nMojito\nPassionfruit Caipiroska\nJapanese Slipper\nOld Fashioned\nAmaretto Sour\nRosemary Gin Mule\nRaspberry Gin Fizz\nApple Crumble\n\n\n\nBook Now\n\n\n\n*T&Cs and responsible service of alcohol apply. Drink responsibly.
URL:https://www.harriganscameronpark.com.au/event/2-for-25-cocktails/2024-08-23/
LOCATION:Harrigan’s Cameron Park\, 70 McKendry Drive\, Cameron Park\, NSW\, 2285\, Australia
CATEGORIES:Special Events,Weekly Dining Specials
ATTACH;FMTTYPE=image/jpeg:https://www.harriganscameronpark.com.au/wp-content/uploads/2024/07/CP2024_098_friday-cocktails_web_800x630px.jpg
END:VEVENT
END:VCALENDAR