BEGIN:VCALENDAR
VERSION:2.0
PRODID:-//Harrigan&#039;s Cameron Park - ECPv6.2.2//NONSGML v1.0//EN
CALSCALE:GREGORIAN
METHOD:PUBLISH
X-WR-CALNAME:Harrigan&#039;s Cameron Park
X-ORIGINAL-URL:https://www.harriganscameronpark.com.au
X-WR-CALDESC:Events for Harrigan&#039;s Cameron Park
REFRESH-INTERVAL;VALUE=DURATION:PT1H
X-Robots-Tag:noindex
X-PUBLISHED-TTL:PT1H
BEGIN:VTIMEZONE
TZID:Australia/Sydney
BEGIN:STANDARD
TZOFFSETFROM:+1100
TZOFFSETTO:+1000
TZNAME:AEST
DTSTART:20240406T160000
END:STANDARD
BEGIN:DAYLIGHT
TZOFFSETFROM:+1000
TZOFFSETTO:+1100
TZNAME:AEDT
DTSTART:20241005T160000
END:DAYLIGHT
END:VTIMEZONE
BEGIN:VEVENT
DTSTART;TZID=Australia/Sydney:20240708T120000
DTEND;TZID=Australia/Sydney:20240708T140000
DTSTAMP:20260420T035339
CREATED:20240703T053820Z
LAST-MODIFIED:20240703T055136Z
UID:10002148-1720440000-1720447200@www.harriganscameronpark.com.au
SUMMARY:Let's Make Paper Airplanes
DESCRIPTION:Head down to Harrigan’s Cameron Park this school holidays for some School Holiday Activities! \nLet your little one’s imagination sore as they learn how to make paper airplanes. \nWeek 1\nMonday 8th: Learn to Make Paper Airplanes\nTuesday 9th: Kids’ Bingo\nWednesday 10th: Disco Dance Party \nWeek 2\nMonday 15th: Magic Show\nTuesday 16th: Plaster Painting\nWednesday 17th: Disco Dance Party
URL:https://www.harriganscameronpark.com.au/event/lets-make-paper-airplanes/
LOCATION:Harrigan’s Cameron Park\, 70 McKendry Drive\, Cameron Park\, NSW\, 2285\, Australia
CATEGORIES:Special Events
ATTACH;FMTTYPE=image/jpeg:https://www.harriganscameronpark.com.au/wp-content/uploads/2024/07/CP2024_103_july_school_holidays_web_800x630px.jpg
END:VEVENT
END:VCALENDAR