BEGIN:VCALENDAR
VERSION:2.0
PRODID:-//Harrigan&#039;s Cameron Park - ECPv6.2.2//NONSGML v1.0//EN
CALSCALE:GREGORIAN
METHOD:PUBLISH
X-ORIGINAL-URL:https://www.harriganscameronpark.com.au
X-WR-CALDESC:Events for Harrigan&#039;s Cameron Park
REFRESH-INTERVAL;VALUE=DURATION:PT1H
X-Robots-Tag:noindex
X-PUBLISHED-TTL:PT1H
BEGIN:VTIMEZONE
TZID:Australia/Sydney
BEGIN:STANDARD
TZOFFSETFROM:+1100
TZOFFSETTO:+1000
TZNAME:AEST
DTSTART:20240406T160000
END:STANDARD
BEGIN:DAYLIGHT
TZOFFSETFROM:+1000
TZOFFSETTO:+1100
TZNAME:AEDT
DTSTART:20241005T160000
END:DAYLIGHT
END:VTIMEZONE
BEGIN:VEVENT
DTSTART;TZID=Australia/Sydney:20241001T120000
DTEND;TZID=Australia/Sydney:20241001T140000
DTSTAMP:20260419T222742
CREATED:20240926T002733Z
LAST-MODIFIED:20240926T002733Z
UID:10004733-1727784000-1727791200@www.harriganscameronpark.com.au
SUMMARY:School Holiday Fun: Origami
DESCRIPTION:Keep the kids’ entertained at Harrigan’s Cameron Park these Spring School Holidays with some School Holiday Fun! \nWith FREE activities running Monday to Wednesday (excluding public holidays) every week these holidays\, there’s never been a better time to visit your newest local! \nWeek 1:\nTuesday 1st: Origami\, 12pm-2pm\nWednesday 2nd: Disco\, 12pm-2pm \nWeek 2:\nTuesday 8th: Plaster Painting\, 11:30am-2:30pm\nWednesday 9th: Disco\, 12pm-2pm \nNo bookings required.
URL:https://www.harriganscameronpark.com.au/event/school-holiday-fun-oragami/
LOCATION:Harrigan’s Cameron Park\, 70 McKendry Drive\, Cameron Park\, NSW\, 2285\, Australia
CATEGORIES:Special Events
ATTACH;FMTTYPE=image/jpeg:https://www.harriganscameronpark.com.au/wp-content/uploads/2024/09/CP2024_144_spring-school-holidays_web_800x630px.jpg
END:VEVENT
BEGIN:VEVENT
DTSTART;TZID=Australia/Sydney:20241002T120000
DTEND;TZID=Australia/Sydney:20241002T140000
DTSTAMP:20260419T222742
CREATED:20240926T003120Z
LAST-MODIFIED:20240926T003120Z
UID:10004734-1727870400-1727877600@www.harriganscameronpark.com.au
SUMMARY:School Holiday Fun: Disco
DESCRIPTION:Keep the kids’ entertained at Harrigan’s Cameron Park these Spring School Holidays with some School Holiday Fun! \nWith FREE activities running Monday to Wednesday (excluding public holidays) every week these holidays\, there’s never been a better time to visit your newest local! \nWeek 1:\nWednesday 2nd: Disco\, 12pm-2pm \nWeek 2:\nTuesday 8th: Plaster Painting\, 11:30am-2:30pm\nWednesday 9th: Disco\, 12pm-2pm \nNo bookings required.
URL:https://www.harriganscameronpark.com.au/event/school-holiday-fun-disco-1/
LOCATION:Harrigan’s Cameron Park\, 70 McKendry Drive\, Cameron Park\, NSW\, 2285\, Australia
CATEGORIES:Special Events
ATTACH;FMTTYPE=image/jpeg:https://www.harriganscameronpark.com.au/wp-content/uploads/2024/09/CP2024_144_spring-school-holidays_web_800x630px.jpg
END:VEVENT
BEGIN:VEVENT
DTSTART;TZID=Australia/Sydney:20241006T130000
DTEND;TZID=Australia/Sydney:20241006T170000
DTSTAMP:20260419T222742
CREATED:20240925T065514Z
LAST-MODIFIED:20240925T065514Z
UID:10004731-1728219600-1728234000@www.harriganscameronpark.com.au
SUMMARY:UFC 307: Pereira vs Rountree Jr
DESCRIPTION:UFC 307 Title Fight Doubleheader: Pereira vs Rountree Jr & Pennington vs Peña at Harrigan’s Cameron Park. \nGet ready for an epic afternoon of UFC action with not one but two title fights! Watch Pereira vs Rountree Jr and Pennington vs Peña go head-to-head for championship glory at UFC 307 on Sunday\, October 6\, from 1pm at your new local for all things UFC — Harrigan’s Cameron Park. \nCatch every moment of these high-stakes battles on our massive screens\, putting you right in the heart of the action. Centrally located in Cameron Park\, Harrigan’s is the perfect spot to enjoy the fights with mates\, cold drinks\, and an electric atmosphere. \nDon’t miss a second of this UFC doubleheader!
URL:https://www.harriganscameronpark.com.au/event/ufc-307-pereira-vs-rountree-jr/
LOCATION:Harrigan’s Cameron Park\, 70 McKendry Drive\, Cameron Park\, NSW\, 2285\, Australia
CATEGORIES:Special Events,Sport Events
ATTACH;FMTTYPE=image/jpeg:https://www.harriganscameronpark.com.au/wp-content/uploads/2024/09/CP2024_143_ufc-307_pereira-v-routreejr_web_800x630px.jpg
END:VEVENT
BEGIN:VEVENT
DTSTART;TZID=Australia/Sydney:20241008T113000
DTEND;TZID=Australia/Sydney:20241008T143000
DTSTAMP:20260419T222742
CREATED:20240926T003427Z
LAST-MODIFIED:20240926T003427Z
UID:10004735-1728387000-1728397800@www.harriganscameronpark.com.au
SUMMARY:School Holiday Fun: Plaster Painting
DESCRIPTION:Keep the kids’ entertained at Harrigan’s Cameron Park these Spring School Holidays with some School Holiday Fun! \nWith FREE activities running Monday to Wednesday (excluding public holidays) every week these holidays\, there’s never been a better time to visit your newest local! \nWeek 2:\nTuesday 8th: Plaster Painting\, 11:30am-2:30pm\nWednesday 9th: Disco\, 12pm-2pm \nNo bookings required.
URL:https://www.harriganscameronpark.com.au/event/school-holiday-fun-plaster-painting/
LOCATION:Harrigan’s Cameron Park\, 70 McKendry Drive\, Cameron Park\, NSW\, 2285\, Australia
CATEGORIES:Special Events
ATTACH;FMTTYPE=image/jpeg:https://www.harriganscameronpark.com.au/wp-content/uploads/2024/09/CP2024_144_spring-school-holidays_web_800x630px.jpg
END:VEVENT
BEGIN:VEVENT
DTSTART;TZID=Australia/Sydney:20241009T120000
DTEND;TZID=Australia/Sydney:20241009T140000
DTSTAMP:20260419T222742
CREATED:20240926T003707Z
LAST-MODIFIED:20240926T003707Z
UID:10004736-1728475200-1728482400@www.harriganscameronpark.com.au
SUMMARY:School Holiday Fun: Disco
DESCRIPTION:Keep the kids’ entertained at Harrigan’s Cameron Park these Spring School Holidays with some School Holiday Fun! \nWith FREE activities running Monday to Wednesday (excluding public holidays) every week these holidays\, there’s never been a better time to visit your newest local! \nWeek 2:\nWednesday 9th: Disco\, 12pm-2pm \nNo bookings required.
URL:https://www.harriganscameronpark.com.au/event/school-holiday-fun-disco-2-2/
LOCATION:Harrigan’s Cameron Park\, 70 McKendry Drive\, Cameron Park\, NSW\, 2285\, Australia
CATEGORIES:Special Events
ATTACH;FMTTYPE=image/jpeg:https://www.harriganscameronpark.com.au/wp-content/uploads/2024/09/CP2024_144_spring-school-holidays_web_800x630px.jpg
END:VEVENT
BEGIN:VEVENT
DTSTART;TZID=Australia/Sydney:20241020T103000
DTEND;TZID=Australia/Sydney:20241020T143000
DTSTAMP:20260419T222742
CREATED:20241014T053718Z
LAST-MODIFIED:20241014T053730Z
UID:10004759-1729420200-1729434600@www.harriganscameronpark.com.au
SUMMARY:Tszyu vs. Murtazaliev
DESCRIPTION:Boxing fans\, get ready! \nCatch the epic IBF Super Welterweight World Title fight between Tim Tszyu and Bakhram Murtazaliev LIVE and LOUD from 10am at Harrigan’s Cameron Park! \nWe’re your home for all things boxing\, and this showdown is going to be huge! Don’t miss out—grab your mates and come down for an unforgettable day of non-stop action!
URL:https://www.harriganscameronpark.com.au/event/tszyu-vs-murtazaliev/
LOCATION:Harrigan’s Cameron Park\, 70 McKendry Drive\, Cameron Park\, NSW\, 2285\, Australia
CATEGORIES:Special Events
ATTACH;FMTTYPE=image/jpeg:https://www.harriganscameronpark.com.au/wp-content/uploads/2024/10/CP2024_151_murtazaliev_v_tszyu_web_800x630px.jpg
END:VEVENT
END:VCALENDAR