BEGIN:VCALENDAR
VERSION:2.0
PRODID:-//Harrigan&#039;s Cameron Park - ECPv6.2.2//NONSGML v1.0//EN
CALSCALE:GREGORIAN
METHOD:PUBLISH
X-WR-CALNAME:Harrigan&#039;s Cameron Park
X-ORIGINAL-URL:https://www.harriganscameronpark.com.au
X-WR-CALDESC:Events for Harrigan&#039;s Cameron Park
REFRESH-INTERVAL;VALUE=DURATION:PT1H
X-Robots-Tag:noindex
X-PUBLISHED-TTL:PT1H
BEGIN:VTIMEZONE
TZID:Australia/Sydney
BEGIN:STANDARD
TZOFFSETFROM:+1100
TZOFFSETTO:+1000
TZNAME:AEST
DTSTART:20240406T160000
END:STANDARD
BEGIN:DAYLIGHT
TZOFFSETFROM:+1000
TZOFFSETTO:+1100
TZNAME:AEDT
DTSTART:20241005T160000
END:DAYLIGHT
END:VTIMEZONE
BEGIN:VEVENT
DTSTART;TZID=Australia/Sydney:20240705T200000
DTEND;TZID=Australia/Sydney:20240705T220000
DTSTAMP:20260420T022506
CREATED:20240701T011130Z
LAST-MODIFIED:20240828T015305Z
UID:10002138-1720209600-1720216800@www.harriganscameronpark.com.au
SUMMARY:2 for $25 Cocktails
DESCRIPTION:Run don’t walk to Harrigan’s Cameron Park this Friday night for 2 for $25 Cocktails! \nRunning for a limited time only\, you’ll find Newcastle’s best value Cocktails at your newest local. \nBest shared with friends\, mix or match from our extensive cocktail list: \n\n\n\nClassic Margarita\nFrench Martini\nEspresso Martini\nCosmopolitan\nMojito\nPassionfruit Caipiroska\nJapanese Slipper\nOld Fashioned\nAmaretto Sour\nRosemary Gin Mule\nRaspberry Gin Fizz\nApple Crumble\n\n\n\nBook Now\n\n\n\n*T&Cs and responsible service of alcohol apply. Drink responsibly.
URL:https://www.harriganscameronpark.com.au/event/2-for-25-cocktails/2024-07-05/
LOCATION:Harrigan’s Cameron Park\, 70 McKendry Drive\, Cameron Park\, NSW\, 2285\, Australia
CATEGORIES:Special Events,Weekly Dining Specials
ATTACH;FMTTYPE=image/jpeg:https://www.harriganscameronpark.com.au/wp-content/uploads/2024/07/CP2024_098_friday-cocktails_web_800x630px.jpg
END:VEVENT
BEGIN:VEVENT
DTSTART;TZID=Australia/Sydney:20240706T170000
DTEND;TZID=Australia/Sydney:20240706T230000
DTSTAMP:20260420T022506
CREATED:20240605T051328Z
LAST-MODIFIED:20240605T051337Z
UID:10002122-1720285200-1720306800@www.harriganscameronpark.com.au
SUMMARY:Winter Bloom Party
DESCRIPTION:Cocktails. Good Times. Live Music – Need we say more? \nJoin us on Saturday 6 July for this FREE event at your newest local! \nSponsored by Earp Distillery Co. our Winter Bloom Party with feature cocktails made with their signature spirits – including the limited edition Orancello. \nServing drinks from 5pm to close\, with Houseband playing from 8:30pm\, seize the opportunity to see some mates and try something new from our refreshed bistro menu. \nWe can’t wait to see you there!
URL:https://www.harriganscameronpark.com.au/event/winter-bloom-party/
LOCATION:Harrigan’s Cameron Park\, 70 McKendry Drive\, Cameron Park\, NSW\, 2285\, Australia
CATEGORIES:Special Events
ATTACH;FMTTYPE=image/jpeg:https://www.harriganscameronpark.com.au/wp-content/uploads/2024/06/CP2024_079_earp-bros_winter-bloom_web_800x630px.jpg
END:VEVENT
BEGIN:VEVENT
DTSTART;TZID=Australia/Sydney:20240708T120000
DTEND;TZID=Australia/Sydney:20240708T140000
DTSTAMP:20260420T022506
CREATED:20240703T053820Z
LAST-MODIFIED:20240703T055136Z
UID:10002148-1720440000-1720447200@www.harriganscameronpark.com.au
SUMMARY:Let's Make Paper Airplanes
DESCRIPTION:Head down to Harrigan’s Cameron Park this school holidays for some School Holiday Activities! \nLet your little one’s imagination sore as they learn how to make paper airplanes. \nWeek 1\nMonday 8th: Learn to Make Paper Airplanes\nTuesday 9th: Kids’ Bingo\nWednesday 10th: Disco Dance Party \nWeek 2\nMonday 15th: Magic Show\nTuesday 16th: Plaster Painting\nWednesday 17th: Disco Dance Party
URL:https://www.harriganscameronpark.com.au/event/lets-make-paper-airplanes/
LOCATION:Harrigan’s Cameron Park\, 70 McKendry Drive\, Cameron Park\, NSW\, 2285\, Australia
CATEGORIES:Special Events
ATTACH;FMTTYPE=image/jpeg:https://www.harriganscameronpark.com.au/wp-content/uploads/2024/07/CP2024_103_july_school_holidays_web_800x630px.jpg
END:VEVENT
BEGIN:VEVENT
DTSTART;TZID=Australia/Sydney:20240709T120000
DTEND;TZID=Australia/Sydney:20240709T140000
DTSTAMP:20260420T022506
CREATED:20240703T062454Z
LAST-MODIFIED:20240703T065037Z
UID:10002149-1720526400-1720533600@www.harriganscameronpark.com.au
SUMMARY:Kids' Bingo
DESCRIPTION:Head down to Harrigan’s Cameron Park this school holidays for some School Holiday Activities! \nYour little ones will have a ball at our Kids’ Bingo! \nWeek 1\nTuesday 9th: Kids’ Bingo\nWednesday 10th: Disco Dance Party \nWeek 2\nMonday 15th: Magic Show\nTuesday 16th: Plaster Painting\nWednesday 17th: Disco Dance Party
URL:https://www.harriganscameronpark.com.au/event/kids-bingo/
LOCATION:Harrigan’s Cameron Park\, 70 McKendry Drive\, Cameron Park\, NSW\, 2285\, Australia
CATEGORIES:Special Events
ATTACH;FMTTYPE=image/jpeg:https://www.harriganscameronpark.com.au/wp-content/uploads/2024/07/CP2024_103_july_school_holidays_web_800x630px.jpg
END:VEVENT
BEGIN:VEVENT
DTSTART;TZID=Australia/Sydney:20240710T120000
DTEND;TZID=Australia/Sydney:20240710T140000
DTSTAMP:20260420T022506
CREATED:20240703T065238Z
LAST-MODIFIED:20240703T065238Z
UID:10002152-1720612800-1720620000@www.harriganscameronpark.com.au
SUMMARY:Disco Dance Party
DESCRIPTION:Head down to Harrigan’s Cameron Park this school holidays for some School Holiday Activities! \nWatch your little ones dance the day away! \nWeek 1\nWednesday 10th: Disco Dance Party \nWeek 2\nMonday 15th: Magic Show\nTuesday 16th: Plaster Painting\nWednesday 17th: Disco Dance Party
URL:https://www.harriganscameronpark.com.au/event/disco-dance-party/
LOCATION:Harrigan’s Cameron Park\, 70 McKendry Drive\, Cameron Park\, NSW\, 2285\, Australia
CATEGORIES:Special Events
ATTACH;FMTTYPE=image/jpeg:https://www.harriganscameronpark.com.au/wp-content/uploads/2024/07/CP2024_103_july_school_holidays_web_800x630px.jpg
END:VEVENT
BEGIN:VEVENT
DTSTART;TZID=Australia/Sydney:20240712T200000
DTEND;TZID=Australia/Sydney:20240712T220000
DTSTAMP:20260420T022506
CREATED:20240701T011130Z
LAST-MODIFIED:20240828T015305Z
UID:10002154-1720814400-1720821600@www.harriganscameronpark.com.au
SUMMARY:2 for $25 Cocktails
DESCRIPTION:Run don’t walk to Harrigan’s Cameron Park this Friday night for 2 for $25 Cocktails! \nRunning for a limited time only\, you’ll find Newcastle’s best value Cocktails at your newest local. \nBest shared with friends\, mix or match from our extensive cocktail list: \n\n\n\nClassic Margarita\nFrench Martini\nEspresso Martini\nCosmopolitan\nMojito\nPassionfruit Caipiroska\nJapanese Slipper\nOld Fashioned\nAmaretto Sour\nRosemary Gin Mule\nRaspberry Gin Fizz\nApple Crumble\n\n\n\nBook Now\n\n\n\n*T&Cs and responsible service of alcohol apply. Drink responsibly.
URL:https://www.harriganscameronpark.com.au/event/2-for-25-cocktails/2024-07-12/
LOCATION:Harrigan’s Cameron Park\, 70 McKendry Drive\, Cameron Park\, NSW\, 2285\, Australia
CATEGORIES:Special Events,Weekly Dining Specials
ATTACH;FMTTYPE=image/jpeg:https://www.harriganscameronpark.com.au/wp-content/uploads/2024/07/CP2024_098_friday-cocktails_web_800x630px.jpg
END:VEVENT
BEGIN:VEVENT
DTSTART;TZID=Australia/Sydney:20240715T120000
DTEND;TZID=Australia/Sydney:20240715T140000
DTSTAMP:20260420T022506
CREATED:20240703T063607Z
LAST-MODIFIED:20240703T064945Z
UID:10002150-1721044800-1721052000@www.harriganscameronpark.com.au
SUMMARY:Magic Show
DESCRIPTION:Head down to Harrigan’s Cameron Park this school holidays for some School Holiday Activities! \nYour little ones will be amazed and delighted by our fantastic Magic Show! \nWeek 2\nMonday 15th: Magic Show\nTuesday 16th: Plaster Painting\nWednesday 17th: Disco Dance Party
URL:https://www.harriganscameronpark.com.au/event/magic-show/
LOCATION:Harrigan’s Cameron Park\, 70 McKendry Drive\, Cameron Park\, NSW\, 2285\, Australia
CATEGORIES:Special Events
ATTACH;FMTTYPE=image/jpeg:https://www.harriganscameronpark.com.au/wp-content/uploads/2024/07/CP2024_103_july_school_holidays_web_800x630px.jpg
END:VEVENT
BEGIN:VEVENT
DTSTART;TZID=Australia/Sydney:20240716T120000
DTEND;TZID=Australia/Sydney:20240716T140000
DTSTAMP:20260420T022506
CREATED:20240703T065508Z
LAST-MODIFIED:20240703T065631Z
UID:10002153-1721131200-1721138400@www.harriganscameronpark.com.au
SUMMARY:Plaster Painting
DESCRIPTION:Head down to Harrigan’s Cameron Park this school holidays for some School Holiday Activities! \nLet their creativity shine bright with our Plaster Painting workshop! \nWeek 2\nTuesday 16th: Plaster Painting\nWednesday 17th: Disco Dance Party
URL:https://www.harriganscameronpark.com.au/event/plaster-painting/
LOCATION:Harrigan’s Cameron Park\, 70 McKendry Drive\, Cameron Park\, NSW\, 2285\, Australia
CATEGORIES:Special Events
ATTACH;FMTTYPE=image/jpeg:https://www.harriganscameronpark.com.au/wp-content/uploads/2024/07/CP2024_103_july_school_holidays_web_800x630px.jpg
END:VEVENT
BEGIN:VEVENT
DTSTART;TZID=Australia/Sydney:20240717T120000
DTEND;TZID=Australia/Sydney:20240717T140000
DTSTAMP:20260420T022506
CREATED:20240703T063832Z
LAST-MODIFIED:20240703T064555Z
UID:10002151-1721217600-1721224800@www.harriganscameronpark.com.au
SUMMARY:Disco Dance Party
DESCRIPTION:Head down to Harrigan’s Cameron Park this school holidays for some School Holiday Activities! \nWatch your little ones dance the day away! \nWeek 2\nWednesday 17th: Disco Dance Party
URL:https://www.harriganscameronpark.com.au/event/disco-dance-party-2/
LOCATION:Harrigan’s Cameron Park\, 70 McKendry Drive\, Cameron Park\, NSW\, 2285\, Australia
CATEGORIES:Special Events
ATTACH;FMTTYPE=image/jpeg:https://www.harriganscameronpark.com.au/wp-content/uploads/2024/07/CP2024_103_july_school_holidays_web_800x630px.jpg
END:VEVENT
BEGIN:VEVENT
DTSTART;TZID=Australia/Sydney:20240719T200000
DTEND;TZID=Australia/Sydney:20240719T220000
DTSTAMP:20260420T022506
CREATED:20240701T011130Z
LAST-MODIFIED:20240828T015305Z
UID:10002155-1721419200-1721426400@www.harriganscameronpark.com.au
SUMMARY:2 for $25 Cocktails
DESCRIPTION:Run don’t walk to Harrigan’s Cameron Park this Friday night for 2 for $25 Cocktails! \nRunning for a limited time only\, you’ll find Newcastle’s best value Cocktails at your newest local. \nBest shared with friends\, mix or match from our extensive cocktail list: \n\n\n\nClassic Margarita\nFrench Martini\nEspresso Martini\nCosmopolitan\nMojito\nPassionfruit Caipiroska\nJapanese Slipper\nOld Fashioned\nAmaretto Sour\nRosemary Gin Mule\nRaspberry Gin Fizz\nApple Crumble\n\n\n\nBook Now\n\n\n\n*T&Cs and responsible service of alcohol apply. Drink responsibly.
URL:https://www.harriganscameronpark.com.au/event/2-for-25-cocktails/2024-07-19/
LOCATION:Harrigan’s Cameron Park\, 70 McKendry Drive\, Cameron Park\, NSW\, 2285\, Australia
CATEGORIES:Special Events,Weekly Dining Specials
ATTACH;FMTTYPE=image/jpeg:https://www.harriganscameronpark.com.au/wp-content/uploads/2024/07/CP2024_098_friday-cocktails_web_800x630px.jpg
END:VEVENT
BEGIN:VEVENT
DTSTART;TZID=Australia/Sydney:20240725T180000
DTEND;TZID=Australia/Sydney:20240725T203000
DTSTAMP:20260420T022506
CREATED:20240718T233751Z
LAST-MODIFIED:20240718T233841Z
UID:10002216-1721930400-1721939400@www.harriganscameronpark.com.au
SUMMARY:LIVE & LOUD: HUNI vs PILCHER
DESCRIPTION:Australian heavyweight prospect Justis Huni (9-0) gets the chance to fight on home soil for the first time since November 2022\, taking on Troy Pilcher (9-0-1) at the Fortitude Music Hall in Brisbane. \nGrab yourself a beer and a $20 Thursday Pizza Special as you see LIVE & LOUD who comes out on top.
URL:https://www.harriganscameronpark.com.au/event/live-loud-huni-vs-pilcher/
LOCATION:Harrigan’s Cameron Park\, 70 McKendry Drive\, Cameron Park\, NSW\, 2285\, Australia
CATEGORIES:Special Events,Sport Events
ATTACH;FMTTYPE=image/jpeg:https://www.harriganscameronpark.com.au/wp-content/uploads/2024/07/CP2024_112_huni_v_pilcher_web_800x630px.jpg
END:VEVENT
BEGIN:VEVENT
DTSTART;TZID=Australia/Sydney:20240726T200000
DTEND;TZID=Australia/Sydney:20240726T220000
DTSTAMP:20260420T022506
CREATED:20240701T011130Z
LAST-MODIFIED:20240828T015305Z
UID:10002156-1722024000-1722031200@www.harriganscameronpark.com.au
SUMMARY:2 for $25 Cocktails
DESCRIPTION:Run don’t walk to Harrigan’s Cameron Park this Friday night for 2 for $25 Cocktails! \nRunning for a limited time only\, you’ll find Newcastle’s best value Cocktails at your newest local. \nBest shared with friends\, mix or match from our extensive cocktail list: \n\n\n\nClassic Margarita\nFrench Martini\nEspresso Martini\nCosmopolitan\nMojito\nPassionfruit Caipiroska\nJapanese Slipper\nOld Fashioned\nAmaretto Sour\nRosemary Gin Mule\nRaspberry Gin Fizz\nApple Crumble\n\n\n\nBook Now\n\n\n\n*T&Cs and responsible service of alcohol apply. Drink responsibly.
URL:https://www.harriganscameronpark.com.au/event/2-for-25-cocktails/2024-07-26/
LOCATION:Harrigan’s Cameron Park\, 70 McKendry Drive\, Cameron Park\, NSW\, 2285\, Australia
CATEGORIES:Special Events,Weekly Dining Specials
ATTACH;FMTTYPE=image/jpeg:https://www.harriganscameronpark.com.au/wp-content/uploads/2024/07/CP2024_098_friday-cocktails_web_800x630px.jpg
END:VEVENT
END:VCALENDAR