BEGIN:VCALENDAR
VERSION:2.0
PRODID:-//Harrigan&#039;s Cameron Park - ECPv6.15.20//NONSGML v1.0//EN
CALSCALE:GREGORIAN
METHOD:PUBLISH
X-WR-CALNAME:Harrigan&#039;s Cameron Park
X-ORIGINAL-URL:https://www.harriganscameronpark.com.au
X-WR-CALDESC:Events for Harrigan&#039;s Cameron Park
REFRESH-INTERVAL;VALUE=DURATION:PT1H
X-Robots-Tag:noindex
X-PUBLISHED-TTL:PT1H
BEGIN:VTIMEZONE
TZID:Australia/Sydney
BEGIN:STANDARD
TZOFFSETFROM:+1100
TZOFFSETTO:+1000
TZNAME:AEST
DTSTART:20250405T160000
END:STANDARD
BEGIN:DAYLIGHT
TZOFFSETFROM:+1000
TZOFFSETTO:+1100
TZNAME:AEDT
DTSTART:20251004T160000
END:DAYLIGHT
BEGIN:STANDARD
TZOFFSETFROM:+1100
TZOFFSETTO:+1000
TZNAME:AEST
DTSTART:20260404T160000
END:STANDARD
BEGIN:DAYLIGHT
TZOFFSETFROM:+1000
TZOFFSETTO:+1100
TZNAME:AEDT
DTSTART:20261003T160000
END:DAYLIGHT
BEGIN:STANDARD
TZOFFSETFROM:+1100
TZOFFSETTO:+1000
TZNAME:AEST
DTSTART:20270403T160000
END:STANDARD
BEGIN:DAYLIGHT
TZOFFSETFROM:+1000
TZOFFSETTO:+1100
TZNAME:AEDT
DTSTART:20271002T160000
END:DAYLIGHT
END:VTIMEZONE
BEGIN:VEVENT
DTSTART;TZID=Australia/Sydney:20260424T113000
DTEND;TZID=Australia/Sydney:20260424T143000
DTSTAMP:20260424T020357
CREATED:20260128T084029Z
LAST-MODIFIED:20260420T023347Z
UID:10012228-1777030200-1777041000@www.harriganscameronpark.com.au
SUMMARY:Lunch Specials
DESCRIPTION:Check out our fantastic range\, including burgers\, salads\, steak\, and fish and chips!
URL:https://www.harriganscameronpark.com.au/event/lunch-specials/2026-04-24/
LOCATION:Harrigan’s Cameron Park\, 70 McKendry Drive\, Cameron Park\, NSW\, 2285\, Australia
CATEGORIES:Weekly Dining Specials
ATTACH;FMTTYPE=image/jpeg:https://www.harriganscameronpark.com.au/wp-content/uploads/2026/01/hcp_2026_weekdays_lunch_specials_web_800x600.jpg
END:VEVENT
BEGIN:VEVENT
DTSTART;TZID=Australia/Sydney:20260424T150000
DTEND;TZID=Australia/Sydney:20260424T170000
DTSTAMP:20260424T020357
CREATED:20260123T014703Z
LAST-MODIFIED:20260324T043005Z
UID:10014841-1777042800-1777050000@www.harriganscameronpark.com.au
SUMMARY:Happy Hour
DESCRIPTION:Enjoy Happy Hour every weekday from 3pm-5pm at Harrigan’s Cameron Park. \nSchooners from just $7!
URL:https://www.harriganscameronpark.com.au/event/happy-hour-5/2026-04-24/
LOCATION:Harrigan’s Cameron Park\, 70 McKendry Drive\, Cameron Park\, NSW\, 2285\, Australia
CATEGORIES:Weekly Dining Specials,Weekly Events
ATTACH;FMTTYPE=image/jpeg:https://www.harriganscameronpark.com.au/wp-content/uploads/2026/01/hcp_2026_weekday_happy_hour_web_800x600.jpg
END:VEVENT
BEGIN:VEVENT
DTSTART;TZID=Australia/Sydney:20260424T170000
DTEND;TZID=Australia/Sydney:20260424T203000
DTSTAMP:20260424T020357
CREATED:20260421T002131Z
LAST-MODIFIED:20260421T005021Z
UID:10016499-1777050000-1777062600@www.harriganscameronpark.com.au
SUMMARY:$60 Family Deal
DESCRIPTION:$60 Family Deal\nTake the stress out of weeknight dinners with our $60 Family Deal! \nAvailable Monday to Friday from 5pm to 8:30pm\, this offer includes two mains\, two kids meals and a jug of soft drink\, making it the perfect option for an easy family night out. \nNeed to feed a few extra? Additional kids meals are available for just $10 each. \nChoose from the below crowd-pleasers: \nMAINS \nChicken schnitzel\nFish and chips\nSignature beef burger\nMargherita pizza\nCheeseburger supreme pizza\nDiavola pizza\nBangers and mash\nRustic caesar salad \nKIDS MEALS\nKids nuggets and chips\nKids fish and chips\nKids pizza \nBook your table today and enjoy a relaxed\, affordable family meal. \nBook Now\n\nT&Cs apply. Not available on public holidays.
URL:https://www.harriganscameronpark.com.au/event/60-family-deal/2026-04-24/
LOCATION:Harrigan’s Cameron Park\, 70 McKendry Drive\, Cameron Park\, NSW\, 2285\, Australia
CATEGORIES:Weekly Dining Specials,Weekly Events
ATTACH;FMTTYPE=image/jpeg:https://www.harriganscameronpark.com.au/wp-content/uploads/2026/04/HCP2026_046_family_meal_deal_website_800x600.jpg
END:VEVENT
BEGIN:VEVENT
DTSTART;TZID=Australia/Sydney:20260424T200000
DTEND;TZID=Australia/Sydney:20260425T013000
DTSTAMP:20260424T020357
CREATED:20250627T020910Z
LAST-MODIFIED:20260212T025734Z
UID:10010820-1777060800-1777080600@www.harriganscameronpark.com.au
SUMMARY:Sip & Spin
DESCRIPTION:Fridays just got a whole lot better! \nKickstart your weekend every Friday night at Harrigan’s! Sip on delicious cocktails and house spirit specials while listening to the live DJ spin hits to get you on the dancefloor. \n\n2 for $25 Cocktails\, 8pm-10pm\n$7 House Spirits\, 8pm-2am\nLive DJ\, 8:30pm-1:30am
URL:https://www.harriganscameronpark.com.au/event/sip-and-spin/2026-04-24/
CATEGORIES:Weekly Dining Specials,Weekly Events
ATTACH;FMTTYPE=image/jpeg:https://www.harriganscameronpark.com.au/wp-content/uploads/2026/01/hcp_2026_friday_sip_spin_web_800x600.jpg
END:VEVENT
BEGIN:VEVENT
DTSTART;TZID=Australia/Sydney:20260424T203000
DTEND;TZID=Australia/Sydney:20260424T233000
DTSTAMP:20260424T020357
CREATED:20260401T035807Z
LAST-MODIFIED:20260401T035807Z
UID:10016136-1777062600-1777073400@www.harriganscameronpark.com.au
SUMMARY:Sonic Sounds Duo
DESCRIPTION:Live music every weekend at Harrigan’s Cameron Park
URL:https://www.harriganscameronpark.com.au/event/sonic-sounds-duo/
CATEGORIES:Live Music
ATTACH;FMTTYPE=image/jpeg:https://www.harriganscameronpark.com.au/wp-content/uploads/2026/04/Sonic-Sounds-Duo-1.jpg
END:VEVENT
END:VCALENDAR