BEGIN:VCALENDAR
VERSION:2.0
PRODID:-//Harrigan&#039;s Cameron Park - ECPv6.15.20//NONSGML v1.0//EN
CALSCALE:GREGORIAN
METHOD:PUBLISH
X-ORIGINAL-URL:https://www.harriganscameronpark.com.au
X-WR-CALDESC:Events for Harrigan&#039;s Cameron Park
REFRESH-INTERVAL;VALUE=DURATION:PT1H
X-Robots-Tag:noindex
X-PUBLISHED-TTL:PT1H
BEGIN:VTIMEZONE
TZID:Australia/Sydney
BEGIN:STANDARD
TZOFFSETFROM:+1100
TZOFFSETTO:+1000
TZNAME:AEST
DTSTART:20250405T160000
END:STANDARD
BEGIN:DAYLIGHT
TZOFFSETFROM:+1000
TZOFFSETTO:+1100
TZNAME:AEDT
DTSTART:20251004T160000
END:DAYLIGHT
BEGIN:STANDARD
TZOFFSETFROM:+1100
TZOFFSETTO:+1000
TZNAME:AEST
DTSTART:20260404T160000
END:STANDARD
BEGIN:DAYLIGHT
TZOFFSETFROM:+1000
TZOFFSETTO:+1100
TZNAME:AEDT
DTSTART:20261003T160000
END:DAYLIGHT
BEGIN:STANDARD
TZOFFSETFROM:+1100
TZOFFSETTO:+1000
TZNAME:AEST
DTSTART:20270403T160000
END:STANDARD
BEGIN:DAYLIGHT
TZOFFSETFROM:+1000
TZOFFSETTO:+1100
TZNAME:AEDT
DTSTART:20271002T160000
END:DAYLIGHT
END:VTIMEZONE
BEGIN:VEVENT
DTSTART;TZID=Australia/Sydney:20260327T200000
DTEND;TZID=Australia/Sydney:20260328T013000
DTSTAMP:20260420T200805
CREATED:20250627T020910Z
LAST-MODIFIED:20260212T025734Z
UID:10010816-1774641600-1774661400@www.harriganscameronpark.com.au
SUMMARY:Sip & Spin
DESCRIPTION:Fridays just got a whole lot better! \nKickstart your weekend every Friday night at Harrigan’s! Sip on delicious cocktails and house spirit specials while listening to the live DJ spin hits to get you on the dancefloor. \n\n2 for $25 Cocktails\, 8pm-10pm\n$7 House Spirits\, 8pm-2am\nLive DJ\, 8:30pm-1:30am
URL:https://www.harriganscameronpark.com.au/event/sip-and-spin/2026-03-27/
CATEGORIES:Weekly Dining Specials,Weekly Events
ATTACH;FMTTYPE=image/jpeg:https://www.harriganscameronpark.com.au/wp-content/uploads/2026/01/hcp_2026_friday_sip_spin_web_800x600.jpg
END:VEVENT
BEGIN:VEVENT
DTSTART;TZID=Australia/Sydney:20260327T203000
DTEND;TZID=Australia/Sydney:20260328T013000
DTSTAMP:20260420T200805
CREATED:20260227T063014Z
LAST-MODIFIED:20260227T063014Z
UID:10014797-1774643400-1774661400@www.harriganscameronpark.com.au
SUMMARY:DJ BOSS
DESCRIPTION:Live music every weekend at Harrigan’s Cameron Park
URL:https://www.harriganscameronpark.com.au/event/dj-boss-5/
CATEGORIES:Live Music
ATTACH;FMTTYPE=image/jpeg:https://www.harriganscameronpark.com.au/wp-content/uploads/2025/10/DJ-Boss.jpeg
END:VEVENT
BEGIN:VEVENT
DTSTART;TZID=Australia/Sydney:20260328T133000
DTEND;TZID=Australia/Sydney:20260328T180000
DTSTAMP:20260420T200805
CREATED:20260318T013509Z
LAST-MODIFIED:20260318T014318Z
UID:10016113-1774704600-1774720800@www.harriganscameronpark.com.au
SUMMARY:Kokoda ANZAC Tour Fundraiser
DESCRIPTION:Kokoda ANZAC Tour Fundraiser with Kurt Gidley\nJoin former Knights captain Kurt Gidley for a big afternoon of footy\, fun and fundraising as we get behind local legends Jason and Craig Allen ahead of their incredible journey along the Kokoda Track. \nTaking on one of the world’s most challenging treks\, the Allen brothers are raising vital funds for the Mark Hughes Foundation who support life-changing brain cancer research and patient care. This is your chance to show your support while enjoying a great day out with the community. \nWhat’s on:\n\nMega raffles with great prizes up for grabs\nPass the ball competition\nCelebrity heads\nSilent auction\nWatch Knights v Bulldogs on the big screen from 3pm\nHalf-time game breakdown with Kurt Gidley\n\nAbout the cause\nIn April\, the Allen brothers will join a team of passionate trekkers and take on the Kokoda Track as part of their 2026 Kokoda ANZAC Trek. This powerful journey honours those who served while raising critical funds for brain cancer research. Every dollar raised goes toward the Mark Hughes Foundation’s mission to fund a brain cancer coordinator for paediatric patients. \nWhether you’re a footy fan\, a supporter of the Mark Hughes Foundation\, or simply keen to get behind a great local cause\, this is an afternoon not to miss. Bring your mates\, bring the family\, and be part of something meaningful. \nDonate directly\nCan’t make the event but want to donate? Visit the Allen brother’s GoFundraise page to find out more about the campaign and make a donation.
URL:https://www.harriganscameronpark.com.au/event/kokoda-anzac-tour-2026/
LOCATION:Harrigan’s Cameron Park\, 70 McKendry Drive\, Cameron Park\, NSW\, 2285\, Australia
CATEGORIES:Special Events
ATTACH;FMTTYPE=image/jpeg:https://www.harriganscameronpark.com.au/wp-content/uploads/2026/03/HCP2026_033_mark_hughes_foundation_website_800x600.jpg
END:VEVENT
BEGIN:VEVENT
DTSTART;TZID=Australia/Sydney:20260328T203000
DTEND;TZID=Australia/Sydney:20260328T233000
DTSTAMP:20260420T200805
CREATED:20260227T063109Z
LAST-MODIFIED:20260227T063109Z
UID:10014798-1774729800-1774740600@www.harriganscameronpark.com.au
SUMMARY:CC LEE & THE GROOVE
DESCRIPTION:Live music every weekend at Harrigan’s Cameron Park
URL:https://www.harriganscameronpark.com.au/event/cc-lee-the-groove-8/
CATEGORIES:Live Music
ATTACH;FMTTYPE=image/jpeg:https://www.harriganscameronpark.com.au/wp-content/uploads/2024/03/202404_cc-lee-the-groove_800x630px.jpg
END:VEVENT
END:VCALENDAR