BEGIN:VCALENDAR
VERSION:2.0
PRODID:-//Harrigan&#039;s Cameron Park - ECPv6.15.20//NONSGML v1.0//EN
CALSCALE:GREGORIAN
METHOD:PUBLISH
X-ORIGINAL-URL:https://www.harriganscameronpark.com.au
X-WR-CALDESC:Events for Harrigan&#039;s Cameron Park
REFRESH-INTERVAL;VALUE=DURATION:PT1H
X-Robots-Tag:noindex
X-PUBLISHED-TTL:PT1H
BEGIN:VTIMEZONE
TZID:Australia/Sydney
BEGIN:STANDARD
TZOFFSETFROM:+1100
TZOFFSETTO:+1000
TZNAME:AEST
DTSTART:20250405T160000
END:STANDARD
BEGIN:DAYLIGHT
TZOFFSETFROM:+1000
TZOFFSETTO:+1100
TZNAME:AEDT
DTSTART:20251004T160000
END:DAYLIGHT
BEGIN:STANDARD
TZOFFSETFROM:+1100
TZOFFSETTO:+1000
TZNAME:AEST
DTSTART:20260404T160000
END:STANDARD
BEGIN:DAYLIGHT
TZOFFSETFROM:+1000
TZOFFSETTO:+1100
TZNAME:AEDT
DTSTART:20261003T160000
END:DAYLIGHT
BEGIN:STANDARD
TZOFFSETFROM:+1100
TZOFFSETTO:+1000
TZNAME:AEST
DTSTART:20270403T160000
END:STANDARD
BEGIN:DAYLIGHT
TZOFFSETFROM:+1000
TZOFFSETTO:+1100
TZNAME:AEDT
DTSTART:20271002T160000
END:DAYLIGHT
END:VTIMEZONE
BEGIN:VEVENT
DTSTART;TZID=Australia/Sydney:20260314T113000
DTEND;TZID=Australia/Sydney:20260317T203000
DTSTAMP:20260420T201911
CREATED:20260303T060329Z
LAST-MODIFIED:20260304T013809Z
UID:10014800-1773487800-1773779400@www.harriganscameronpark.com.au
SUMMARY:St Patrick's Day 2026
DESCRIPTION:St Patrick’s Day 2026\nWe’re painting Cameron Park green with two massive days of St Patrick’s Day celebrations at Harrigan’s ☘️ \n Irish Specials Menu\nFrom Saturday 14 March to Tuesday 17 March we’ve got a delicious Irish specials menu available for both lunch and dinner services: \n\nPotato and leek soup with sourdough | $14\nReuben burger with fries | $27\nIrish bangers with braised cabbage\, Guinness gravy and onions | $32\nChoc mint cheesecake with ice cream | $16\n\nBig Weekend Party – Saturday 14 March \nElevate Irish Dancers | 2pm – 3pm\nHigh-energy traditional Irish dancing that will have the whole pub clapping along. \nHugh Gordon’s Irish Band | 3pm – 6pm\nLive Irish classics and crowd favourites to keep the celebrations rolling all afternoon. \nTre Soul | 8:30pm – LATE\nLocal favourites with dancefloor vibes taking you late the night. \nSt Patrick’s Day – Tuesday 17 March\nGuinness Giveaways\nWe’ll be raising a few pints and giving a few away on the day. \nGet Jiggy | 3pm – 6pm\nThe jiggy soundtrack to your St Paddy’s celebrations. \nDress loud\, dress Irish\, and dress green – we’ll handle the rest! \nBook Now
URL:https://www.harriganscameronpark.com.au/event/st-patricks-day-2026/
LOCATION:Harrigan’s Cameron Park\, 70 McKendry Drive\, Cameron Park\, NSW\, 2285\, Australia
CATEGORIES:Special Events
ATTACH;FMTTYPE=image/jpeg:https://www.harriganscameronpark.com.au/wp-content/uploads/2026/03/HCP2026_023_st_patricks_day_web_800x600.jpg
END:VEVENT
BEGIN:VEVENT
DTSTART;TZID=Australia/Sydney:20260317T113000
DTEND;TZID=Australia/Sydney:20260317T143000
DTSTAMP:20260420T201911
CREATED:20260128T084029Z
LAST-MODIFIED:20260420T023347Z
UID:10012200-1773747000-1773757800@www.harriganscameronpark.com.au
SUMMARY:Lunch Specials
DESCRIPTION:Check out our fantastic range\, including burgers\, salads\, steak\, and fish and chips!
URL:https://www.harriganscameronpark.com.au/event/lunch-specials/2026-03-17/
LOCATION:Harrigan’s Cameron Park\, 70 McKendry Drive\, Cameron Park\, NSW\, 2285\, Australia
CATEGORIES:Weekly Dining Specials
ATTACH;FMTTYPE=image/jpeg:https://www.harriganscameronpark.com.au/wp-content/uploads/2026/01/hcp_2026_weekdays_lunch_specials_web_800x600.jpg
END:VEVENT
BEGIN:VEVENT
DTSTART;TZID=Australia/Sydney:20260317T150000
DTEND;TZID=Australia/Sydney:20260317T170000
DTSTAMP:20260420T201911
CREATED:20260123T014703Z
LAST-MODIFIED:20260324T043005Z
UID:10014813-1773759600-1773766800@www.harriganscameronpark.com.au
SUMMARY:Happy Hour
DESCRIPTION:Enjoy Happy Hour every weekday from 3pm-5pm at Harrigan’s Cameron Park. \nSchooners from just $7!
URL:https://www.harriganscameronpark.com.au/event/happy-hour-5/2026-03-17/
LOCATION:Harrigan’s Cameron Park\, 70 McKendry Drive\, Cameron Park\, NSW\, 2285\, Australia
CATEGORIES:Weekly Dining Specials,Weekly Events
ATTACH;FMTTYPE=image/jpeg:https://www.harriganscameronpark.com.au/wp-content/uploads/2026/01/hcp_2026_weekday_happy_hour_web_800x600.jpg
END:VEVENT
BEGIN:VEVENT
DTSTART;TZID=Australia/Sydney:20260317T150000
DTEND;TZID=Australia/Sydney:20260317T180000
DTSTAMP:20260420T201911
CREATED:20260227T062749Z
LAST-MODIFIED:20260227T062749Z
UID:10014793-1773759600-1773770400@www.harriganscameronpark.com.au
SUMMARY:Get Jiggy
DESCRIPTION:Celebrate St Patrick’s Day at Harrigan’s with Get Jiggy
URL:https://www.harriganscameronpark.com.au/event/get-jiggy/
LOCATION:Harrigan’s Cameron Park\, 70 McKendry Drive\, Cameron Park\, NSW\, 2285\, Australia
CATEGORIES:Live Music
ATTACH;FMTTYPE=image/jpeg:https://www.harriganscameronpark.com.au/wp-content/uploads/2026/02/Get-Jiggy.jpg
END:VEVENT
BEGIN:VEVENT
DTSTART;TZID=Australia/Sydney:20260317T170000
DTEND;TZID=Australia/Sydney:20260317T203000
DTSTAMP:20260420T201911
CREATED:20250527T025530Z
LAST-MODIFIED:20260420T023205Z
UID:10007917-1773766800-1773779400@www.harriganscameronpark.com.au
SUMMARY:Burger Night
DESCRIPTION:Tuesday night is Burger night at Harrigan’s Cameron Park. \nJoin us from 5pm for $20 burgers. Includes any burger from the menu and specials.
URL:https://www.harriganscameronpark.com.au/event/burger-night/2026-03-17/
LOCATION:Harrigan’s Cameron Park\, 70 McKendry Drive\, Cameron Park\, NSW\, 2285\, Australia
CATEGORIES:Weekly Dining Specials
ATTACH;FMTTYPE=image/jpeg:https://www.harriganscameronpark.com.au/wp-content/uploads/2026/01/hcp_2026_tuesday_burger_night_web_800x600.jpg
END:VEVENT
BEGIN:VEVENT
DTSTART;TZID=Australia/Sydney:20260317T183000
DTEND;TZID=Australia/Sydney:20260317T203000
DTSTAMP:20260420T201911
CREATED:20250812T002839Z
LAST-MODIFIED:20260130T000002Z
UID:10013760-1773772200-1773779400@www.harriganscameronpark.com.au
SUMMARY:Pool Knockout Competition
DESCRIPTION:Think you have what it takes to win our pool competition? \nJoin us every Tuesday night from 6:30pm in the Sports Bar for knockout-style game\, with the winner taking home a $60 venue voucher and second place taking home a $40 venue voucher. \nThe competition will run on our house rules\, which will be on display each week. \nFREE TO ENTER
URL:https://www.harriganscameronpark.com.au/event/pool-comp/2026-03-17/
LOCATION:Harrigan’s Cameron Park\, 70 McKendry Drive\, Cameron Park\, NSW\, 2285\, Australia
CATEGORIES:Weekly Events
ATTACH;FMTTYPE=image/jpeg:https://www.harriganscameronpark.com.au/wp-content/uploads/2025/08/hcp_pool_comp_website_800x600.jpg
END:VEVENT
END:VCALENDAR