BEGIN:VCALENDAR
VERSION:2.0
PRODID:-//Harrigan&#039;s Cameron Park - ECPv6.15.20//NONSGML v1.0//EN
CALSCALE:GREGORIAN
METHOD:PUBLISH
X-ORIGINAL-URL:https://www.harriganscameronpark.com.au
X-WR-CALDESC:Events for Harrigan&#039;s Cameron Park
REFRESH-INTERVAL;VALUE=DURATION:PT1H
X-Robots-Tag:noindex
X-PUBLISHED-TTL:PT1H
BEGIN:VTIMEZONE
TZID:Australia/Sydney
BEGIN:STANDARD
TZOFFSETFROM:+1100
TZOFFSETTO:+1000
TZNAME:AEST
DTSTART:20250405T160000
END:STANDARD
BEGIN:DAYLIGHT
TZOFFSETFROM:+1000
TZOFFSETTO:+1100
TZNAME:AEDT
DTSTART:20251004T160000
END:DAYLIGHT
BEGIN:STANDARD
TZOFFSETFROM:+1100
TZOFFSETTO:+1000
TZNAME:AEST
DTSTART:20260404T160000
END:STANDARD
BEGIN:DAYLIGHT
TZOFFSETFROM:+1000
TZOFFSETTO:+1100
TZNAME:AEDT
DTSTART:20261003T160000
END:DAYLIGHT
BEGIN:STANDARD
TZOFFSETFROM:+1100
TZOFFSETTO:+1000
TZNAME:AEST
DTSTART:20270403T160000
END:STANDARD
BEGIN:DAYLIGHT
TZOFFSETFROM:+1000
TZOFFSETTO:+1100
TZNAME:AEDT
DTSTART:20271002T160000
END:DAYLIGHT
END:VTIMEZONE
BEGIN:VEVENT
DTSTART;TZID=Australia/Sydney:20260201T130000
DTEND;TZID=Australia/Sydney:20260201T190000
DTSTAMP:20260420T214147
CREATED:20260115T072457Z
LAST-MODIFIED:20260115T073302Z
UID:10011676-1769950800-1769972400@www.harriganscameronpark.com.au
SUMMARY:UFC325: Volkanovski vs Lopes 2
DESCRIPTION:UFC325: Volkanovski vs Lopes 2\nCome down to Harrigan’s Cameron Park and watch this UFC featherweight championship rematch between reigning two-time champion Alexander Volkanovski and former title challenger Diego Lopes. \nThe pair previously met at UFC 314 in April 2025\, where Volkanovski captured the vacant championship with a unanimous decision victory. \nVolkanovski will have to beat Diego Lopes again if he wants to move onto new business in his second UFC featherweight championship reign. \nWe’re showing every moment live and loud on the big screens! Round up your mates\, grab a feed\, and experience the action with the best atmosphere in Cameron Park. \n FREE entry\n Big screens\n Great food\n Cold drinks \nWe look forward to seeing you!
URL:https://www.harriganscameronpark.com.au/event/volkanovski-vs-lopes-2/
LOCATION:Harrigan’s Cameron Park\, 70 McKendry Drive\, Cameron Park\, NSW\, 2285\, Australia
CATEGORIES:Special Events,Sport Events
ATTACH;FMTTYPE=image/jpeg:https://www.harriganscameronpark.com.au/wp-content/uploads/2026/01/HCP2025_162_ufc_325_website_800x600.jpg
END:VEVENT
BEGIN:VEVENT
DTSTART;TZID=Australia/Sydney:20260201T140000
DTEND;TZID=Australia/Sydney:20260201T170000
DTSTAMP:20260420T214147
CREATED:20260201T223431Z
LAST-MODIFIED:20260201T223431Z
UID:10014710-1769954400-1769965200@www.harriganscameronpark.com.au
SUMMARY:Michael James
DESCRIPTION:Live music every weekend at Harrigan’s Cameron Park
URL:https://www.harriganscameronpark.com.au/event/michael-james-2/
CATEGORIES:Live Music
ATTACH;FMTTYPE=image/png:https://www.harriganscameronpark.com.au/wp-content/uploads/2025/10/Michael-James.png
END:VEVENT
BEGIN:VEVENT
DTSTART;TZID=Australia/Sydney:20260201T170000
DTEND;TZID=Australia/Sydney:20260201T203000
DTSTAMP:20260420T214147
CREATED:20250527T030044Z
LAST-MODIFIED:20260420T023232Z
UID:10008952-1769965200-1769977800@www.harriganscameronpark.com.au
SUMMARY:Curry Night
DESCRIPTION:Sunday night is Curry night at Harrigan’s Cameron Park. \nEnjoy a delicious curry with rice and naan for just $20!
URL:https://www.harriganscameronpark.com.au/event/curry-night/2026-02-01/
LOCATION:Harrigan’s Cameron Park\, 70 McKendry Drive\, Cameron Park\, NSW\, 2285\, Australia
CATEGORIES:Weekly Dining Specials
ATTACH;FMTTYPE=image/jpeg:https://www.harriganscameronpark.com.au/wp-content/uploads/2026/01/hcp_2026_sunday_curry_night_web_800x600.jpg
END:VEVENT
END:VCALENDAR