BEGIN:VCALENDAR
VERSION:2.0
PRODID:-//Harrigan&#039;s Cameron Park - ECPv6.15.20//NONSGML v1.0//EN
CALSCALE:GREGORIAN
METHOD:PUBLISH
X-ORIGINAL-URL:https://www.harriganscameronpark.com.au
X-WR-CALDESC:Events for Harrigan&#039;s Cameron Park
REFRESH-INTERVAL;VALUE=DURATION:PT1H
X-Robots-Tag:noindex
X-PUBLISHED-TTL:PT1H
BEGIN:VTIMEZONE
TZID:Australia/Sydney
BEGIN:STANDARD
TZOFFSETFROM:+1100
TZOFFSETTO:+1000
TZNAME:AEST
DTSTART:20250405T160000
END:STANDARD
BEGIN:DAYLIGHT
TZOFFSETFROM:+1000
TZOFFSETTO:+1100
TZNAME:AEDT
DTSTART:20251004T160000
END:DAYLIGHT
BEGIN:STANDARD
TZOFFSETFROM:+1100
TZOFFSETTO:+1000
TZNAME:AEST
DTSTART:20260404T160000
END:STANDARD
BEGIN:DAYLIGHT
TZOFFSETFROM:+1000
TZOFFSETTO:+1100
TZNAME:AEDT
DTSTART:20261003T160000
END:DAYLIGHT
BEGIN:STANDARD
TZOFFSETFROM:+1100
TZOFFSETTO:+1000
TZNAME:AEST
DTSTART:20270403T160000
END:STANDARD
BEGIN:DAYLIGHT
TZOFFSETFROM:+1000
TZOFFSETTO:+1100
TZNAME:AEDT
DTSTART:20271002T160000
END:DAYLIGHT
END:VTIMEZONE
BEGIN:VEVENT
DTSTART;TZID=Australia/Sydney:20260130T200000
DTEND;TZID=Australia/Sydney:20260131T013000
DTSTAMP:20260420T212822
CREATED:20250627T020910Z
LAST-MODIFIED:20260212T025734Z
UID:10010808-1769803200-1769823000@www.harriganscameronpark.com.au
SUMMARY:Sip & Spin
DESCRIPTION:Fridays just got a whole lot better! \nKickstart your weekend every Friday night at Harrigan’s! Sip on delicious cocktails and house spirit specials while listening to the live DJ spin hits to get you on the dancefloor. \n\n2 for $25 Cocktails\, 8pm-10pm\n$7 House Spirits\, 8pm-2am\nLive DJ\, 8:30pm-1:30am
URL:https://www.harriganscameronpark.com.au/event/sip-and-spin/2026-01-30/
CATEGORIES:Weekly Dining Specials,Weekly Events
ATTACH;FMTTYPE=image/jpeg:https://www.harriganscameronpark.com.au/wp-content/uploads/2026/01/hcp_2026_friday_sip_spin_web_800x600.jpg
END:VEVENT
BEGIN:VEVENT
DTSTART;TZID=Australia/Sydney:20260130T203000
DTEND;TZID=Australia/Sydney:20260131T013000
DTSTAMP:20260420T212822
CREATED:20251231T064850Z
LAST-MODIFIED:20251231T071404Z
UID:10011668-1769805000-1769823000@www.harriganscameronpark.com.au
SUMMARY:DJ SMASHUP
DESCRIPTION:Live music every weekend at Harrigan’s Cameron Park
URL:https://www.harriganscameronpark.com.au/event/dj-smashup-12/
CATEGORIES:Live Music
ATTACH;FMTTYPE=image/jpeg:https://www.harriganscameronpark.com.au/wp-content/uploads/2024/12/202501_dj-smashup_web-800x630px.jpg
END:VEVENT
BEGIN:VEVENT
DTSTART;TZID=Australia/Sydney:20260131T203000
DTEND;TZID=Australia/Sydney:20260131T233000
DTSTAMP:20260420T212822
CREATED:20251231T064850Z
LAST-MODIFIED:20260115T032456Z
UID:10011669-1769891400-1769902200@www.harriganscameronpark.com.au
SUMMARY:ARGUS
DESCRIPTION:ARGUS is a dynamic and highly versatile covers band based in Newcastle\, NSW. \nComprising of four talented musicians\, each band member possesses a deep-rooted love for music\, allowing them to infuse their own unique energy and style into every song they play. \nARGUS adapts effortlessly to various settings\, offering the perfect soundscape for any audience and vibe. Their extensive repertoire spans the decades and includes contemporary chart-toppers\, soulful ballads\, energetic rock anthems\, infectious pop tunes\, and much more. \nCome and check them out at Harrigan’s Hunter Valley!
URL:https://www.harriganscameronpark.com.au/event/argus-8/
CATEGORIES:Live Music
ATTACH;FMTTYPE=image/jpeg:https://www.harriganscameronpark.com.au/wp-content/uploads/2023/11/Argus-1.jpg
END:VEVENT
END:VCALENDAR